{"text_format":"1","workbook":"xlsx","n_sheets":11,"sheets":["ReadMe","Station Definition","FDC","FC LDC","EC LDC","Flow Data","Fecal Coliform","E. Coli","FC Reduction","EC Reduction","Water Quality Data"],"not_rendered":{"charts":6,"images":3,"macros":1,"external_links":0,"defined_names":76,"comments":0,"pivot_tables":0},"unopened":[{"sheet":"FDC","index":2,"reason":"not_a_worksheet"},{"sheet":"FC LDC","index":3,"reason":"not_a_worksheet"},{"sheet":"EC LDC","index":4,"reason":"not_a_worksheet"}],"bounds":{"document_bytes":16777216,"sheet_cells":100000,"rows_first":2000,"rows_last":500,"rows_between":2000,"halvings":0,"cell_chars":16384,"cell_head_chars":4096},"cells_cut":0,"cells_raw":0,"read":"whole","date_system":"1900"}

{"sheet":"ReadMe","index":0,"n_rows":16,"n_cols":1,"rows_kept":16,"cut":false,"hidden":false,"merged":[]}
["LDCurve - Load Duration Curve Creation Tool"]
[]
["Developed by:  "]
["Stephanie Johnson"]
["Ph.D. Candidate/Graduate Research Assistant"]
["Center for Research in Water Resources"]
["University of Texas at Austin"]
["sljohnson@mail.utexas.edu"]
[]
["Most Recent Updates: 10/16/2008"]
[]
[]
["Notes for use:"]
["The user must have the \"Analysis Toolpak\" activated in the Excel workbook."]
["The user must also have HydroObjects installed on their computer.  The most recent version of HydroObjects can be downloaded at:"]
["http://his.cuahsi.org/hydroobjects.html"]

{"sheet":"Station Definition","index":1,"n_rows":33,"n_cols":26,"rows_kept":33,"cut":false,"hidden":false,"merged":[[20,1,20,2]]}
[null,null,null,null,null,null,null,null,null,null,null,null,null,null,null,null,null,null,null,null,null,null,null,null,null,{"$f":"INT(CONVERT('Flow Data'!B2-'Water Quality Data'!#REF!,\"day\",\"yr\"))","v":{"$error":"#REF!"}}]
[]
[]
[]
[]
[]
[]
[]
[]
[]
[]
[]
[]
[]
[]
[]
[]
[]
["Information to be entered by the user is indicated in orange.  All other cells are reserved for calculations and should be left unaltered."]
[]
[null,"Define Curves"]
[]
[null,"TCEQ water quality segment:",1014]
[]
[null,"Correlated USGS gauge station:","08073500"]
[]
[null,"Dates of Analysis (must be after 1/1/1900): "]
[null,"Start Date:","2000-01-01"]
[null,"End Date:","2008-01-01"]
[]
[null,"LDC Margin of Safety (% Reduction):",0.05]
[]
[null,"Data Retrieved:","2010-09-27T12:27:56"]

{"sheet":"Flow Data","index":5,"n_rows":2928,"n_cols":12,"rows_kept":2928,"cut":false,"hidden":false,"merged":[[3,0,3,1],[3,4,3,11]]}
[]
[]
[]
["USGS Raw Data",null,null,null,"COMPUTED"]
["Date","Flow (cfs)",null,"USGS Flow (cfs)","Frequency of Flow","Probability of Flow","Cum. Distribution of Flow","Flow Exceedance Percentile","Target Single Sample Fecal Coliform Load (CFU/Day)","Target Single Sample Fecal Coliform Load w/ MOS (CFU/Day)","Target Single Sample E. Coli Load (CFU/Day)","Target Single Sample E. Coli Load w/ MOS (CFU/Day)"]
["2000-01-01",31,null,13,3,{"$f":"E6/2923","v":1.0263427984946972E-3},{"$f":"F6","v":1.0263427984946972E-3},{"$f":"1-G6","v":0.99897365720150533},{"$f":"((400/100)*1000*D6)*28.3168*60*60*24","v":127221719040},{"$f":"(1-0.05)*I6","v":120860633088},{"$f":"((394/100)*1000*D6)*28.3168*60*60*24","v":125313393254.40001},{"$f":"(1-0.05)*K6","v":119047723591.68001}]
["2000-01-02",31,null,14,4,1.3684570646595963E-3,{"$f":"G6 + F7","v":2.3947998631542932E-3},0.99760520013684573,137008005120,130157604864,134952885043.20001,128205240791.04001]
["2000-01-03",32,null,16,9,3.0790283954840918E-3,5.473828258638385E-3,0.9945261717413616,156580577280,148751548416,154231868620.79999,146520275189.75998]
["2000-01-04",32,null,17,9,3.0790283954840918E-3,8.552856654122476E-3,0.99144714334587758,166366863360.00003,158048520192.00003,163871360409.60001,155677792389.12]
["2000-01-05",29,null,18,3,1.0263427984946972E-3,9.579199452617173E-3,0.9904208005473828,176153149440,167345491968,173510852198.40002,164835309588.48001]
["2000-01-06",30,null,19,3,1.0263427984946972E-3,1.060554225111187E-2,0.98939445774888812,185939435520.00003,176642463744.00003,183150343987.19998,173992826787.83997]
["2000-01-07",32,null,20,1,3.4211426616489907E-4,1.0947656517276768E-2,0.9890523434827232,195725721600,185939435520,192789835775.99997,183150343987.19995]
["2000-01-08",226,null,21,6,2.0526855969893944E-3,1.3000342114266162E-2,0.98699965788573385,205512007680,195236407296,202429327564.80002,192307861186.56]
["2000-01-09",264,null,22,5,1.7105713308244953E-3,1.4710913445090658E-2,0.98528908655490932,215298293760,204533379072,212068819353.59998,201465378385.91995]
["2000-01-10",110,null,23,3,1.0263427984946972E-3,1.5737256243585355E-2,0.98426274375641465,225084579840,213830350848,221708311142.40002,210622895585.28]
["2000-01-11",63,null,24,2,6.8422853232979813E-4,1.6421484775915152E-2,0.98357851522408479,234870865920.00006,223127322624.00006,231347802931.19998,219780412784.63998]
["2000-01-12",45,null,25,2,6.8422853232979813E-4,1.7105713308244948E-2,0.98289428669175505,244657152000,232424294400,240987294720.00006,228937929984.00006]
["2000-01-13",37,null,26,1,3.4211426616489907E-4,1.7447827574409849E-2,0.98255217242559012,254443438080,241721266176,250626786508.80002,238095447183.36002]
["2000-01-14",35,null,27,1,3.4211426616489907E-4,1.7789941840574749E-2,0.9822100581594253,264229724160,251018237952,260266278297.59998,247252964382.71997]
["2000-01-15",33,null,28,2,6.8422853232979813E-4,1.8474170372904546E-2,0.98152582962709545,274016010240,260315209728,269905770086.40002,256410481582.08002]
["2000-01-16",32,null,29,2,6.8422853232979813E-4,1.9158398905234342E-2,0.9808416010947657,283802296320.00006,269612181504.00003,279545261875.19995,265567998781.43994]
["2000-01-17",38,null,30,4,1.3684570646595963E-3,2.052685596989394E-2,0.9794731440301061,293588582400,278909153280,289184753664.00006,274725515980.80005]
["2000-01-18",35,null,31,5,1.7105713308244953E-3,2.2237427300718433E-2,0.97776257269928157,303374868480,288206125056,298824245452.80005,283883033180.16003]
["2000-01-19",33,null,32,9,3.0790283954840918E-3,2.5316455696202524E-2,0.97468354430379744,313161154560,297503096832,308463737241.59998,293040550379.51996]
["2000-01-20",32,null,33,3,1.0263427984946972E-3,2.6342798494697221E-2,0.97365720150530277,322947440640,306800068608,318103229030.40002,302198067578.88]
["2000-01-21",32,null,34,2,6.8422853232979813E-4,2.7027027027027018E-2,0.97297297297297303,332733726720.00006,316097040384.00006,327742720819.20001,311355584778.23999]
["2000-01-22",32,null,35,8,2.7369141293191925E-3,2.9763941156346209E-2,0.97023605884365383,342520012800,325394012160,337382212608.00006,320513101977.60004]
["2000-01-23",31,null,36,7,2.3947998631542937E-3,3.2158741019500503E-2,0.96784125898049944,352306298880,334690983936,347021704396.80005,329670619176.96002]
["2000-01-24",32,null,37,7,2.3947998631542937E-3,3.4553540882654797E-2,0.96544645911734517,362092584960,343987955712,356661196185.60004,338828136376.32001]
["2000-01-25",31,null,38,11,3.7632569278138899E-3,3.8316797810468685E-2,0.96168320218953129,371878871040.00006,353284927488.00006,366300687974.39996,347985653575.67993]
["2000-01-26",30,null,39,10,3.4211426616489907E-3,4.1737940472117672E-2,0.95826205952788235,381665157120,362581899264,375940179763.19995,357143170775.03992]
["2000-01-27",149,null,40,11,3.7632569278138899E-3,4.550119739993156E-2,0.95449880260006847,391451443200,371878871040,385579671551.99994,366300687974.3999]
["2000-01-28",418,null,41,10,3.4211426616489907E-3,4.8922340061580548E-2,0.95107765993841942,401237729280,381175842816,395219163340.80005,375458205173.76001]
["2000-01-29",275,null,42,16,5.473828258638385E-3,5.4396168320218929E-2,0.94560383167978102,411024015360,390472814592,404858655129.60004,384615722373.12]
["2000-01-30",104,null,43,10,3.4211426616489907E-3,5.7817310981867917E-2,0.94218268901813207,420810301440.00012,399769786368.00012,414498146918.40002,393773239572.47998]
["2000-01-31",75,null,44,18,6.1580567909681836E-3,6.3975367772836106E-2,0.93602463222716392,430596587520,409066758144,424137638707.19995,402930756771.8399]
["2000-02-01",75,null,45,22,7.5265138556277799E-3,7.1501881628463881E-2,0.92849811837153617,440382873600,418363729920,433777130496,412088273971.19995]
["2000-02-02",95,null,46,32,1.094765651727677E-2,8.2449538145740658E-2,0.91755046185425937,450169159680,427660701696,443416622284.80005,421245791170.56]
["2000-02-03",79,null,47,27,9.2370851864522745E-3,9.1686623332192935E-2,0.90831337666780709,459955445760,436957673472,453056114073.60004,430403308369.92004]
["2000-02-04",60,null,48,29,9.9213137187820731E-3,0.10160793705097501,0.89839206294902496,469741731840.00012,446254645248.00012,462695605862.39996,439560825569.27997]
["2000-02-05",49,null,49,24,8.2107423879575776E-3,0.10981867943893259,0.89018132056106736,479528017920,455551617024,472335097651.20007,448718342768.64008]
["2000-02-06",44,null,50,28,9.5791994526171747E-3,0.11939787889154976,0.88060212110845026,489314304000,464848588800,481974589440.00012,457875859968.00012]
["2000-02-07",162,null,51,31,1.0605542251111872E-2,0.13000342114266164,0.86999657885733839,499100590080,474145560576,491614081228.80005,467033377167.36005]
["2000-02-08",339,null,52,35,1.1973999315771467E-2,0.14197742045843312,0.85802257954156691,508886876160,483442532352,501253573017.60004,476190894366.72003]
["2000-02-09",199,null,53,36,1.2316113581936367E-2,0.1542935340403695,0.8457064659596305,518673162240.00012,492739504128.00012,510893064806.39996,485348411566.07996]
["2000-02-10",102,null,54,25,8.5528566541224777E-3,0.16284639069449197,0.83715360930550808,528459448320,502036475904,520532556595.19995,494505928765.43994]
["2000-02-11",70,null,55,36,1.2316113581936367E-2,0.17516250427642835,0.82483749572357168,538245734400,511333447680,530172048384,503663445964.79999]
["2000-02-12",54,null,56,35,1.1973999315771467E-2,0.18713650359219983,0.8128634964078002,548032020480,520630419456,539811540172.80005,512820963164.16003]
["2000-02-13",48,null,57,20,6.8422853232979813E-3,0.1939787889154978,0.8060212110845022,557818306560,529927391232,549451031961.59998,521978480363.51996]
["2000-02-14",45,null,58,24,8.2107423879575776E-3,0.20218953130345538,0.79781046869654459,567604592640.00012,539224363008.00006,559090523750.3999,531135997562.87988]
["2000-02-15",39,null,59,22,7.5265138556277799E-3,0.20971604515908315,0.79028395484091685,577390878720,548521334784,568730015539.19995,540293514762.23993]
["2000-02-16",40,null,60,23,7.8686281217926791E-3,0.21758467328087583,0.78241532671912417,587177164800,557818306560,578369507328.00012,549451031961.6001]
["2000-02-17",41,null,61,26,8.8949709202873761E-3,0.2264796442011632,0.77352035579883682,596963450880,567115278336,588008999116.80005,558608549160.95996]
["2000-02-18",39,null,62,23,7.8686281217926791E-3,0.23434827232295588,0.76565172767704415,606749736960,576412250112,597648490905.6001,567766066360.32007]
["2000-02-19",38,null,63,19,6.500171057133082E-3,0.24084844338008896,0.75915155661991107,616536023040.00012,585709221888.00012,607287982694.3999,576923583559.67993]
["2000-02-20",38,null,64,26,8.8949709202873761E-3,0.24974341430037633,0.75025658569962372,626322309120,595006193664,616927474483.19995,586081100759.03992]
["2000-02-21",38,null,65,24,8.2107423879575776E-3,0.25795415668833394,0.74204584331166612,636108595200,604303165440,626566966272,595238617958.40002]
["2000-02-22",40,null,66,23,7.8686281217926791E-3,0.26582278481012661,0.73417721518987333,645894881280,613600137216,636206458060.80005,604396135157.76001]
["2000-02-23",258,null,67,19,6.500171057133082E-3,0.27232295586725969,0.72767704413274026,655681167360,622897108992,645845949849.6001,613553652357.12012]
["2000-02-24",383,null,68,24,8.2107423879575776E-3,0.28053369825521729,0.71946630174478265,665467453440.00012,632194080768.00012,655485441638.40002,622711169556.47998]
["2000-02-25",166,null,69,22,7.5265138556277799E-3,0.28806021211084509,0.71193978788915491,675253739520,641491052544,665124933427.20007,631868686755.84009]
["2000-02-26",102,null,70,17,5.8159425248032843E-3,0.29387615463564837,0.70612384536435169,685040025600,650788024320,674764425216.00012,641026203955.20007]
["2000-02-27",72,null,71,23,7.8686281217926791E-3,0.30174478275744104,0.6982552172425589,694826311680,660084996096,684403917004.80005,650183721154.56006]
["2000-02-28",52,null,72,24,8.2107423879575776E-3,0.30995552514539865,0.6900444748546013,704612597760,669381967872,694043408793.6001,659341238353.92004]
["2000-02-29",43,null,73,18,6.1580567909681836E-3,0.31611358193636685,0.68388641806363315,714398883840.00012,678678939648.00012,703682900582.3999,668498755553.27991]
["2000-03-01",41,null,74,21,7.1843995894628806E-3,0.32329798152582973,0.67670201847417033,724185169920,687975911424,713322392371.20007,677656272752.64001]
["2000-03-02",38,null,75,28,9.5791994526171747E-3,0.33287718097844687,0.66712281902155313,733971456000,697272883200,722961884160,686813789952]
["2000-03-03",38,null,76,11,3.7632569278138899E-3,0.33664043790626075,0.66335956209373925,743757742080.00012,706569854976.00012,732601375948.79993,695971307151.35986]
["2000-03-04",36,null,77,18,6.1580567909681836E-3,0.34279849469722895,0.65720150530277111,753544028160,715866826752,742240867737.6001,705128824350.72009]
["2000-03-05",36,null,78,20,{"$f":"E70/2923","v":6.8422853232979813E-3},0.34964078002052695,{"$f":"1-G70","v":0.65035921997947299},{"$f":"((400/100)*1000*D70)*28.3168*60*60*24","v":763330314240},{"$f":"(1-0.05)*I70","v":725163798528},{"$f":"((394/100)*1000*D70)*28.3168*60*60*24","v":751880359526.3999},{"$f":"(1-0.05)*K70","v":714286341550.07983}]
["2000-03-06",37,null,79,18,6.1580567909681836E-3,{"$f":"G70 + F71","v":0.35579883681149516},0.64420116318850484,773116600320,734460770304,761519851315.19995,723443858749.43994]
["2000-03-07",39,null,80,19,6.500171057133082E-3,0.36229900786862823,0.63770099213137177,782902886400,743757742080,771159343103.99988,732601375948.7998]
["2000-03-08",36,null,81,15,5.1317139924734858E-3,0.36743072186110171,0.63256927813889829,792689172480.00024,753054713856.00024,780798834892.80017,741758893148.16016]
["2000-03-09",37,null,82,16,5.473828258638385E-3,0.37290455011974011,0.62709544988025989,802475458560,762351685632,790438326681.6001,750916410347.52002]
["2000-03-10",37,null,83,14,4.7895997263085873E-3,0.37769414984604871,0.62230585015395135,812261744640,771648657408,800077818470.40015,760073927546.88013]
["2000-03-11",118,null,84,16,5.473828258638385E-3,0.38316797810468711,0.61683202189531294,822048030720,780945629184,809717310259.20007,769231444746.23999]
["2000-03-12",84,null,85,12,4.1053711939787888E-3,0.38727334929866591,0.61272665070133403,831834316800,790242600960,819356802048.00012,778388961945.6001]
["2000-03-13",50,null,86,21,7.1843995894628806E-3,0.39445774888812879,0.60554225111187121,841620602880.00024,799539572736.00024,828996293836.80005,787546479144.95996]
["2000-03-14",81,null,87,14,4.7895997263085873E-3,0.39924734861443739,0.60075265138556255,851406888960,808836544512,838635785625.6001,796703996344.32007]
["2000-03-15",68,null,88,16,5.473828258638385E-3,0.40472117687307579,0.59527882312692415,861193175040,818133516288,848275277414.3999,805861513543.67981]
["2000-03-16",264,null,89,10,3.4211426616489907E-3,0.4081423195347248,0.5918576804652752,870979461120,827430488064,857914769203.19995,815019030743.03992]
["2000-03-17",115,null,90,12,4.1053711939787888E-3,0.4122476907287036,0.5877523092712964,880765747200,836727459840,867554260992,824176547942.3999]
["2000-03-18",57,null,91,14,4.7895997263085873E-3,0.4170372904550122,0.58296270954498786,890552033280.00024,846024431616.00024,877193752780.80005,833334065141.76001]
["2000-03-19",51,null,92,10,3.4211426616489907E-3,0.4204584331166612,0.5795415668833388,900338319360,855321403392,886833244569.6001,842491582341.12]
["2000-03-20",52,null,93,19,6.500171057133082E-3,0.42695860417379428,0.57304139582620572,910124605440,864618375168,896472736358.3999,851649099540.47986]
["2000-03-21",44,null,94,17,5.8159425248032843E-3,0.43277454669859755,0.5672254533014025,919910891520,873915346944,906112228147.20007,860806616739.84009]
["2000-03-22",65,null,95,13,4.4474854601436881E-3,0.43722203215874123,0.56277796784125877,929697177600,883212318720,915751719936,869964133939.19995]
["2000-03-23",56,null,96,14,4.7895997263085873E-3,0.44201163188504983,0.55798836811495023,939483463680.00024,892509290496.00024,925391211724.79993,879121651138.55994]
["2000-03-24",47,null,97,11,3.7632569278138899E-3,0.4457748888128637,0.55422511118713635,949269749760,901806262272,935030703513.59985,888279168337.9198]
["2000-03-25",45,null,98,14,4.7895997263085873E-3,0.4505644885391723,0.5494355114608277,959056035840,911103234048,944670195302.40015,897436685537.28015]
["2000-03-26",42,null,99,12,4.1053711939787888E-3,0.4546698597331511,0.5453301402668489,968842321920,920400205824,954309687091.20007,906594202736.64001]
["2000-03-27",40,null,100,14,4.7895997263085873E-3,0.45945945945945971,0.54054054054054035,978628608000,929697177600,963949178880.00024,915751719936.00024]
["2000-03-28",39,null,101,6,2.0526855969893944E-3,0.46151214505644911,0.53848785494355089,988414894080.00024,938994149376.00024,973588670668.80005,924909237135.35999]
["2000-03-29",40,null,102,18,6.1580567909681836E-3,0.46767020184741731,0.53232979815258274,998201180160,948291121152,983228162457.6001,934066754334.72009]
["2000-03-30",38,null,103,7,2.3947998631542937E-3,0.47006500171057158,0.52993499828942836,1007987466240,957588092928,992867654246.40015,943224271534.08008]
["2000-03-31",35,null,104,8,2.7369141293191925E-3,0.47280191583989079,0.52719808416010916,1017773752320,966885064704,1002507146035.2001,952381788733.44006]
["2000-04-01",42,null,105,7,2.3947998631542937E-3,0.47519671570304506,0.524803284296955,1027560038400,976182036480,1012146637824,961539305932.79993]
["2000-04-02",413,null,106,15,5.1317139924734858E-3,0.48032842969551853,0.51967157030448141,1037346324480.0002,985479008256.00024,1021786129612.7999,970696823132.15991]
["2000-04-03",222,null,107,11,3.7632569278138899E-3,0.48409168662333241,0.51590831337666754,1047132610560,994775980032,1031425621401.6001,979854340331.52002]
["2000-04-04",849,null,108,15,5.1317139924734858E-3,0.48922340061580588,0.51077659938419417,1056918896640,1004072951808,1041065113190.3999,989011857530.87988]
["2000-04-05",1670,null,109,9,3.0790283954840918E-3,0.49230242901128995,0.50769757098871005,1066705182720,1013369923584,1050704604979.2,998169374730.23987]
["2000-04-06",1200,null,110,14,4.7895997263085873E-3,0.49709202873759856,0.50290797126240139,1076491468800,1022666895360,1060344096768,1007326891929.6]
["2000-04-07",395,null,111,5,1.7105713308244953E-3,0.49880260006842303,0.50119739993157697,1086277754880.0002,1031963867136.0002,1069983588556.8,1016484409128.96]
["2000-04-08",29,null,112,13,4.4474854601436881E-3,0.50325008552856676,0.49674991447143324,1096064040960,1041260838912,1079623080345.6001,1025641926328.3201]
["2000-04-09",21,null,113,8,2.7369141293191925E-3,0.50598699965788596,0.49401300034211404,1105850327040,1050557810688,1089262572134.3999,1034799443527.6798]
["2000-04-10",19,null,114,3,1.0263427984946972E-3,0.50701334245638063,0.49298665754361937,1115636613120,1059854782464,1098902063923.2,1043956960727.0399]
["2000-04-11",22,null,115,7,2.3947998631542937E-3,0.50940814231953491,0.49059185768046509,1125422899200,1069151754240,1108541555712,1053114477926.3999]
["2000-04-12",475,null,116,6,2.0526855969893944E-3,0.51146082791652425,0.48853917208347575,1135209185280.0002,1078448726016.0001,1118181047500.7998,1062271995125.7598]
["2000-04-13",663,null,117,4,1.3684570646595963E-3,0.51282928498118385,0.48717071501881615,1144995471360,1087745697792,1127820539289.6001,1071429512325.12]
["2000-04-14",1350,null,118,5,1.7105713308244953E-3,0.51453985631200838,0.48546014368799162,1154781757440,1097042669568,1137460031078.3999,1080587029524.4799]
["2000-04-15",846,null,119,7,2.3947998631542937E-3,0.51693465617516265,0.48306534382483735,1164568043520,1106339641344,1147099522867.2002,1089744546723.8401]
["2000-04-16",28,null,120,7,2.3947998631542937E-3,0.51932945603831693,0.48067054396168307,1174354329600,1115636613120,1156739014656.0002,1098902063923.2002]
["2000-04-17",24,null,121,9,3.0790283954840918E-3,0.52240848443380106,0.47759151556619894,1184140615680.0002,1124933584896.0002,1166378506444.8,1108059581122.5601]
["2000-04-18",23,null,122,7,2.3947998631542937E-3,0.52480328429695533,0.47519671570304467,1193926901760,1134230556672,1176017998233.6001,1117217098321.9199]
["2000-04-19",20,null,123,13,4.4474854601436881E-3,0.52925076975709906,0.47074923024290094,1203713187840,1143527528448,1185657490022.4001,1126374615521.28]
["2000-04-20",19,null,124,1,3.4211426616489907E-4,0.52959288402326399,0.47040711597673601,1213499473920,1152824500224,1195296981811.2002,1135532132720.6401]
["2000-04-21",18,null,125,7,2.3947998631542937E-3,0.53198768388641826,0.46801231611358174,1223285760000,1162121472000,1204936473600,1144689649920]
["2000-04-22",17,null,126,4,1.3684570646595963E-3,0.53335614095107786,0.46664385904892214,1233072046080.0002,1171418443776.0002,1214575965388.7998,1153847167119.3599]
["2000-04-23",16,null,127,7,2.3947998631542937E-3,0.53575094081423213,0.46424905918576787,1242858332160,1180715415552,1224215457177.5999,1163004684318.7197]
["2000-04-24",17,null,128,8,2.7369141293191925E-3,0.53848785494355134,0.46151214505644866,1252644618240,1190012387328,1233854948966.3999,1172162201518.0798]
["2000-04-25",17,null,129,5,1.7105713308244953E-3,0.54019842627437586,0.45980157372562414,1262430904320,1199309359104,1243494440755.2002,1181319718717.4402]
["2000-04-26",17,null,130,6,2.0526855969893944E-3,0.54225111187136521,0.45774888812863479,1272217190400,1208606330880,1253133932544,1190477235916.8]
["2000-04-27",17,null,131,3,1.0263427984946972E-3,0.54327745466985988,0.45672254533014012,1282003476480.0002,1217903302656.0002,1262773424332.7998,1199634753116.1597]
["2000-04-28",16,null,132,6,2.0526855969893944E-3,0.54533014026684923,0.45466985973315077,1291789762560,1227200274432,1272412916121.6001,1208792270315.52]
["2000-04-29",21,null,133,5,1.7105713308244953E-3,0.54704071159767376,0.45295928840232624,1301576048640,1236497246208,1282052407910.3999,1217949787514.8799]
["2000-04-30",17,null,134,8,2.7369141293191925E-3,0.54977762572699296,0.45022237427300704,1311362334720,1245794217984,1291691899699.2002,1227107304714.2402]
["2000-05-01",23,null,135,6,2.0526855969893944E-3,0.5518303113239823,0.4481696886760177,1321148620800,1255091189760,1301331391488,1236264821913.5999]
["2000-05-02",330,null,136,1,3.4211426616489907E-4,0.55217242559014723,0.44782757440985277,1330934906880.0002,1264388161536.0002,1310970883276.8,1245422339112.96]
["2000-05-03",109,null,137,4,1.3684570646595963E-3,0.55354088265480683,0.44645911734519317,1340721192960,1273685133312,1320610375065.6001,1254579856312.3201]
["2000-05-04",77,null,138,5,1.7105713308244953E-3,0.55525145398563136,0.44474854601436864,1350507479040,1282982105088,1330249866854.4001,1263737373511.6802]
["2000-05-05",244,null,139,3,1.0263427984946972E-3,0.55627779678412603,0.44372220321587397,1360293765120,1292279076864,1339889358643.2002,1272894890711.04]
["2000-05-06",473,null,140,6,2.0526855969893944E-3,0.55833048238111538,0.44166951761888462,1370080051200,1301576048640,1349528850432.0002,1282052407910.4001]
["2000-05-07",1450,null,141,4,1.3684570646595963E-3,0.55969893944577498,0.44030106055422502,1379866337280.0002,1310873020416.0002,1359168342220.8,1291209925109.76]
["2000-05-08",1490,null,142,2,{"$f":"E134/2923","v":6.8422853232979813E-4},0.56038316797810472,{"$f":"1-G134","v":0.43961683202189528},{"$f":"((400/100)*1000*D134)*28.3168*60*60*24","v":1389652623360},{"$f":"(1-0.05)*I134","v":1320169992192},{"$f":"((394/100)*1000*D134)*28.3168*60*60*24","v":1368807834009.6001},{"$f":"(1-0.05)*K134","v":1300367442309.1201}]
["2000-05-09",1250,null,143,2,6.8422853232979813E-4,{"$f":"G134 + F135","v":0.56106739651043447},0.43893260348956553,1399438909440,1329466963968,1378447325798.3999,1309524959508.4797]
["2000-05-10",350,null,144,4,1.3684570646595963E-3,0.56243585357509407,0.43756414642490593,1409225195520,1338763935744,1388086817587.2002,1318682476707.8401]
["2000-05-11",83,null,145,5,1.7105713308244953E-3,0.5641464249059186,0.4358535750940814,1419011481600,1348060907520,1397726309376,1327839993907.2]
["2000-05-12",62,null,146,2,6.8422853232979813E-4,0.56483065343824834,0.43516934656175166,1428797767680.0002,1357357879296.0002,1407365801164.7998,1336997511106.5598]
["2000-05-13",74,null,147,4,1.3684570646595963E-3,0.56619911050290794,0.43380088949709206,1438584053760,1366654851072,1417005292953.5999,1346155028305.9197]
["2000-05-14",61,null,148,2,6.8422853232979813E-4,0.56688333903523769,0.43311666096476231,1448370339840,1375951822848,1426644784742.4001,1355312545505.28]
["2000-05-15",50,null,149,8,2.7369141293191925E-3,0.56962025316455689,0.43037974683544311,1458156625920,1385248794624,1436284276531.2002,1364470062704.6401]
["2000-05-16",51,null,150,4,1.3684570646595963E-3,0.57098871022921649,0.42901128977078351,1467942912000,1394545766400,1445923768320,1373627579904]
["2000-05-17",48,null,151,3,1.0263427984946972E-3,0.57201505302771116,0.42798494697228884,1477729198080,1403842738176,1455563260108.7998,1382785097103.3599]
["2000-05-18",50,null,153,6,2.0526855969893944E-3,0.57406773862470051,0.42593226137529949,1497301770240.0002,1422436681728.0002,1474842243686.4004,1401100131502.0803]
["2000-05-19",51,null,154,4,1.3684570646595963E-3,0.57543619568936011,0.42456380431063989,1507088056320,1431733653504,1484481735475.2002,1410257648701.4402]
["2000-05-20",448,null,155,3,1.0263427984946972E-3,0.57646253848785478,0.42353746151214522,1516874342400,1441030625280,1494121227264.0002,1419415165900.8]
["2000-05-21",69,null,156,4,1.3684570646595963E-3,0.57783099555251438,0.42216900444748562,1526660628480,1450327597056,1503760719052.7998,1428572683100.1597]
["2000-05-22",641,null,157,2,6.8422853232979813E-4,0.57851522408484413,0.42148477591515587,1536446914560.0002,1459624568832.0002,1513400210841.6001,1437730200299.52]
["2000-05-23",1570,null,158,3,1.0263427984946972E-3,0.5795415668833388,0.4204584331166612,1546233200640,1468921540608,1523039702630.3999,1446887717498.8799]
["2000-05-24",889,null,159,4,1.3684570646595963E-3,0.5809100239479984,0.4190899760520016,1556019486720,1478218512384,1532679194419.2002,1456045234698.2402]
["2000-05-25",139,null,160,3,1.0263427984946972E-3,0.58193636674649307,0.41806363325350693,1565805772800,1487515484160,1542318686207.9998,1465202751897.5996]
["2000-05-26",89,null,161,2,6.8422853232979813E-4,0.58262059527882282,0.41737940472117718,1575592058880,1496812455936,1551958177996.8,1474360269096.96]
["2000-05-27",76,null,162,3,1.0263427984946972E-3,0.58364693807731749,0.41635306192268251,1585378344960.0005,1506109427712.0005,1561597669785.6003,1483517786296.3203]
["2000-05-28",110,null,163,4,1.3684570646595963E-3,0.58501539514197709,0.41498460485802291,1595164631040,1515406399488,1571237161574.3999,1492675303495.6799]
["2000-05-29",109,null,164,3,1.0263427984946972E-3,0.58604173794047176,0.41395826205952824,1604950917120,1524703371264,1580876653363.2002,1501832820695.04]
["2000-05-30",80,null,165,3,1.0263427984946972E-3,0.58706808073896644,0.41293191926103356,1614737203200,1534000343040,1590516145152,1510990337894.3999]
["2000-05-31",68,null,166,5,1.7105713308244953E-3,0.58877865206979096,0.41122134793020904,1624523489280,1543297314816,1600155636940.8003,1520147855093.7603]
["2000-06-01",56,null,167,6,2.0526855969893944E-3,0.59083133766678031,0.40916866233321969,1634309775360.0005,1552594286592.0005,1609795128729.5999,1529305372293.1199]
["2000-06-02",59,null,168,4,1.3684570646595963E-3,0.59219979473143991,0.40780020526856009,1644096061440,1561891258368,1619434620518.4001,1538462889492.48]
["2000-06-03",306,null,169,4,1.3684570646595963E-3,0.59356825179609951,0.40643174820390049,1653882347520,1571188230144,1629074112307.2,1547620406691.8398]
["2000-06-04",204,null,170,2,6.8422853232979813E-4,0.59425248032842926,0.40574751967157074,1663668633600,1580485201920,1638713604096.0002,1556777923891.2002]
["2000-06-05",97,null,172,1,3.4211426616489907E-4,0.59459459459459418,0.40540540540540582,1683241205760.0005,1599079145472.0005,1657992587673.6001,1575092958289.9199]
["2000-06-06",487,null,173,1,3.4211426616489907E-4,0.59493670886075911,0.40506329113924089,1693027491840,1608376117248,1667632079462.4001,1584250475489.28]
["2000-06-07",502,null,174,2,6.8422853232979813E-4,0.59562093739308886,0.40437906260691114,1702813777920,1617673089024,1677271571251.2002,1593407992688.6401]
["2000-06-08",89,null,176,1,3.4211426616489907E-4,0.59596305165925378,0.40403694834074622,1722386350080,1636267032576,1696550554828.7998,1611723027087.3596]
["2000-06-09",125,null,177,5,1.7105713308244953E-3,0.59767362299007831,0.40232637700992169,1732172636160.0005,1645564004352.0005,1706190046617.5999,1620880544286.7197]
["2000-06-10",255,null,178,8,2.7369141293191925E-3,0.60041053711939751,0.39958946288060249,1741958922240,1654860976128,1715829538406.3999,1630038061486.0798]
["2000-06-11",66,null,179,5,1.7105713308244953E-3,0.60212110845022204,0.39787889154977796,1751745208320,1664157947904,1725469030195.1997,1639195578685.4397]
["2000-06-12",614,null,180,1,3.4211426616489907E-4,0.60246322271638697,0.39753677728361303,1761531494400,1673454919680,1735108521984,1648353095884.7998]
["2000-06-13",435,null,181,3,1.0263427984946972E-3,0.60348956551488164,0.39651043448511836,1771317780480,1682751891456,1744748013772.8003,1657510613084.1602]
["2000-06-14",135,null,182,5,1.7105713308244953E-3,0.60520013684570617,0.39479986315429383,1781104066560.0005,1692048863232.0005,1754387505561.6001,1666668130283.52]
["2000-06-15",95,null,183,3,1.0263427984946972E-3,0.60622647964420084,0.39377352035579916,1790890352640,1701345835008,1764026997350.4001,1675825647482.8801]
["2000-06-16",72,null,184,5,1.7105713308244953E-3,0.60793705097502537,0.39206294902497463,1800676638720,1710642806784,1773666489139.2002,1684983164682.24]
["2000-06-17",77,null,185,3,1.0263427984946972E-3,0.60896339377352005,0.39103660622647995,1810462924800,1719939778560,1783305980928,1694140681881.5999]
["2000-06-18",223,null,186,4,1.3684570646595963E-3,0.61033185083817965,0.38966814916182035,1820249210880,1729236750336,1792945472716.7998,1703298199080.9597]
["2000-06-19",266,null,187,3,1.0263427984946972E-3,0.61135819363667432,0.38864180636332568,1830035496960.0005,1738533722112.0005,1802584964505.5999,1712455716280.3198]
["2000-06-20",179,null,188,2,6.8422853232979813E-4,0.61204242216900406,0.38795757783099594,1839821783040,1747830693888,1812224456294.4001,1721613233479.6802]
["2000-06-21",108,null,189,6,2.0526855969893944E-3,0.61409510776599341,0.38590489223400659,1849608069120,1757127665664,1821863948083.2002,1730770750679.04]
["2000-06-22",78,null,190,2,6.8422853232979813E-4,0.61477933629832315,0.38522066370167685,1859394355200,1766424637440,1831503439872,1739928267878.3999]
["2000-06-23",51,null,191,2,6.8422853232979813E-4,0.6154635648306529,0.3845364351693471,1869180641280,1775721609216,1841142931660.8003,1749085785077.7603]
["2000-06-24",36,null,192,3,1.0263427984946972E-3,0.61648990762914757,0.38351009237085243,1878966927360.0005,1785018580992.0005,1850782423449.5999,1758243302277.1199]
["2000-06-25",35,null,193,3,1.0263427984946972E-3,0.61751625042764224,0.38248374957235776,1888753213440,1794315552768,1860421915238.4001,1767400819476.48]
["2000-06-26",44,null,194,2,6.8422853232979813E-4,0.61820047895997199,0.38179952104002801,1898539499520,1803612524544,1870061407027.1997,1776558336675.8396]
["2000-06-27",112,null,195,2,6.8422853232979813E-4,0.61888470749230173,0.38111529250769827,1908325785600,1812909496320,1879700898816,1785715853875.2]
["2000-06-28",86,null,196,2,6.8422853232979813E-4,0.61956893602463148,0.38043106397536852,1918112071680,1822206468096,1889340390604.8003,1794873371074.5603]
["2000-06-29",69,null,197,1,3.4211426616489907E-4,0.61991105029079641,0.38008894970920359,1927898357760.0005,1831503439872.0005,1898979882393.6001,1804030888273.9199]
["2000-06-30",54,null,198,2,6.8422853232979813E-4,0.62059527882312615,0.37940472117687385,1937684643840,1840800411648,1908619374182.4001,1813188405473.28]
["2000-07-01",48,null,199,5,1.7105713308244953E-3,0.62230585015395068,0.37769414984604932,1947470929920,1850097383424,1918258865971.2002,1822345922672.6401]
["2000-07-02",48,null,200,2,6.8422853232979813E-4,0.62299007868628042,0.37700992131371958,1957257216000,1859394355200,1927898357760.0005,1831503439872.0005]
["2000-07-03",42,null,201,6,2.0526855969893944E-3,0.62504276428326977,0.37495723571673023,1967043502080,1868691326976,1937537849548.7998,1840660957071.3596]
["2000-07-04",47,null,202,3,1.0263427984946972E-3,0.62606910708176444,0.37393089291823556,1976829788160.0005,1877988298752.0005,1947177341337.6001,1849818474270.72]
["2000-07-05",189,null,203,1,3.4211426616489907E-4,0.62641122134792937,0.37358877865207063,1986616074240,1887285270528,1956816833126.3999,1858975991470.0798]
["2000-07-06",108,null,204,4,1.3684570646595963E-3,0.62777967841258897,0.37222032158741103,1996402360320,1896582242304,1966456324915.2002,1868133508669.4402]
["2000-07-07",67,null,205,2,6.8422853232979813E-4,0.62846390694491872,0.37153609305508128,2006188646400,1905879214080,1976095816704,1877291025868.7998]
["2000-07-08",52,null,207,3,1.0263427984946972E-3,0.62949024974341339,0.37050975025658661,2025761218560.0005,1924473157632.0005,1995374800281.5999,1895606060267.5198]
["2000-07-09",47,null,209,3,1.0263427984946972E-3,0.63051659254190806,0.36948340745809194,2045333790720,1943067101184,2014653783859.2002,1913921094666.24]
["2000-07-10",44,null,210,5,1.7105713308244953E-3,0.63222716387273259,0.36777283612726741,2055120076800,1952364072960,2024293275648,1923078611865.5999]
["2000-07-11",43,null,211,1,{"$f":"E198/2923","v":3.4211426616489907E-4},0.63256927813889752,{"$f":"1-G198","v":0.36743072186110248},{"$f":"((400/100)*1000*D198)*28.3168*60*60*24","v":2064906362880},{"$f":"(1-0.05)*I198","v":1961661044736},{"$f":"((394/100)*1000*D198)*28.3168*60*60*24","v":2033932767436.7998},{"$f":"(1-0.05)*K198","v":1932236129064.9597}]
["2000-07-12",45,null,212,2,6.8422853232979813E-4,{"$f":"G198 + F199","v":0.63325350667122726},0.36674649332877274,2074692648960.0005,1970958016512.0005,2043572259225.5999,1941393646264.3198]
["2000-07-13",41,null,213,2,6.8422853232979813E-4,0.63393773520355701,0.36606226479644299,2084478935040,1980254988288,2053211751014.4001,1950551163463.6799]
["2000-07-14",41,null,214,2,6.8422853232979813E-4,0.63462196373588675,0.36537803626411325,2094265221120,1989551960064,2062851242803.2002,1959708680663.04]
["2000-07-15",39,null,215,3,1.0263427984946972E-3,0.63564830653438142,0.36435169346561858,2104051507200,1998848931840,2072490734592.0005,1968866197862.4004]
["2000-07-16",38,null,216,2,6.8422853232979813E-4,0.63633253506671117,0.36366746493328883,2113837793280,2008145903616,2082130226380.7998,1978023715061.7598]
["2000-07-17",41,null,217,2,6.8422853232979813E-4,0.63701676359904091,0.36298323640095909,2123624079360.0005,2017442875392.0005,2091769718169.6001,1987181232261.1201]
["2000-07-18",47,null,218,2,6.8422853232979813E-4,0.63770099213137066,0.36229900786862934,2133410365440,2026739847168,2101409209958.3999,1996338749460.4797]
["2000-07-19",48,null,219,1,3.4211426616489907E-4,0.63804310639753559,0.36195689360246441,2143196651520,2036036818944,2111048701747.2002,2005496266659.8401]
["2000-07-20",47,null,220,1,3.4211426616489907E-4,0.63838522066370051,0.36161477933629949,2152982937600,2045333790720,2120688193536,2014653783859.2]
["2000-07-21",56,null,221,1,3.4211426616489907E-4,0.63872733492986544,0.36127266507013456,2162769223680,2054630762496,2130327685324.8003,2023811301058.5603]
["2000-07-22",53,null,222,1,3.4211426616489907E-4,0.63906944919603037,0.36093055080396963,2172555509760.0005,2063927734272.0005,2139967177113.6001,2032968818257.9199]
["2000-07-23",104,null,223,5,1.7105713308244953E-3,0.6407800205268549,0.3592199794731451,2182341795840,2073224706048,2149606668902.4001,2042126335457.28]
["2000-07-24",127,null,224,2,6.8422853232979813E-4,0.64146424905918464,0.35853575094081536,2192128081920,2082521677824,2159246160691.2002,2051283852656.6401]
["2000-07-25",86,null,225,1,3.4211426616489907E-4,0.64180636332534957,0.35819363667465043,2201914368000,2091818649600,2168885652480,2060441369856]
["2000-07-26",60,null,226,3,1.0263427984946972E-3,0.64283270612384424,0.35716729387615576,2211700654080,2101115621376,2178525144268.7998,2069598887055.3596]
["2000-07-27",51,null,227,2,6.8422853232979813E-4,0.64351693465617399,0.35648306534382601,2221486940160.0005,2110412593152.0002,2188164636057.5999,2078756404254.7197]
["2000-07-28",60,null,228,2,6.8422853232979813E-4,0.64420116318850373,0.35579883681149627,2231273226240,2119709564928,2197804127846.3999,2087913921454.0798]
["2000-07-29",79,null,229,2,6.8422853232979813E-4,0.64488539172083348,0.35511460827916652,2241059512320,2129006536704,2207443619635.2002,2097071438653.4402]
["2000-07-30",72,null,230,2,6.8422853232979813E-4,0.64556962025316322,0.35443037974683678,2250845798400,2138303508480,2217083111424,2106228955852.7998]
["2000-07-31",85,null,231,1,3.4211426616489907E-4,0.64591173451932815,0.35408826548067185,2260632084480,2147600480256,2226722603212.8003,2115386473052.1602]
["2000-08-01",153,null,232,1,3.4211426616489907E-4,0.64625384878549308,0.35374615121450692,2270418370560.0005,2156897452032.0002,2236362095001.5996,2124543990251.5195]
["2000-08-02",128,null,233,2,6.8422853232979813E-4,0.64693807731782282,0.35306192268217718,2280204656640,2166194423808,2246001586790.4004,2133701507450.8804]
["2000-08-03",110,null,234,2,6.8422853232979813E-4,0.64762230585015257,0.35237769414984743,2289990942720,2175491395584,2255641078579.2002,2142859024650.24]
["2000-08-04",83,null,236,2,6.8422853232979813E-4,0.64830653438248231,0.35169346561751769,2309563514880,2194085339136,2274920062156.7998,2161174059048.9597]
["2000-08-05",66,null,237,1,3.4211426616489907E-4,0.64864864864864724,0.35135135135135276,2319349800960.0005,2203382310912.0005,2284559553945.5996,2170331576248.3196]
["2000-08-06",63,null,239,4,1.3684570646595963E-3,0.65001710571330684,0.34998289428669316,2338922373120,2221976254464,2303838537523.2002,2188646610647.04]
["2000-08-07",56,null,240,3,1.0263427984946972E-3,0.65104344851180151,0.34895655148819849,2348708659200,2231273226240,2313478029312.0005,2197804127846.4004]
["2000-08-08",52,null,241,2,6.8422853232979813E-4,0.65172767704413126,0.34827232295586874,2358494945280,2240570198016,2323117521100.7998,2206961645045.7598]
["2000-08-09",61,null,242,1,3.4211426616489907E-4,0.65206979131029619,0.34793020868970381,2368281231360.0005,2249867169792.0005,2332757012889.6001,2216119162245.1201]
["2000-08-10",53,null,244,2,6.8422853232979813E-4,0.65275401984262593,0.34724598015737407,2387853803520,2268461113344,2352035996467.2002,2234434196643.8398]
["2000-08-11",44,null,245,1,3.4211426616489907E-4,0.65309613410879086,0.34690386589120914,2397640089600,2277758085120,2361675488255.9995,2243591713843.1992]
["2000-08-12",49,null,247,2,6.8422853232979813E-4,0.6537803626411206,0.3462196373588794,2417212661760.0005,2296352028672.0005,2380954471833.6001,2261906748241.9199]
["2000-08-13",46,null,248,3,1.0263427984946972E-3,0.65480670543961528,0.34519329456038472,2426998947840,2305649000448,2390593963622.4004,2271064265441.2803]
["2000-08-14",43,null,250,3,1.0263427984946972E-3,0.65583304823810995,0.34416695176189005,2446571520000,2324242944000,2409872947200,2289379299840]
["2000-08-15",41,null,252,2,6.8422853232979813E-4,0.65651727677043969,0.34348272322956031,2466144092160.0005,2342836887552.0005,2429151930777.5996,2307694334238.7197]
["2000-08-16",42,null,253,1,3.4211426616489907E-4,0.65685939103660462,0.34314060896339538,2475930378240,2352133859328,2438791422566.4004,2316851851438.0801]
["2000-08-17",44,null,254,1,3.4211426616489907E-4,0.65720150530276955,0.34279849469723045,2485716664320,2361430831104,2448430914355.1997,2326009368637.4395]
["2000-08-18",40,null,255,2,6.8422853232979813E-4,0.6578857338350993,0.3421142661649007,2495502950400,2370727802880,2458070406144.0005,2335166885836.8003]
["2000-08-19",40,null,256,2,6.8422853232979813E-4,0.65856996236742904,0.34143003763257096,2505289236480,2380024774656,2467709897932.7998,2344324403036.1597]
["2000-08-20",41,null,257,1,3.4211426616489907E-4,0.65891207663359397,0.34108792336640603,2515075522560.0005,2389321746432.0005,2477349389721.6001,2353481920235.52]
["2000-08-21",43,null,258,2,6.8422853232979813E-4,0.65959630516592371,0.34040369483407629,2524861808640,2398618718208,2486988881510.4004,2362639437434.8804]
["2000-08-22",42,null,261,2,6.8422853232979813E-4,0.66028053369825346,0.33971946630174654,2554220666880,2426509633536,2515907356876.7998,2390111989032.9595]
["2000-08-23",59,null,262,2,6.8422853232979813E-4,0.6609647622305832,0.3390352377694168,2564006952960.0005,2435806605312.0005,2525546848665.5996,2399269506232.3193]
["2000-08-24",54,null,263,1,3.4211426616489907E-4,0.66130687649674813,0.33869312350325187,2573793239040,2445103577088,2535186340454.4004,2408427023431.6802]
["2000-08-25",48,null,264,2,6.8422853232979813E-4,0.66199110502907788,0.33800889497092212,2583579525120,2454400548864,2544825832243.2002,2417584540631.04]
["2000-08-26",45,null,265,1,3.4211426616489907E-4,0.6623332192952428,0.3376667807047572,2593365811200,2463697520640,2554465324032,2426742057830.3999]
["2000-08-27",46,null,266,1,3.4211426616489907E-4,0.66267533356140773,0.33732466643859227,2603152097280,2472994492416,2564104815820.7998,2435899575029.7598]
["2000-08-28",48,null,267,2,6.8422853232979813E-4,0.66335956209373748,0.33664043790626252,2612938383360.0005,2482291464192.0005,2573744307609.6001,2445057092229.1201]
["2000-08-29",46,null,268,2,6.8422853232979813E-4,0.66404379062606722,0.33595620937393278,2622724669440,2491588435968,2583383799398.4004,2454214609428.4805]
["2000-08-30",43,null,269,1,3.4211426616489907E-4,0.66438590489223215,0.33561409510776785,2632510955520,2500885407744,2593023291187.2002,2463372126627.8398]
["2000-08-31",42,null,271,1,3.4211426616489907E-4,0.66472801915839708,0.33527198084160292,2652083527680,2519479351296,2612302274764.8003,2481687161026.5601]
["2000-09-01",39,null,273,1,3.4211426616489907E-4,0.665070133424562,0.334929866575438,2671656099840,2538073294848,2631581258342.4004,2500002195425.2803]
["2000-09-02",53,null,274,1,3.4211426616489907E-4,0.66541224769072693,0.33458775230927307,2681442385920,2547370266624,2641220750131.2002,2509159712624.6401]
["2000-09-03",64,null,275,3,1.0263427984946972E-3,0.66643859048922161,0.33356140951077839,2691228672000,2556667238400,2650860241920,2518317229824]
["2000-09-04",46,null,276,1,3.4211426616489907E-4,0.66678070475538653,0.33321929524461347,2701014958080,2565964210176,2660499733708.8003,2527474747023.3604]
["2000-09-05",46,null,278,2,6.8422853232979813E-4,0.66746493328771628,0.33253506671228372,2720587530240,2584558153728,2679778717286.4004,2545789781422.0801]
["2000-09-06",44,null,279,5,1.7105713308244953E-3,0.66917550461854081,0.33082449538145919,2730373816320,2593855125504,2689418209075.1997,2554947298621.4395]
["2000-09-07",42,null,280,2,6.8422853232979813E-4,0.66985973315087055,0.33014026684912945,2740160102400,2603152097280,2699057700864.0005,2564104815820.8003]
["2000-09-08",40,null,281,1,3.4211426616489907E-4,0.67020184741703548,0.32979815258296452,2749946388480,2612449069056,2708697192652.7998,2573262333020.1597]
["2000-09-09",44,null,282,1,3.4211426616489907E-4,0.67054396168320041,0.32945603831679959,2759732674560.0005,2621746040832.0005,2718336684441.6001,2582419850219.52]
["2000-09-10",47,null,284,2,6.8422853232979813E-4,0.67122819021553015,0.32877180978446985,2779305246720,2640339984384,2737615668019.2002,2600734884618.2402]
["2000-09-11",48,null,286,1,3.4211426616489907E-4,0.67157030448169508,0.32842969551830492,2798877818880,2658933927936,2756894651596.7998,2619049919016.9595]
["2000-09-12",49,null,287,2,6.8422853232979813E-4,0.67225453301402482,0.32774546698597518,2808664104960.0005,2668230899712.0005,2766534143385.6001,2628207436216.3198]
["2000-09-13",121,null,288,7,{"$f":"E262/2923","v":2.3947998631542937E-3},0.6746493328771791,{"$f":"1-G262","v":0.3253506671228209},{"$f":"((400/100)*1000*D262)*28.3168*60*60*24","v":2818450391040},{"$f":"(1-0.05)*I262","v":2677527871488},{"$f":"((394/100)*1000*D262)*28.3168*60*60*24","v":2776173635174.4004},{"$f":"(1-0.05)*K262","v":2637364953415.6802}]
["2000-09-14",128,null,290,3,1.0263427984946972E-3,{"$f":"G262 + F263","v":0.67567567567567377},0.32432432432432623,2838022963200,2696121815040,2795452618752,2655679987814.3999]
["2000-09-15",98,null,291,1,3.4211426616489907E-4,0.6760177899418387,0.3239822100581613,2847809249280,2705418786816,2805092110540.8003,2664837505013.7603]
["2000-09-16",106,null,293,1,3.4211426616489907E-4,0.67635990420800363,0.32364009579199637,2867381821440,2724012730368,2824371094118.4004,2683152539412.4805]
["2000-09-17",74,null,294,2,6.8422853232979813E-4,0.67704413274033337,0.32295586725966663,2877168107520,2733309702144,2834010585907.1997,2692310056611.8394]
["2000-09-18",57,null,296,2,6.8422853232979813E-4,0.67772836127266312,0.32227163872733688,2896740679680,2751903645696,2853289569484.8003,2710625091010.5601]
["2000-09-19",48,null,297,1,3.4211426616489907E-4,0.67807047553882804,0.32192952446117196,2906526965760,2761200617472,2862929061273.6001,2719782608209.9199]
["2000-09-20",46,null,298,2,6.8422853232979813E-4,0.67875470407115779,0.32124529592884221,2916313251840,2770497589248,2872568553062.4004,2728940125409.2803]
["2000-09-21",63,null,299,1,3.4211426616489907E-4,0.67909681833732272,0.32090318166267728,2926099537920.0005,2779794561024.0005,2882208044851.2002,2738097642608.6401]
["2000-09-22",71,null,300,4,1.3684570646595963E-3,0.68046527540198232,0.31953472459801768,2935885824000,2789091532800,2891847536640,2747255159808]
["2000-09-23",85,null,301,2,6.8422853232979813E-4,0.68114950393431206,0.31885049606568794,2945672110080.0005,2798388504576.0005,2901487028428.8003,2756412677007.3604]
["2000-09-24",68,null,302,1,3.4211426616489907E-4,0.68149161820047699,0.31850838179952301,2955458396160,2807685476352,2911126520217.5996,2765570194206.7197]
["2000-09-25",56,null,303,1,3.4211426616489907E-4,0.68183373246664192,0.31816626753335808,2965244682240,2816982448128,2920766012006.3999,2774727711406.0796]
["2000-09-26",46,null,304,1,3.4211426616489907E-4,0.68217584673280685,0.31782415326719315,2975030968320.0005,2826279419904.0005,2930405503795.1997,2783885228605.4395]
["2000-09-27",40,null,305,2,6.8422853232979813E-4,0.68286007526513659,0.31713992473486341,2984817254400,2835576391680,2940044995584.0005,2793042745804.8003]
["2000-09-28",38,null,306,3,1.0263427984946972E-3,0.68388641806363126,0.31611358193636874,2994603540480.0005,2844873363456.0005,2949684487372.8008,2802200263004.1606]
["2000-09-29",35,null,308,2,6.8422853232979813E-4,0.68457064659596101,0.31542935340403899,3014176112640,2863467307008,2968963470950.4004,2820515297402.8804]
["2000-09-30",35,null,310,3,1.0263427984946972E-3,0.68559698939445568,0.31440301060554432,3033748684800,2882061250560,2988242454528.0005,2838830331801.6001]
["2000-10-01",36,null,311,2,6.8422853232979813E-4,0.68628121792678543,0.31371878207321457,3043534970880.0005,2891358222336.0005,2997881946316.7998,2847987849000.9595]
["2000-10-02",40,null,312,2,6.8422853232979813E-4,0.68696544645911517,0.31303455354088483,3053321256960,2900655194112,3007521438105.5996,2857145366200.3193]
["2000-10-03",42,null,313,1,3.4211426616489907E-4,0.6873075607252801,0.3126924392747199,3063107543040,2909952165888,3017160929894.4004,2866302883399.6802]
["2000-10-04",42,null,315,4,1.3684570646595963E-3,0.6886760177899397,0.3113239822100603,3082680115200,2928546109440,3036439913472.0005,2884617917798.4004]
["2000-10-05",44,null,316,2,6.8422853232979813E-4,0.68936024632226944,0.31063975367773056,3092466401280,2937843081216,3046079405260.7998,2893775434997.7598]
["2000-10-06",52,null,319,3,1.0263427984946972E-3,0.69038658912076412,0.30961341087923588,3121825259520.001,2965733996544.001,3074997880627.2002,2921247986595.8398]
["2000-10-07",76,null,320,1,3.4211426616489907E-4,0.69072870338692904,0.30927129661307096,3131611545600,2975030968320,3084637372415.9995,2930405503795.1992]
["2000-10-08",167,null,321,1,3.4211426616489907E-4,0.69107081765309397,0.30892918234690603,3141397831680,2984327940096,3094276864204.8003,2939563020994.5601]
["2000-10-09",140,null,322,1,3.4211426616489907E-4,0.6914129319192589,0.3085870680807411,3151184117760,2993624911872,3103916355993.6001,2948720538193.9199]
["2000-10-10",92,null,323,1,3.4211426616489907E-4,0.69175504618542383,0.30824495381457617,3160970403840,3002921883648,3113555847782.4004,2957878055393.2803]
["2000-10-11",68,null,324,1,3.4211426616489907E-4,0.69209716045158876,0.30790283954841124,3170756689920.001,3012218855424.001,3123195339571.2007,2967035572592.6406]
["2000-10-12",55,null,325,1,3.4211426616489907E-4,0.69243927471775368,0.30756072528224632,3180542976000,3021515827200,3132834831360,2976193089792]
["2000-10-13",47,null,326,2,6.8422853232979813E-4,0.69312350325008343,0.30687649674991657,3190329262080,3030812798976,3142474323148.7998,2985350606991.3599]
["2000-10-14",43,null,327,1,3.4211426616489907E-4,0.69346561751624836,0.30653438248375164,3200115548160,3040109770752,3152113814937.5996,2994508124190.7197]
["2000-10-15",46,null,328,1,3.4211426616489907E-4,0.69380773178241328,0.30619226821758672,3209901834240,3049406742528,3161753306726.4004,3003665641390.0801]
["2000-10-16",48,null,329,1,3.4211426616489907E-4,0.69414984604857821,0.30585015395142179,3219688120320.001,3058703714304.001,3171392798515.1997,3012823158589.4395]
["2000-10-17",310,null,330,2,6.8422853232979813E-4,0.69483407458090796,0.30516592541909204,3229474406400,3068000686080,3181032290304,3021980675788.7998]
["2000-10-18",377,null,331,1,3.4211426616489907E-4,0.69517618884707288,0.30482381115292712,3239260692480,3077297657856,3190671782092.7998,3031138192988.1597]
["2000-10-19",705,null,332,1,3.4211426616489907E-4,0.69551830311323781,0.30448169688676219,3249046978560,3086594629632,3200311273881.6006,3040295710187.5205]
["2000-10-20",588,null,333,1,3.4211426616489907E-4,0.69586041737940274,0.30413958262059726,3258833264640,3095891601408,3209950765670.4004,3049453227386.8804]
["2000-10-21",247,null,334,2,6.8422853232979813E-4,0.69654464591173249,0.30345535408826751,3268619550720.001,3105188573184.001,3219590257459.1997,3058610744586.2397]
["2000-10-22",131,null,337,2,6.8422853232979813E-4,0.69722887444406223,0.30277112555593777,3297978408960,3133079488512,3248508732825.6001,3086083296184.3198]
["2000-10-23",108,null,338,1,3.4211426616489907E-4,0.69757098871022716,0.30242901128977284,3307764695040,3142376460288,3258148224614.3999,3095240813383.6797]
["2000-10-24",94,null,339,2,6.8422853232979813E-4,0.6982552172425569,0.3017447827574431,3317550981120.001,3151673432064.001,3267787716403.1997,3104398330583.0396]
["2000-10-25",81,null,340,4,1.3684570646595963E-3,0.6996236743072165,0.3003763256927835,3327337267200,3160970403840,3277427208192.0005,3113555847782.4004]
["2000-10-26",127,null,341,1,3.4211426616489907E-4,0.69996578857338143,0.30003421142661857,3337123553280,3170267375616,3287066699980.8003,3122713364981.7603]
["2000-10-27",167,null,342,1,3.4211426616489907E-4,0.70030790283954636,0.29969209716045364,3346909839360,3179564347392,3296706191769.6001,3131870882181.1201]
["2000-10-28",112,null,344,2,6.8422853232979813E-4,0.7009921313718761,0.2990078686281239,3366482411520.001,3198158290944.001,3315985175347.2002,3150185916579.8398]
["2000-10-29",157,null,345,1,3.4211426616489907E-4,0.70133424563804103,0.29866575436195897,3376268697600,3207455262720,3325624667136,3159343433779.1997]
["2000-10-30",312,null,346,1,3.4211426616489907E-4,0.70167635990420596,0.29832364009579404,3386054983680,3216752234496,3335264158924.8003,3168500950978.5601]
["2000-10-31",154,null,348,2,6.8422853232979813E-4,0.7023605884365357,0.2976394115634643,3405627555840,3235346178048,3354543142502.4004,3186815985377.2803]
["2000-11-01",99,null,349,1,3.4211426616489907E-4,0.70270270270270063,0.29729729729729937,3415413841920.001,3244643149824.001,3364182634291.1997,3195973502576.6396]
["2000-11-02",82,null,350,3,1.0263427984946972E-3,0.7037290455011953,0.2962709544988047,3425200128000,3253940121600,3373822126080,3205131019776]
["2000-11-03",237,null,351,1,3.4211426616489907E-4,0.70407115976736023,0.29592884023263977,3434986414080,3263237093376,3383461617868.8003,3214288536975.3604]
["2000-11-04",101,null,352,1,3.4211426616489907E-4,0.70441327403352516,0.29558672596647484,3444772700160,3272534065152,3393101109657.5996,3223446054174.7192]
["2000-11-05",60,null,356,2,6.8422853232979813E-4,0.70509750256585491,0.29490249743414509,3483917844480,3309721952256,3431659076812.7998,3260076122972.1597]
["2000-11-06",1000,null,360,1,3.4211426616489907E-4,0.70543961683201983,0.29456038316798017,3523062988800,3346909839360,3470217043968,3296706191769.5996]
["2000-11-07",240,null,361,1,3.4211426616489907E-4,0.70578173109818476,0.29421826890181524,3532849274880,3356206811136,3479856535756.7998,3305863708968.9595]
["2000-11-08",34,null,362,1,3.4211426616489907E-4,0.70612384536434969,0.29387615463565031,3542635560960,3365503782912,3489496027545.6006,3315021226168.3203]
["2000-11-09",715,null,363,1,3.4211426616489907E-4,0.70646595963051462,0.29353404036948538,3552421847040,3374800754688,3499135519334.4004,3324178743367.6802]
["2000-11-10",760,null,368,2,6.8422853232979813E-4,0.70715018816284436,0.29284981183715564,3601353277440,3421285613568,3547332978278.4004,3369966329364.48]
["2000-11-11",108,null,369,1,3.4211426616489907E-4,0.70749230242900929,0.29250769757099071,3611139563520.001,3430582585344.001,3556972470067.1997,3379123846563.8394]
["2000-11-12",280,null,370,1,3.4211426616489907E-4,0.70783441669517422,0.29216558330482578,3620925849600,3439879557120,3566611961856,3388281363763.1997]
["2000-11-13",807,null,371,2,6.8422853232979813E-4,0.70851864522750396,0.29148135477249604,3630712135680,3449176528896,3576251453644.8003,3397438880962.5601]
["2000-11-14",964,null,372,2,6.8422853232979813E-4,0.70920287375983371,0.29079712624016629,3640498421760,3458473500672,3585890945433.5996,3406596398161.9194]
["2000-11-15",572,null,373,1,3.4211426616489907E-4,0.70954498802599864,0.29045501197400136,3650284707840,3467770472448,3595530437222.4004,3415753915361.2803]
["2000-11-16",324,null,374,1,{"$f":"E326/2923","v":3.4211426616489907E-4},0.70988710229216356,{"$f":"1-G326","v":0.29011289770783644},{"$f":"((400/100)*1000*D326)*28.3168*60*60*24","v":3660070993920.001},{"$f":"(1-0.05)*I326","v":3477067444224.001},{"$f":"((394/100)*1000*D326)*28.3168*60*60*24","v":3605169929011.1997},{"$f":"(1-0.05)*K326","v":3424911432560.6396}]
["2000-11-17",226,null,376,1,3.4211426616489907E-4,{"$f":"G326 + F327","v":0.71022921655832849},0.28977078344167151,3679643566080,3495661387776,3624448912588.8003,3443226466959.3604]
["2000-11-18",690,null,377,2,6.8422853232979813E-4,0.71091344509065824,0.28908655490934176,3689429852160,3504958359552,3634088404377.5996,3452383984158.7192]
["2000-11-19",658,null,379,1,3.4211426616489907E-4,0.71125555935682316,0.28874444064317684,3709002424320.001,3523552303104.001,3653367387955.1997,3470699018557.4395]
["2000-11-20",1460,null,380,2,6.8422853232979813E-4,0.71193978788915291,0.28806021211084709,3718788710400,3532849274880,3663006879744,3479856535756.7998]
["2000-11-21",1810,null,381,2,6.8422853232979813E-4,0.71262401642148265,0.28737598357851735,3728574996480,3542146246656,3672646371532.8003,3489014052956.1602]
["2000-11-22",984,null,382,1,3.4211426616489907E-4,0.71296613068764758,0.28703386931235242,3738361282560,3551443218432,3682285863321.6006,3498171570155.5205]
["2000-11-23",58,null,383,1,3.4211426616489907E-4,0.71330824495381251,0.28669175504618749,3748147568640,3560740190208,3691925355110.3994,3507329087354.8794]
["2000-11-24",340,null,384,1,3.4211426616489907E-4,0.71365035921997744,0.28634964078002256,3757933854720.001,3570037161984.001,3701564846899.1997,3516486604554.2397]
["2000-11-25",545,null,385,1,3.4211426616489907E-4,0.71399247348614236,0.28600752651385764,3767720140800,3579334133760,3711204338688.001,3525644121753.6006]
["2000-11-26",974,null,386,2,6.8422853232979813E-4,0.71467670201847211,0.28532329798152789,3777506426880,3588631105536,3720843830476.8003,3534801638952.96]
["2000-11-27",1330,null,387,1,3.4211426616489907E-4,0.71501881628463704,0.28498118371536296,3787292712960,3597928077312,3730483322265.5996,3543959156152.3193]
["2000-11-28",1030,null,389,2,6.8422853232979813E-4,0.71570304481696678,0.28429695518303322,3806865285120.001,3616522020864.001,3749762305843.2002,3562274190551.04]
["2000-11-29",536,null,390,1,3.4211426616489907E-4,0.71604515908313171,0.28395484091686829,3816651571200,3625818992640,3759401797632,3571431707750.3999]
["2000-11-30",1610,null,391,1,3.4211426616489907E-4,0.71638727334929664,0.28361272665070336,3826437857280,3635115964416,3769041289420.8003,3580589224949.7603]
["2000-12-01",683,null,392,1,3.4211426616489907E-4,0.71672938761546157,0.28327061238453843,3836224143360,3644412936192,3778680781209.6006,3589746742149.1206]
["2000-12-02",644,null,393,3,1.0263427984946972E-3,0.71775573041395624,0.28224426958604376,3846010429440,3653709907968,3788320272998.4004,3598904259348.48]
["2000-12-03",154,null,394,1,3.4211426616489907E-4,0.71809784468012117,0.28190215531987883,3855796715520.001,3663006879744.001,3797959764787.2002,3608061776547.8398]
["2000-12-04",100,null,395,1,3.4211426616489907E-4,0.71843995894628609,0.28156004105371391,3865583001600,3672303851520,3807599256576,3617219293747.1997]
["2000-12-05",81,null,397,3,1.0263427984946972E-3,0.71946630174478077,0.28053369825521923,3885155573760,3690897795072,3826878240153.5996,3635534328145.9194]
["2000-12-06",98,null,398,1,3.4211426616489907E-4,0.7198084160109457,0.2801915839890543,3894941859840,3700194766848,3836517731942.4004,3644691845345.2803]
["2000-12-07",134,null,399,1,3.4211426616489907E-4,0.72015053027711062,0.27984946972288938,3904728145920.001,3709491738624.001,3846157223731.1997,3653849362544.6396]
["2000-12-08",95,null,402,1,3.4211426616489907E-4,0.72049264454327555,0.27950735545672445,3934087004160,3737382653952,3875075699097.5996,3681321914142.7192]
["2000-12-09",81,null,403,1,3.4211426616489907E-4,0.72083475880944048,0.27916524119055952,3943873290240,3746679625728,3884715190886.4004,3690479431342.0801]
["2000-12-10",70,null,405,1,3.4211426616489907E-4,0.72117687307560541,0.27882312692439459,3963445862400,3765273569280,3903994174464,3708794465740.7998]
["2000-12-11",71,null,406,1,3.4211426616489907E-4,0.72151898734177033,0.27848101265822967,3973232148480,3774570541056,3913633666252.7998,3717951982940.1597]
["2000-12-12",59,null,409,2,6.8422853232979813E-4,0.72220321587410008,0.27779678412589992,4002591006720.001,3802461456384.001,3942552141619.2002,3745424534538.2402]
["2000-12-13",159,null,410,3,1.0263427984946972E-3,0.72322955867259475,0.27677044132740525,4012377292800,3811758428160,3952191633408,3754582051737.5996]
["2000-12-14",149,null,411,4,1.3684570646595963E-3,0.72459801573725435,0.27540198426274565,4022163578880,3821055399936,3961831125196.8003,3763739568936.96]
["2000-12-15",108,null,413,3,1.0263427984946972E-3,0.72562435853574903,0.27437564146425097,4041736151040,3839649343488,3981110108774.4004,3782054603335.6802]
["2000-12-16",82,null,414,1,3.4211426616489907E-4,0.72596647280191395,0.27403352719808605,4051522437120.001,3848946315264.001,3990749600563.1997,3791212120535.0396]
["2000-12-17",69,null,415,3,1.0263427984946972E-3,0.72699281560040863,0.27300718439959137,4061308723200,3858243287040,4000389092352,3800369637734.3999]
["2000-12-18",58,null,418,2,6.8422853232979813E-4,0.72767704413273837,0.27232295586726163,4090667581440,3886134202368,4029307567718.4004,3827842189332.48]
["2000-12-19",54,null,419,1,3.4211426616489907E-4,0.7280191583989033,0.2719808416010967,4100453867520.001,3895431174144.001,4038947059507.2002,3836999706531.8398]
["2000-12-20",52,null,421,3,1.0263427984946972E-3,0.72904550119739797,0.27095449880260203,4120026439680,3914025117696,4058226043084.8003,3855314740930.5601]
["2000-12-21",53,null,422,1,3.4211426616489907E-4,0.7293876154635629,0.2706123845364371,4129812725760,3923322089472,4067865534873.5996,3864472258129.9194]
["2000-12-22",51,null,423,2,6.8422853232979813E-4,0.73007184399589264,0.26992815600410736,4139599011840,3932619061248,4077505026662.4004,3873629775329.2803]
["2000-12-23",55,null,424,2,6.8422853232979813E-4,0.73075607252822239,0.26924392747177761,4149385297920.001,3941916033024.001,4087144518451.1997,3882787292528.6396]
["2000-12-24",191,null,428,2,6.8422853232979813E-4,0.73144030106055213,0.26855969893944787,4188530442240,3979103920128,4125702485606.4004,3919417361326.0801]
["2000-12-25",127,null,429,1,3.4211426616489907E-4,0.73178241532671706,0.26821758467328294,4198316728320.001,3988400891904.001,4135341977395.1997,3928574878525.4395]
["2000-12-26",90,null,430,1,3.4211426616489907E-4,0.73212452959288199,0.26787547040711801,4208103014400,3997697863680,4144981469184.001,3937732395724.8008]
["2000-12-27",94,null,434,2,6.8422853232979813E-4,0.73280875812521173,0.26719124187478827,4247248158720.001,4034885750784.001,4183539436339.2002,3974362464522.2402]
["2000-12-28",476,null,435,2,6.8422853232979813E-4,0.73349298665754148,0.26650701334245852,4257034444800,4044182722560,4193178928128.001,3983519981721.6006]
["2000-12-29",735,null,437,1,3.4211426616489907E-4,0.73383510092370641,0.26616489907629359,4276607016960,4062776666112,4212457911705.5996,4001835016120.3193]
["2000-12-30",707,null,440,1,3.4211426616489907E-4,0.73417721518987133,0.26582278481012867,4305965875200,4090667581440,4241376387072,4029307567718.3999]
["2000-12-31",662,null,441,1,3.4211426616489907E-4,0.73451932945603626,0.26548067054396374,4315752161280,4099964553216,4251015878860.7998,4038465084917.7598]
["2001-01-01",478,null,442,1,3.4211426616489907E-4,0.73486144372220119,0.26513855627779881,4325538447360,4109261524992,4260655370649.6006,4047622602117.1206]
["2001-01-02",177,null,444,1,3.4211426616489907E-4,0.73520355798836612,0.26479644201163388,4345111019520.001,4127855468544.001,4279934354227.2002,4065937636515.8398]
["2001-01-03",100,null,445,2,6.8422853232979813E-4,0.73588778652069586,0.26411221347930414,4354897305600,4137152440320,4289573846015.999,4075095153715.1987]
["2001-01-04",86,null,446,1,3.4211426616489907E-4,0.73622990078686079,0.26377009921313921,4364683591680,4146449412096,4299213337804.8003,4084252670914.5601]
["2001-01-05",79,null,448,3,1.0263427984946972E-3,0.73725624358535546,0.26274375641464454,4384256163840,4165043355648,4318492321382.4004,4102567705313.2803]
["2001-01-06",72,null,449,1,3.4211426616489907E-4,0.73759835785152039,0.26240164214847961,4394042449920.001,4174340327424.001,4328131813171.2002,4111725222512.6401]
["2001-01-07",74,null,451,2,6.8422853232979813E-4,0.73828258638385014,0.26171741361614986,4413615022080,4192934270976,4347410796748.8003,4130040256911.3599]
["2001-01-08",77,null,452,1,3.4211426616489907E-4,0.73862470065001506,0.26137529934998494,4423401308160,4202231242752,4357050288537.5996,4139197774110.7192]
["2001-01-09",72,null,454,1,3.4211426616489907E-4,0.73896681491617999,0.26103318508382001,4442973880320.001,4220825186304.0005,4376329272115.1997,4157512808509.4395]
["2001-01-10",217,null,455,7,2.3947998631542937E-3,0.74136161477933427,0.25863838522066573,4452760166400,4230122158080,4385968763904,4166670325708.7998]
["2001-01-11",669,null,456,2,6.8422853232979813E-4,0.74204584331166401,0.25795415668833599,4462546452480,4239419129856,4395608255692.7998,4175827842908.1597]
["2001-01-12",975,null,458,1,3.4211426616489907E-4,0.74238795757782894,0.25761204242217106,4482119024640,4258013073408,4414887239270.4004,4194142877306.8804]
["2001-01-13",575,null,460,1,3.4211426616489907E-4,0.74273007184399387,0.25726992815600613,4501691596800,4276607016960,4434166222848,4212457911705.5996]
["2001-01-14",255,null,462,1,3.4211426616489907E-4,0.74307218611015879,0.25692781388984121,4521264168960,4295200960512,4453445206425.6006,4230772946104.3203]
["2001-01-15",184,null,463,1,3.4211426616489907E-4,0.74341430037632372,0.25658569962367628,4531050455040,4304497932288,4463084698214.3994,4239930463303.6792]
["2001-01-16",288,null,464,1,3.4211426616489907E-4,0.74375641464248865,0.25624358535751135,4540836741120.001,4313794904064.0005,4472724190003.1992,4249087980503.0391]
["2001-01-17",319,null,466,1,3.4211426616489907E-4,0.74409852890865358,0.25590147109134642,4560409313280,4332388847616,4492003173580.8008,4267403014901.7607]
["2001-01-18",162,null,468,3,1.0263427984946972E-3,0.74512487170714825,0.25487512829285175,4579981885440,4350982791168,4511282157158.4004,4285718049300.48]
["2001-01-19",661,null,472,1,{"$f":"E390/2923","v":3.4211426616489907E-4},0.74546698597331318,{"$f":"1-G390","v":0.25453301402668682},{"$f":"((400/100)*1000*D390)*28.3168*60*60*24","v":4619127029760},{"$f":"(1-0.05)*I390","v":4388170678272},{"$f":"((394/100)*1000*D390)*28.3168*60*60*24","v":4549840124313.5996},{"$f":"(1-0.05)*K390","v":4322348118097.9194}]
["2001-01-20",1540,null,473,4,1.3684570646595963E-3,{"$f":"G390 + F391","v":0.74683544303797278},0.25316455696202722,4628913315840,4397467650048,4559479616102.4004,4331505635297.2803]
["2001-01-21",1430,null,474,2,6.8422853232979813E-4,0.74751967157030252,0.25248032842969748,4638699601920.001,4406764621824.001,4569119107891.1992,4340663152496.6392]
["2001-01-22",1170,null,475,3,1.0263427984946972E-3,0.7485460143687972,0.2514539856312028,4648485888000,4416061593600,4578758599680,4349820669696]
["2001-01-23",482,null,476,2,6.8422853232979813E-4,0.74923024290112694,0.25076975709887306,4658272174080,4425358565376,4588398091468.8008,4358978186895.3604]
["2001-01-24",280,null,478,2,6.8422853232979813E-4,0.74991447143345669,0.25008552856654331,4677844746240,4443952508928,4607677075046.4004,4377293221294.0801]
["2001-01-25",215,null,479,2,6.8422853232979813E-4,0.75059869996578643,0.24940130003421357,4687631032320.001,4453249480704.001,4617316566835.1992,4386450738493.439]
["2001-01-26",165,null,480,1,3.4211426616489907E-4,0.75094081423195136,0.24905918576804864,4697417318400,4462546452480,4626956058624.001,4395608255692.8008]
["2001-01-27",148,null,482,2,6.8422853232979813E-4,0.7516250427642811,0.2483749572357189,4716989890560,4481140396032,4646235042201.5996,4413923290091.5195]
["2001-01-28",123,null,484,1,3.4211426616489907E-4,0.75196715703044603,0.24803284296955397,4736562462720.001,4499734339584.001,4665514025779.2002,4432238324490.2402]
["2001-01-29",568,null,486,1,3.4211426616489907E-4,0.75230927129661096,0.24769072870338904,4756135034880,4518328283136,4684793009356.7998,4450553358888.96]
["2001-01-30",1120,null,487,1,3.4211426616489907E-4,0.75265138556277589,0.24734861443722411,4765921320960,4527625254912,4694432501145.6006,4459710876088.3203]
["2001-01-31",712,null,489,4,1.3684570646595963E-3,0.75401984262743549,0.24598015737256451,4785493893120.001,4546219198464.001,4713711484723.2002,4478025910487.04]
["2001-02-01",316,null,490,2,6.8422853232979813E-4,0.75470407115976523,0.24529592884023477,4795280179200,4555516170240,4723350976511.999,4487183427686.3984]
["2001-02-02",179,null,492,2,6.8422853232979813E-4,0.75538829969209498,0.24461170030790502,4814852751360,4574110113792,4742629960089.6006,4505498462085.1201]
["2001-02-03",133,null,493,1,3.4211426616489907E-4,0.75573041395825991,0.24426958604174009,4824639037440,4583407085568,4752269451878.4004,4514655979284.4805]
["2001-02-04",106,null,494,1,3.4211426616489907E-4,0.75607252822442483,0.24392747177557517,4834425323520.001,4592704057344.001,4761908943667.2002,4523813496483.8398]
["2001-02-05",92,null,496,1,3.4211426616489907E-4,0.75641464249058976,0.24358535750941024,4853997895680,4611298000896,4781187927244.8008,4542128530882.5605]
["2001-02-06",80,null,499,1,3.4211426616489907E-4,0.75675675675675469,0.24324324324324531,4883356753920.001,4639188916224.001,4810106402611.1992,4569601082480.6387]
["2001-02-07",71,null,500,3,1.0263427984946972E-3,0.75778309955524936,0.24221690044475064,4893143040000,4648485888000,4819745894400,4578758599680]
["2001-02-08",68,null,501,1,3.4211426616489907E-4,0.75812521382141429,0.24187478617858571,4902929326080,4657782859776,4829385386188.8008,4587916116879.3604]
["2001-02-09",78,null,502,1,3.4211426616489907E-4,0.75846732808757922,0.24153267191242078,4912715612160,4667079831552,4839024877977.5996,4597073634078.7197]
["2001-02-10",85,null,503,1,3.4211426616489907E-4,0.75880944235374415,0.24119055764625585,4922501898240,4676376803328,4848664369766.4004,4606231151278.0801]
["2001-02-11",71,null,504,2,6.8422853232979813E-4,0.75949367088607389,0.24050632911392611,4932288184320.001,4685673775104.001,4858303861555.1992,4615388668477.4395]
["2001-02-12",64,null,506,1,3.4211426616489907E-4,0.75983578515223882,0.24016421484776118,4951860756480,4704267718656,4877582845132.8008,4633703702876.1602]
["2001-02-13",61,null,511,1,3.4211426616489907E-4,0.76017789941840375,0.23982210058159625,5000792186880,4750752577536,4925780304076.8008,4679491288872.9609]
["2001-02-14",54,null,514,3,1.0263427984946972E-3,0.76120424221689842,0.23879575778310158,5030151045120.001,4778643492864.001,4954698779443.2002,4706963840471.04]
["2001-02-15",55,null,515,1,3.4211426616489907E-4,0.76154635648306335,0.23845364351693665,5039937331200,4787940464640,4964338271232,4716121357670.3994]
["2001-02-16",64,null,516,1,3.4211426616489907E-4,0.76188847074922827,0.23811152925077173,5049723617280,4797237436416,4973977763020.8008,4725278874869.7607]
["2001-02-17",76,null,517,1,3.4211426616489907E-4,0.7622305850153932,0.2377694149846068,5059509903360,4806534408192,4983617254809.6006,4734436392069.1201]
["2001-02-18",61,null,519,1,3.4211426616489907E-4,0.76257269928155813,0.23742730071844187,5079082475520.001,4825128351744.001,5002896238387.2002,4752751426467.8398]
["2001-02-19",69,null,521,1,3.4211426616489907E-4,0.76291481354772306,0.23708518645227694,5098655047680,4843722295296,5022175221964.8008,4771066460866.5605]
["2001-02-20",71,null,523,1,3.4211426616489907E-4,0.76325692781388799,0.23674307218611201,5118227619840,4862316238848,5041454205542.4004,4789381495265.2803]
["2001-02-21",66,null,525,1,3.4211426616489907E-4,0.76359904208005291,0.23640095791994709,5137800192000,4880910182400,5060733189120.001,4807696529664.001]
["2001-02-22",62,null,526,2,6.8422853232979813E-4,0.76428327061238266,0.23571672938761734,5147586478080,4890207154176,5070372680908.8008,4816854046863.3604]
["2001-02-23",64,null,529,1,3.4211426616489907E-4,0.76462538487854759,0.23537461512145241,5176945336320.001,4918098069504.001,5099291156275.2002,4844326598461.4404]
["2001-02-24",69,null,532,1,3.4211426616489907E-4,0.76496749914471251,0.23503250085528749,5206304194560,4945988984832,5128209631641.5996,4871799150059.5195]
["2001-02-25",69,null,533,2,6.8422853232979813E-4,0.76565172767704226,0.23434827232295774,5216090480640,4955285956608,5137849123430.4004,4880956667258.8799]
["2001-02-26",62,null,536,2,6.8422853232979813E-4,0.766335956209372,0.233664043790628,5245449338880,4983176871936,5166767598796.8008,4908429218856.9609]
["2001-02-27",55,null,537,2,6.8422853232979813E-4,0.76702018474170175,0.23297981525829825,5255235624960,4992473843712,5176407090585.6006,4917586736056.3203]
["2001-02-28",56,null,545,1,3.4211426616489907E-4,0.76736229900786668,0.23263770099213332,5333525913600,5066849617920,5253523024896,4990846873651.2002]
["2001-03-01",70,null,546,1,3.4211426616489907E-4,0.76770441327403161,0.23229558672596839,5343312199680,5076146589696,5263162516684.8008,5000004390850.5605]
["2001-03-02",516,null,548,1,3.4211426616489907E-4,0.76804652754019653,0.23195347245980347,5362884771840,5094740533248,5282441500262.4004,5018319425249.2803]
["2001-03-03",192,null,549,1,3.4211426616489907E-4,0.76838864180636146,0.23161135819363854,5372671057920.001,5104037505024.001,5292080992051.1992,5027476942448.6387]
["2001-03-04",118,null,550,1,3.4211426616489907E-4,0.76873075607252639,0.23126924392747361,5382457344000,5113334476800,5301720483840,5036634459648]
["2001-03-05",836,null,554,2,6.8422853232979813E-4,0.76941498460485613,0.23058501539514387,5421602488320.001,5150522363904.001,5340278450995.1992,5073264528445.4395]
["2001-03-06",1630,null,555,1,3.4211426616489907E-4,0.76975709887102106,0.23024290112897894,5431388774400,5159819335680,5349917942784.001,5082422045644.8008]
["2001-03-07",1540,null,557,1,3.4211426616489907E-4,0.77009921313718599,0.22990078686281401,5450961346560,5178413279232,5369196926361.5996,5100737080043.5195]
["2001-03-08",434,null,558,1,3.4211426616489907E-4,0.77044132740335092,0.22955867259664908,5460747632640,5187710251008,5378836418150.3994,5109894597242.8789]
["2001-03-09",332,null,559,2,6.8422853232979813E-4,0.77112555593568066,0.22887444406431934,5470533918720.001,5197007222784.001,5388475909939.2002,5119052114442.2402]
["2001-03-10",287,null,562,3,1.0263427984946972E-3,0.77215189873417533,0.22784810126582467,5499892776960,5224898138112,5417394385305.5996,5146524666040.3193]
["2001-03-11",182,null,563,1,3.4211426616489907E-4,0.77249401300034026,0.22750598699965974,5509679063040,5234195109888,5427033877094.4004,5155682183239.6797]
["2001-03-12",227,null,568,1,3.4211426616489907E-4,0.77283612726650519,0.22716387273349481,5558610493440,5280679968768,5475231336038.4004,5201469769236.4805]
["2001-03-13",189,null,569,1,3.4211426616489907E-4,0.77317824153267012,0.22682175846732988,5568396779520.001,5289976940544.001,5484870827827.2002,5210627286435.8398]
["2001-03-14",418,null,572,2,6.8422853232979813E-4,0.77386247006499986,0.22613752993500014,5597755637760,5317867855872,5513789303193.5996,5238099838033.9189]
["2001-03-15",993,null,573,1,3.4211426616489907E-4,0.77420458433116479,0.22579541566883521,5607541923840,5327164827648,5523428794982.4004,5247257355233.2803]
["2001-03-16",1610,null,575,2,6.8422853232979813E-4,0.77488881286349454,0.22511118713650546,5627114496000,5345758771200,5542707778560,5265572389632]
["2001-03-17",1470,null,576,1,3.4211426616489907E-4,0.77523092712965946,0.22476907287034054,5636900782080,5355055742976,5552347270348.8008,5274729906831.3604]
["2001-03-18",464,null,577,1,3.4211426616489907E-4,0.77557304139582439,0.22442695860417561,5646687068160,5364352714752,5561986762137.5996,5283887424030.7197]
["2001-03-19",710,null,579,1,3.4211426616489907E-4,0.77591515566198932,0.22408484433801068,5666259640320.001,5382946658304.001,5581265745715.1992,5302202458429.4395]
["2001-03-20",468,null,580,2,6.8422853232979813E-4,0.77659938419431906,0.22340061580568094,5676045926400,5392243630080,5590905237504,5311359975628.7998]
["2001-03-21",159,null,581,2,6.8422853232979813E-4,0.77728361272664881,0.22271638727335119,5685832212480,5401540601856,5600544729292.7998,5320517492828.1592]
["2001-03-22",122,null,585,1,3.4211426616489907E-4,0.77762572699281374,0.22237427300718626,5724977356800,5438728488960,5639102696448,5357147561625.5996]
["2001-03-23",106,null,586,1,3.4211426616489907E-4,0.77796784125897867,0.22203215874102133,5734763642880,5448025460736,5648742188236.8008,5366305078824.9609]
["2001-03-24",113,null,587,2,{"$f":"E454/2923","v":6.8422853232979813E-4},0.77865206979130841,{"$f":"1-G454","v":0.22134793020869159},{"$f":"((400/100)*1000*D454)*28.3168*60*60*24","v":5744549928960},{"$f":"(1-0.05)*I454","v":5457322432512},{"$f":"((394/100)*1000*D454)*28.3168*60*60*24","v":5658381680025.6006},{"$f":"(1-0.05)*K454","v":5375462596024.3203}]
["2001-03-25",104,null,588,2,6.8422853232979813E-4,{"$f":"G454 + F455","v":0.77933629832363815},0.22066370167636185,5754336215040,5466619404288,5668021171814.3994,5384620113223.6787]
["2001-03-26",93,null,589,1,3.4211426616489907E-4,0.77967841258980308,0.22032158741019692,5764122501120.001,5475916376064.001,5677660663603.1992,5393777630423.0391]
["2001-03-27",501,null,592,1,3.4211426616489907E-4,0.78002052685596801,0.21997947314403199,5793481359360,5503807291392,5706579138969.6006,5421250182021.1201]
["2001-03-28",1380,null,593,2,6.8422853232979813E-4,0.78070475538829776,0.21929524461170224,5803267645440.001,5513104263168.001,5716218630758.4004,5430407699220.4805]
["2001-03-29",691,null,594,1,3.4211426616489907E-4,0.78104686965446268,0.21895313034553732,5813053931520,5522401234944,5725858122547.2002,5439565216419.8398]
["2001-03-30",947,null,598,2,6.8422853232979813E-4,0.78173109818679243,0.21826890181320757,5852199075840.001,5559589122048.001,5764416089702.4004,5476195285217.2803]
["2001-03-31",993,null,606,1,3.4211426616489907E-4,0.78207321245295736,0.21792678754704264,5930489364480,5633964896256,5841532024012.7998,5549455422812.1592]
["2001-04-01",1250,null,607,1,3.4211426616489907E-4,0.78241532671912228,0.21758467328087772,5940275650560.001,5643261868032.001,5851171515801.5996,5558612940011.5195]
["2001-04-02",1320,null,613,1,3.4211426616489907E-4,0.78275744098528721,0.21724255901471279,5998993367040.001,5699043698688.001,5909008466534.3994,5613558043207.6787]
["2001-04-03",1630,null,614,2,6.8422853232979813E-4,0.78344166951761696,0.21655833048238304,6008779653120,5708340670464,5918647958323.1992,5622715560407.0391]
["2001-04-04",1800,null,615,2,6.8422853232979813E-4,0.7841258980499467,0.2158741019500533,6018565939200,5717637642240,5928287450111.999,5631873077606.3984]
["2001-04-05",1750,null,616,1,3.4211426616489907E-4,0.78446801231611163,0.21553198768388837,6028352225280,5726934614016,5937926941900.8008,5641030594805.7607]
["2001-04-06",1700,null,618,2,6.8422853232979813E-4,0.78515224084844137,0.21484775915155863,6047924797440.001,5745528557568.001,5957205925478.4004,5659345629204.4805]
["2001-04-07",1630,null,621,1,3.4211426616489907E-4,0.7854943551146063,0.2145056448853937,6077283655680,5773419472896,5986124400844.8008,5686818180802.5605]
["2001-04-08",1520,null,627,1,3.4211426616489907E-4,0.78583646938077123,0.21416353061922877,6136001372160.001,5829201303552.001,6043961351577.5996,5741763283998.7197]
["2001-04-09",904,null,628,1,3.4211426616489907E-4,0.78617858364693616,0.21382141635306384,6145787658240.001,5838498275328.001,6053600843366.4004,5750920801198.0801]
["2001-04-10",290,null,629,1,3.4211426616489907E-4,0.78652069791310109,0.21347930208689891,6155573944320,5847795247104,6063240335155.2002,5760078318397.4395]
["2001-04-11",102,null,631,1,3.4211426616489907E-4,0.78686281217926601,0.21313718782073399,6175146516480,5866389190656,6082519318732.7998,5778393352796.1592]
["2001-04-12",85,null,633,1,3.4211426616489907E-4,0.78720492644543094,0.21279507355456906,6194719088640.002,5884983134208.002,6101798302310.3994,5796708387194.8789]
["2001-04-13",71,null,634,1,3.4211426616489907E-4,0.78754704071159587,0.21245295928840413,6204505374720,5894280105984,6111437794099.1992,5805865904394.2393]
["2001-04-14",65,null,636,1,3.4211426616489907E-4,0.7878891549777608,0.2121108450222392,6224077946880,5912874049536,6130716777676.8008,5824180938792.9609]
["2001-04-15",60,null,637,1,3.4211426616489907E-4,0.78823126924392573,0.21176873075607427,6233864232960,5922171021312,6140356269465.6006,5833338455992.3203]
["2001-04-16",211,null,641,1,3.4211426616489907E-4,0.78857338351009065,0.21142661648990935,6273009377280,5959358908416,6178914236620.7998,5869968524789.7598]
["2001-04-17",132,null,644,3,1.0263427984946972E-3,0.78959972630858533,0.21040027369141467,6302368235520,5987249823744,6207832711987.2002,5897441076387.8398]
["2001-04-18",695,null,645,1,3.4211426616489907E-4,0.78994184057475025,0.21005815942524975,6312154521600,5996546795520,6217472203776.001,5906598593587.2002]
["2001-04-19",1140,null,649,1,3.4211426616489907E-4,0.79028395484091518,0.20971604515908482,6351299665920,6033734682624,6256030170931.1992,5943228662384.6387]
["2001-04-20",234,null,650,1,3.4211426616489907E-4,0.79062606910708011,0.20937393089291989,6361085952000,6043031654400,6265669662720,5952386179584]
["2001-04-21",108,null,655,2,6.8422853232979813E-4,0.79131029763940985,0.20868970236059015,6410017382400,6089516513280,6313867121664.001,5998173765580.8008]
["2001-04-22",84,null,658,1,3.4211426616489907E-4,0.79165241190557478,0.20834758809442522,6439376240640.002,6117407428608.002,6342785597030.3994,6025646317178.8789]
["2001-04-23",73,null,659,2,6.8422853232979813E-4,0.79233664043790453,0.20766335956209547,6449162526720,6126704400384,6352425088819.2002,6034803834378.2402]
["2001-04-24",131,null,661,1,3.4211426616489907E-4,0.79267875470406945,0.20732124529593055,6468735098880,6145298343936,6371704072396.8008,6053118868776.9609]
["2001-04-25",221,null,662,1,3.4211426616489907E-4,0.79302086897023438,0.20697913102976562,6478521384960,6154595315712,6381343564185.5996,6062276385976.3193]
["2001-04-26",179,null,663,1,3.4211426616489907E-4,0.79336298323639931,0.20663701676360069,6488307671040.002,6163892287488.002,6390983055974.4004,6071433903175.6797]
["2001-04-27",114,null,664,1,3.4211426616489907E-4,0.79370509750256424,0.20629490249743576,6498093957120,6173189259264,6400622547763.2012,6080591420375.041]
["2001-04-28",80,null,669,1,3.4211426616489907E-4,0.79404721176872917,0.20595278823127083,6547025387520,6219674118144,6448820006707.2002,6126379006371.8398]
["2001-04-29",59,null,673,1,3.4211426616489907E-4,0.79438932603489409,0.20561067396510591,6586170531840.002,6256862005248.002,6487377973862.4004,6163009075169.2803]
["2001-04-30",53,null,674,2,6.8422853232979813E-4,0.79507355456722384,0.20492644543277616,6595956817920,6266158977024,6497017465651.2002,6172166592368.6396]
["2001-05-01",50,null,680,2,6.8422853232979813E-4,0.79575778309955358,0.20424221690044642,6654674534400,6321940807680,6554854416384.001,6227111695564.8008]
["2001-05-02",46,null,682,1,3.4211426616489907E-4,0.79609989736571851,0.20390010263428149,6674247106560,6340534751232,6574133399961.6006,6245426729963.5205]
["2001-05-03",46,null,683,2,6.8422853232979813E-4,0.79678412589804826,0.20321587410195174,6684033392640.002,6349831723008.002,6583772891750.4004,6254584247162.8799]
["2001-05-04",45,null,685,2,6.8422853232979813E-4,0.797468354430378,0.202531645569622,6703605964800,6368425666560,6603051875328,6272899281561.5996]
["2001-05-05",261,null,688,2,6.8422853232979813E-4,0.79815258296270775,0.20184741703729225,6732964823040.002,6396316581888.002,6631970350694.4004,6300371833159.6797]
["2001-05-06",55,null,690,1,3.4211426616489907E-4,0.79849469722887267,0.20150530277112733,6752537395200,6414910525440,6651249334272,6318686867558.3994]
["2001-05-07",503,null,691,1,3.4211426616489907E-4,0.7988368114950376,0.2011631885049624,6762323681280,6424207497216,6660888826060.8008,6327844384757.7607]
["2001-05-08",188,null,695,2,6.8422853232979813E-4,0.79952104002736735,0.20047895997263265,6801468825600,6461395384320,6699446793216,6364474453555.1992]
["2001-05-09",674,null,699,1,3.4211426616489907E-4,0.79986315429353227,0.20013684570646773,6840613969920,6498583271424,6738004760371.2012,6401104522352.6406]
["2001-05-10",1350,null,701,1,3.4211426616489907E-4,0.8002052685596972,0.1997947314403028,6860186542080,6517177214976,6757283743948.8008,6419419556751.3604]
["2001-05-11",1250,null,703,2,6.8422853232979813E-4,0.80088949709202695,0.19911050290797305,6879759114240.002,6535771158528.002,6776562727526.3994,6437734591150.0791]
["2001-05-12",897,null,704,1,3.4211426616489907E-4,0.80123161135819188,0.19876838864180812,6889545400320,6545068130304,6786202219315.1992,6446892108349.4385]
["2001-05-13",533,null,705,2,6.8422853232979813E-4,0.80191583989052162,0.19808416010947838,6899331686400,6554365102080,6795841711104,6456049625548.7998]
["2001-05-14",394,null,707,2,6.8422853232979813E-4,0.80260006842285136,0.19739993157714864,6918904258560,6572959045632,6815120694681.6006,6474364659947.5205]
["2001-05-15",169,null,708,1,3.4211426616489907E-4,0.80294218268901629,0.19705781731098371,6928690544640.002,6582256017408.002,6824760186470.3994,6483522177146.8789]
["2001-05-16",119,null,710,1,3.4211426616489907E-4,0.80328429695518122,0.19671570304481878,6948263116800,6600849960960,6844039170048.002,6501837211545.6016]
["2001-05-17",95,null,712,3,1.0263427984946972E-3,0.80431063975367589,0.19568936024632411,6967835688960,6619443904512,6863318153625.5996,6520152245944.3193]
["2001-05-18",74,null,714,1,3.4211426616489907E-4,0.80465275401984082,0.19534724598015918,6987408261120,6638037848064,6882597137203.1992,6538467280343.0391]
["2001-05-19",58,null,715,2,6.8422853232979813E-4,0.80533698255217057,0.19466301744782943,6997194547200,6647334819840,6892236628992,6547624797542.3994]
["2001-05-20",56,null,718,1,3.4211426616489907E-4,0.80567909681833549,0.19432090318166451,7026553405440.002,6675225735168.002,6921155104358.4004,6575097349140.4805]
["2001-05-21",52,null,721,1,3.4211426616489907E-4,0.80602121108450042,0.19397878891549958,7055912263680,6703116650496,6950073579724.8008,6602569900738.5605]
["2001-05-22",55,null,722,1,3.4211426616489907E-4,0.80636332535066535,0.19363667464933465,7065698549760,6712413622272,6959713071513.5996,6611727417937.9189]
["2001-05-23",45,null,724,2,6.8422853232979813E-4,0.80704755388299509,0.19295244611700491,7085271121920,6731007565824,6978992055091.2012,6630042452336.6406]
["2001-05-24",46,null,728,3,1.0263427984946972E-3,0.80807389668148977,0.19192610331851023,7124416266240.002,6768195452928.002,7017550022246.4004,6666672521134.0801]
["2001-05-25",50,null,729,1,3.4211426616489907E-4,0.8084160109476547,0.1915839890523453,7134202552320,6777492424704,7027189514035.1992,6675830038333.4385]
["2001-05-26",200,null,731,1,3.4211426616489907E-4,0.80875812521381962,0.19124187478618038,7153775124480,6796086368256,7046468497612.8008,6694145072732.1602]
["2001-05-27",300,null,735,1,{"$f":"E518/2923","v":3.4211426616489907E-4},0.80910023947998455,{"$f":"1-G518","v":0.19089976052001545},{"$f":"((400/100)*1000*D518)*28.3168*60*60*24","v":7192920268800},{"$f":"(1-0.05)*I518","v":6833274255360},{"$f":"((394/100)*1000*D518)*28.3168*60*60*24","v":7085026464768.002},{"$f":"(1-0.05)*K518","v":6730775141529.6016}]
["2001-05-28",150,null,739,1,3.4211426616489907E-4,{"$f":"G518 + F519","v":0.80944235374614948},0.19055764625385052,7232065413120,6870462142464,7123584431923.1992,6767405210327.0391]
["2001-05-29",90,null,740,1,3.4211426616489907E-4,0.80978446801231441,0.19021553198768559,7241851699200,6879759114240,7133223923712,6776562727526.3994]
["2001-05-30",61,null,743,1,3.4211426616489907E-4,0.81012658227847933,0.18987341772152067,7271210557440.002,6907650029568.002,7162142399078.4004,6804035279124.4805]
["2001-05-31",53,null,747,1,3.4211426616489907E-4,0.81046869654464426,0.18953130345535574,7310355701760,6944837916672,7200700366233.5996,6840665347921.9189]
["2001-06-01",71,null,748,1,3.4211426616489907E-4,0.81081081081080919,0.18918918918919081,7320141987840.002,6954134888448.002,7210339858022.3994,6849822865121.2793]
["2001-06-02",64,null,750,3,1.0263427984946972E-3,0.81183715360930386,0.18816284639069614,7339714560000,6972728832000,7229618841600,6868137899520]
["2001-06-03",58,null,756,1,3.4211426616489907E-4,0.81217926787546879,0.18782073212453121,7398432276480,7028510662656,7287455792332.8008,6923083002716.1602]
["2001-06-04",49,null,757,1,3.4211426616489907E-4,0.81252138214163372,0.18747861785836628,7408218562560,7037807634432,7297095284121.5996,6932240519915.5195]
["2001-06-05",85,null,758,1,3.4211426616489907E-4,0.81286349640779865,0.18713650359220135,7418004848640.002,7047104606208.002,7306734775910.3994,6941398037114.8789]
["2001-06-06",145,null,760,2,6.8422853232979813E-4,0.81354772494012839,0.18645227505987161,7437577420800,7065698549760,7326013759488,6959713071513.5996]
["2001-06-07",168,null,762,1,3.4211426616489907E-4,0.81388983920629332,0.18611016079370668,7457149992960,7084292493312,7345292743065.6006,6978028105912.3203]
["2001-06-08",350,null,766,1,3.4211426616489907E-4,0.81423195347245825,0.18576804652754175,7496295137280,7121480380416,7383850710220.7988,7014658174709.7588]
["2001-06-09",1120,null,768,1,3.4211426616489907E-4,0.81457406773862318,0.18542593226137682,7515867709440.002,7140074323968.002,7403129693798.3994,7032973209108.4795]
["2001-06-10",310,null,770,2,6.8422853232979813E-4,0.81525829627095292,0.18474170372904708,7535440281600,7158668267520,7422408677376.002,7051288243507.2012]
["2001-06-11",306,null,772,1,3.4211426616489907E-4,0.81560041053711785,0.18439958946288215,7555012853760,7177262211072,7441687660953.6006,7069603277905.9199]
["2001-06-12",1360,null,775,1,3.4211426616489907E-4,0.81594252480328278,0.18405747519671722,7584371712000,7205153126400,7470606136320,7097075829504]
["2001-06-13",1630,null,776,1,3.4211426616489907E-4,0.8162846390694477,0.1837153609305523,7594157998080,7214450098176,7480245628108.7988,7106233346703.3584]
["2001-06-14",1560,null,780,2,6.8422853232979813E-4,0.81696886760177745,0.18303113239822255,7633303142400,7251637985280,7518803595264,7142863415500.7998]
["2001-06-15",592,null,784,1,3.4211426616489907E-4,0.81731098186794238,0.18268901813205762,7672448286720,7288825872384,7557361562419.2012,7179493484298.2412]
["2001-06-16",45,null,787,2,6.8422853232979813E-4,0.81799521040027212,0.18200478959972788,7701807144960,7316716787712,7586280037785.5996,7206966035896.3193]
["2001-06-17",305,null,791,1,3.4211426616489907E-4,0.81833732466643705,0.18166267533356295,7740952289280,7353904674816,7624838004940.8008,7243596104693.7607]
["2001-06-18",1170,null,792,1,3.4211426616489907E-4,0.81867943893260198,0.18132056106739802,7750738575360,7363201646592,7634477496729.6006,7252753621893.1201]
["2001-06-19",1380,null,794,1,3.4211426616489907E-4,0.81902155319876691,0.18097844680123309,7770311147520,7381795590144,7653756480307.1992,7271068656291.8389]
["2001-06-20",1460,null,796,2,6.8422853232979813E-4,0.81970578173109665,0.18029421826890335,7789883719680,7400389533696,7673035463884.8008,7289383690690.5605]
["2001-06-21",919,null,799,2,6.8422853232979813E-4,0.82039001026342639,0.17960998973657361,7819242577920,7428280449024,7701953939251.2012,7316856242288.6406]
["2001-06-22",621,null,807,2,6.8422853232979813E-4,0.82107423879575614,0.17892576120424386,7897532866560,7502656223232,7779069873561.6006,7390116379883.5205]
["2001-06-23",885,null,808,1,3.4211426616489907E-4,0.82141635306192107,0.17858364693807893,7907319152640.002,7511953195008.002,7788709365350.4004,7399273897082.8799]
["2001-06-24",308,null,809,1,3.4211426616489907E-4,0.821758467328086,0.178241532671914,7917105438720,7521250166784,7798348857139.2012,7408431414282.2412]
["2001-06-25",91,null,812,1,3.4211426616489907E-4,0.82210058159425092,0.17789941840574908,7946464296960,7549141082112,7827267332505.5996,7435903965880.3193]
["2001-06-26",75,null,822,1,3.4211426616489907E-4,0.82244269586041585,0.17755730413958415,8044327157760,7642110799872,7923662250393.6006,7527479137873.9199]
["2001-06-27",90,null,825,2,6.8422853232979813E-4,0.8231269243927456,0.1768730756072544,8073686016000,7670001715200,7952580725760,7554951689472]
["2001-06-28",94,null,835,1,3.4211426616489907E-4,0.82346903865891052,0.17653096134108948,8171548876800,7762971432960,8048975643648.002,7646526861465.6016]
["2001-06-29",144,null,836,2,6.8422853232979813E-4,0.82415326719124027,0.17584673280875973,8181335162880,7772268404736,8058615135436.8008,7655684378664.96]
["2001-06-30",159,null,838,1,3.4211426616489907E-4,0.8244953814574052,0.1755046185425948,8200907735040.002,7790862348288.002,8077894119014.4004,7673999413063.6797]
["2001-07-01",105,null,842,1,3.4211426616489907E-4,0.82483749572357012,0.17516250427642988,8240052879360,7828050235392,8116452086169.6006,7710629481861.1201]
["2001-07-02",392,null,843,1,3.4211426616489907E-4,0.82517960998973505,0.17482039001026495,8249839165440.002,7837347207168.002,8126091577958.4004,7719786999060.4805]
["2001-07-03",52,null,845,1,3.4211426616489907E-4,0.82552172425589998,0.17447827574410002,8269411737600,7855941150720,8145370561536.002,7738102033459.2012]
["2001-07-04",22,null,846,2,6.8422853232979813E-4,0.82620595278822972,0.17379404721177028,8279198023680,7865238122496,8155010053324.8008,7747259550658.5605]
["2001-07-05",271,null,847,1,3.4211426616489907E-4,0.82654806705439465,0.17345193294560535,8288984309760,7874535094272,8164649545113.5996,7756417067857.9189]
["2001-07-06",557,null,848,1,3.4211426616489907E-4,0.82689018132055958,0.17310981867944042,8298770595840.002,7883832066048.002,8174289036902.3994,7765574585057.2793]
["2001-07-07",403,null,849,4,1.3684570646595963E-3,0.82825863838521918,0.17174136161478082,8308556881920,7893129037824,8183928528691.2012,7774732102256.6406]
["2001-07-08",156,null,850,4,1.3684570646595963E-3,0.82962709544987878,0.17037290455012122,8318343168000,7902426009600,8193568020480,7783889619456]
["2001-07-09",83,null,852,1,3.4211426616489907E-4,0.82996920971604371,0.17003079028395629,8337915740160,7921019953152,8212847004057.6006,7802204653854.7197]
["2001-07-10",56,null,853,2,6.8422853232979813E-4,0.83065343824837345,0.16934656175162655,8347702026240.002,7930316924928.002,8222486495846.4004,7811362171054.0801]
["2001-07-11",47,null,867,1,3.4211426616489907E-4,0.83099555251453838,0.16900444748546162,8484710031360,8060474529792,8357439380889.6006,7939567411845.1201]
["2001-07-12",47,null,869,2,6.8422853232979813E-4,0.83167978104686813,0.16832021895313187,8504282603520,8079068473344,8376718364467.1992,7957882446243.8389]
["2001-07-13",43,null,872,1,3.4211426616489907E-4,0.83202189531303306,0.16797810468696694,8533641461760,8106959388672,8405636839833.5996,7985354997841.9189]
["2001-07-14",42,null,875,1,3.4211426616489907E-4,0.83236400957919798,0.16763599042080202,8563000320000,8134850304000,8434555315200,8012827549440]
["2001-07-15",42,null,881,1,3.4211426616489907E-4,0.83270612384536291,0.16729387615463709,8621718036480,8190632134656,8492392265932.8008,8067772652636.1602]
["2001-07-16",69,null,882,2,6.8422853232979813E-4,0.83339035237769266,0.16660964762230734,8631504322560,8199929106432,8502031757721.5996,8076930169835.5195]
["2001-07-17",177,null,883,1,3.4211426616489907E-4,0.83373246664385758,0.16626753335614242,8641290608640.002,8209226078208.002,8511671249510.3994,8086087687034.8789]
["2001-07-18",190,null,885,1,3.4211426616489907E-4,0.83407458091002251,0.16592541908997749,8660863180800,8227820021760,8530950233088,8104402721433.5996]
["2001-07-19",140,null,886,1,3.4211426616489907E-4,0.83441669517618744,0.16558330482381256,8670649466880,8237116993536,8540589724876.8008,8113560238632.96]
["2001-07-20",97,null,888,1,3.4211426616489907E-4,0.83475880944235237,0.16524119055764763,8690222039040.002,8255710937088.002,8559868708454.4004,8131875273031.6797]
["2001-07-21",77,null,889,2,6.8422853232979813E-4,0.83544303797468211,0.16455696202531789,8700008325120,8265007908864,8569508200243.2012,8141032790231.041]
["2001-07-22",54,null,891,1,3.4211426616489907E-4,0.83578515224084704,0.16421484775915296,8719580897280,8283601852416,8588787183820.7988,8159347824629.7588]
["2001-07-23",49,null,897,1,3.4211426616489907E-4,0.83612726650701197,0.16387273349298803,8778298613760,8339383683072,8646624134553.6006,8214292927825.9199]
["2001-07-24",47,null,902,1,3.4211426616489907E-4,0.8364693807731769,0.1635306192268231,8827230044160,8385868541952,8694821593497.6006,8260080513822.7197]
["2001-07-25",59,null,903,1,3.4211426616489907E-4,0.83681149503934182,0.16318850496065818,8837016330240.002,8395165513728.001,8704461085286.4004,8269238031022.0801]
["2001-07-26",88,null,904,2,6.8422853232979813E-4,0.83749572357167157,0.16250427642832843,8846802616320,8404462485504,8714100577075.1992,8278395548221.4385]
["2001-07-27",166,null,908,2,6.8422853232979813E-4,0.83817995210400131,0.16182004789599869,8885947760640.002,8441650372608.001,8752658544230.3994,8315025617018.8789]
["2001-07-28",32,null,913,1,3.4211426616489907E-4,0.83852206637016624,0.16147793362983376,8934879191040.002,8488135231488.001,8800856003174.4004,8360813203015.6797]
["2001-07-29",22,null,915,1,3.4211426616489907E-4,0.83886418063633117,0.16113581936366883,8954451763200,8506729175040,8820134986752,8379128237414.3994]
["2001-07-30",411,null,916,1,{"$f":"E582/2923","v":3.4211426616489907E-4},0.8392062949024961,{"$f":"1-G582","v":0.1607937050975039},{"$f":"((400/100)*1000*D582)*28.3168*60*60*24","v":8964238049280},{"$f":"(1-0.05)*I582","v":8516026146816},{"$f":"((394/100)*1000*D582)*28.3168*60*60*24","v":8829774478540.8008},{"$f":"(1-0.05)*K582","v":8388285754613.7607}]
["2001-07-31",123,null,919,2,6.8422853232979813E-4,{"$f":"G582 + F583","v":0.83989052343482584},0.16010947656517416,8993596907520,8543917062144,8858692953907.1992,8415758306211.8389]
["2001-08-01",78,null,922,2,6.8422853232979813E-4,0.84057475196715559,0.15942524803284441,9022955765760,8571807977472,8887611429273.6016,8443230857809.9209]
["2001-08-02",73,null,923,1,3.4211426616489907E-4,0.84091686623332051,0.15908313376667949,9032742051840.002,8581104949248.001,8897250921062.3984,8452388375009.2783]
["2001-08-03",69,null,925,1,3.4211426616489907E-4,0.84125898049948544,0.15874101950051456,9052314624000,8599698892800,8916529904640.002,8470703409408.001]
["2001-08-04",75,null,926,1,3.4211426616489907E-4,0.84160109476565037,0.15839890523434963,9062100910080,8608995864576,8926169396428.7988,8479860926607.3584]
["2001-08-05",78,null,927,1,3.4211426616489907E-4,0.8419432090318153,0.1580567909681847,9071887196160,8618292836352,8935808888217.6016,8489018443806.7207]
["2001-08-06",151,null,929,2,6.8422853232979813E-4,0.84262743756414504,0.15737256243585496,9091459768320,8636886779904,8955087871795.1992,8507333478205.4385]
["2001-08-07",390,null,932,1,3.4211426616489907E-4,0.84296955183030997,0.15703044816969003,9120818626560,8664777695232,8984006347161.6016,8534806029803.5215]
["2001-08-08",204,null,933,1,3.4211426616489907E-4,0.8433116660964749,0.1566883339035251,9130604912640.002,8674074667008.001,8993645838950.4004,8543963547002.8799]
["2001-08-09",119,null,935,1,3.4211426616489907E-4,0.84365378036263983,0.15634621963736017,9150177484800,8692668610560,9012924822528,8562278581401.5996]
["2001-08-10",84,null,938,1,3.4211426616489907E-4,0.84399589462880475,0.15600410537119525,9179536343040.002,8720559525888.001,9041843297894.4004,8589751132999.6797]
["2001-08-11",59,null,942,1,3.4211426616489907E-4,0.84433800889496968,0.15566199110503032,9218681487360,8757747412992,9080401265049.6016,8626381201797.1211]
["2001-08-12",48,null,944,1,3.4211426616489907E-4,0.84468012316113461,0.15531987683886539,9238254059520,8776341356544,9099680248627.1992,8644696236195.8389]
["2001-08-13",46,null,945,1,3.4211426616489907E-4,0.84502223742729954,0.15497776257270046,9248040345600,8785638328320,9109319740416,8653853753395.1992]
["2001-08-14",43,null,946,2,6.8422853232979813E-4,0.84570646595962928,0.15429353404037072,9257826631680,8794935300096,9118959232204.8008,8663011270594.5605]
["2001-08-15",41,null,947,1,3.4211426616489907E-4,0.84604858022579421,0.15395141977420579,9267612917760,8804232271872,9128598723993.6016,8672168787793.9209]
["2001-08-16",39,null,948,2,6.8422853232979813E-4,0.84673280875812396,0.15326719124187604,9277399203840.002,8813529243648.002,9138238215782.3984,8681326304993.2783]
["2001-08-17",36,null,950,1,3.4211426616489907E-4,0.84707492302428888,0.15292507697571112,9296971776000,8832123187200,9157517199360,8699641339392]
["2001-08-18",37,null,951,1,3.4211426616489907E-4,0.84741703729045381,0.15258296270954619,9306758062080,8841420158976,9167156691148.8008,8708798856591.3604]
["2001-08-19",36,null,957,1,3.4211426616489907E-4,0.84775915155661874,0.15224084844338126,9365475778560,8897201989632,9224993641881.6016,8763743959787.5215]
["2001-08-20",35,null,958,1,3.4211426616489907E-4,0.84810126582278367,0.15189873417721633,9375262064640.002,8906498961408.002,9234633133670.3984,8772901476986.8779]
["2001-08-21",37,null,964,1,3.4211426616489907E-4,0.8484433800889486,0.1515566199110514,9433979781120,8962280792064,9292470084403.1992,8827846580183.0391]
["2001-08-22",39,null,967,1,3.4211426616489907E-4,0.84878549435511352,0.15121450564488648,9463338639360,8990171707392,9321388559769.6016,8855319131781.1211]
["2001-08-23",40,null,969,2,6.8422853232979813E-4,0.84946972288744327,0.15053027711255673,9482911211520,9008765650944,9340667543347.1992,8873634166179.8379]
["2001-08-24",39,null,974,1,3.4211426616489907E-4,0.8498118371536082,0.1501881628463918,9531842641920,9055250509824,9388865002291.2012,8919421752176.6406]
["2001-08-25",37,null,975,1,3.4211426616489907E-4,0.85015395141977312,0.14984604858022688,9541628928000,9064547481600,9398504494080,8928579269376]
["2001-08-26",44,null,977,1,3.4211426616489907E-4,0.85049606568593805,0.14950393431406195,9561201500160,9083141425152,9417783477657.6016,8946894303774.7207]
["2001-08-27",119,null,978,1,3.4211426616489907E-4,0.85083817995210298,0.14916182004789702,9570987786240.002,9092438396928.002,9427422969446.4004,8956051820974.0801]
["2001-08-28",316,null,980,1,3.4211426616489907E-4,0.85118029421826791,0.14881970578173209,9590560358400,9111032340480,9446701953023.998,8974366855372.7969]
["2001-08-29",140,null,984,1,3.4211426616489907E-4,0.85152240848443284,0.14847759151556716,9629705502720,9148220227584,9485259920179.2012,9010996924170.2402]
["2001-08-30",198,null,987,2,6.8422853232979813E-4,0.85220663701676258,0.14779336298323742,9659064360960,9176111142912,9514178395545.6016,9038469475768.3203]
["2001-08-31",701,null,989,1,3.4211426616489907E-4,0.85254875128292751,0.14745124871707249,9678636933120,9194705086464,9533457379123.1992,9056784510167.0391]
["2001-09-01",479,null,990,1,3.4211426616489907E-4,0.85289086554909244,0.14710913445090756,9688423219200,9204002058240,9543096870912,9065942027366.4004]
["2001-09-02",276,null,993,2,6.8422853232979813E-4,0.85357509408142218,0.14642490591857782,9717782077440.002,9231892973568.002,9572015346278.4004,9093414578964.4805]
["2001-09-03",288,null,1000,4,1.3684570646595963E-3,0.85494355114608178,0.14505644885391822,9786286080000,9296971776000,9639491788800,9157517199360]
["2001-09-04",181,null,1010,2,6.8422853232979813E-4,0.85562777967841153,0.14437222032158847,9884148940800,9389941493760,9735886706688,9249092371353.5996]
["2001-09-05",127,null,1020,5,1.7105713308244953E-3,0.85733835100923605,0.14266164899076395,9982011801600,9482911211520,9832281624576.002,9340667543347.2012]
["2001-09-06",546,null,1030,3,1.0263427984946972E-3,0.85836469380773073,0.14163530619226927,10079874662400,9575880929280,9928676542464,9432242715340.7988]
["2001-09-07",1230,null,1040,1,3.4211426616489907E-4,0.85870680807389566,0.14129319192610434,10177737523200,9668850647040,10025071460352,9523817887334.4004]
["2001-09-08",1630,null,1050,2,6.8422853232979813E-4,0.8593910366062254,0.1406089633937746,10275600384000,9761820364800,10121466378240.002,9615393059328.002]
["2001-09-09",593,null,1060,4,1.3684570646595963E-3,0.860759493670885,0.139240506329115,10373463244800,9854790082560,10217861296128,9706968231321.5996]
["2001-09-10",853,null,1070,4,1.3684570646595963E-3,0.8621279507355446,0.1378720492644554,10471326105600,9947759800320,10314256214016,9798543403315.1992]
["2001-09-11",1700,null,1080,3,1.0263427984946972E-3,0.86315429353403927,0.13684570646596073,10569188966400,10040729518080,10410651131904,9890118575308.7988]
["2001-09-12",1560,null,1090,6,2.0526855969893944E-3,0.86520697913102862,0.13479302086897138,10667051827200,10133699235840,10507046049792,9981693747302.4004]
["2001-09-13",1080,null,1100,6,2.0526855969893944E-3,0.86725966472801796,0.13274033527198204,10764914688000,10226668953600,10603440967680,10073268919296]
["2001-09-14",1510,null,1110,4,1.3684570646595963E-3,0.86862812179267757,0.13137187820732243,10862777548800,10319638671360,10699835885568.002,10164844091289.602]
["2001-09-15",1250,null,1120,4,1.3684570646595963E-3,0.86999657885733717,0.13000342114266283,10960640409600,10412608389120,10796230803456.002,10256419263283.201]
["2001-09-16",1010,null,1130,4,1.3684570646595963E-3,0.87136503592199677,0.12863496407800323,11058503270400,10505578106880,10892625721344,10347994435276.799]
["2001-09-17",182,null,1140,4,1.3684570646595963E-3,0.87273349298665637,0.12726650701334363,11156366131200,10598547824640,10989020639232,10439569607270.4]
["2001-09-18",94,null,1160,5,1.7105713308244953E-3,0.8744440643174809,0.1255559356825191,11352091852800,10784487260160,11181810475008,10622719951257.6]
["2001-09-19",90,null,1170,6,2.0526855969893944E-3,0.87649674991447024,0.12350325008552976,11449954713600,10877456977920,11278205392896,10714295123251.199]
["2001-09-20",284,null,1180,1,3.4211426616489907E-4,0.87683886418063517,0.12316113581936483,11547817574400,10970426695680,11374600310784,10805870295244.799]
["2001-09-21",183,null,1190,2,6.8422853232979813E-4,0.87752309271296491,0.12247690728703509,11645680435200,11063396413440,11470995228672,10897445467238.4]
["2001-09-22",300,null,1200,4,1.3684570646595963E-3,0.87889154977762451,0.12110845022237549,11743543296000,11156366131200,11567390146560,10989020639232]
["2001-09-23",146,null,1210,4,1.3684570646595963E-3,0.88026000684228412,0.11973999315771588,11841406156800,11249335848960,11663785064448,11080595811225.6]
["2001-09-24",757,null,1220,4,1.3684570646595963E-3,0.88162846390694372,0.11837153609305628,11939269017600,11342305566720,11760179982336.002,11172170983219.201]
["2001-09-25",1480,null,1230,8,2.7369141293191925E-3,0.88436537803626292,0.11563462196373708,12037131878400,11435275284480,11856574900223.998,11263746155212.797]
["2001-09-26",807,null,1240,1,3.4211426616489907E-4,0.88470749230242784,0.11529250769757216,12134994739200,11528245002240,11952969818112.002,11355321327206.4]
["2001-09-27",177,null,1250,8,2.7369141293191925E-3,0.88744440643174705,0.11255559356825295,12232857600000,11621214720000,12049364736000,11446896499200]
["2001-09-28",121,null,1260,5,1.7105713308244953E-3,0.88915497776257157,0.11084502223742843,12330720460800,11714184437760,12145759653888.002,11538471671193.602]
["2001-09-29",92,null,1280,2,6.8422853232979813E-4,0.88983920629490132,0.11016079370509868,12526446182400,11900123873280,12338549489663.998,11721622015180.797]
["2001-09-30",74,null,1290,2,6.8422853232979813E-4,0.89052343482723106,0.10947656517276894,12624309043200,11993093591040,12434944407552.002,11813197187174.4]
["2001-10-01",63,null,1300,3,1.0263427984946972E-3,0.89154977762572574,0.10845022237427426,12722171904000,12086063308800,12531339325440,11904772359168]
["2001-10-02",56,null,1310,1,{"$f":"E646/2923","v":3.4211426616489907E-4},0.89189189189189066,{"$f":"1-G646","v":0.10810810810810934},{"$f":"((400/100)*1000*D646)*28.3168*60*60*24","v":12820034764800},{"$f":"(1-0.05)*I646","v":12179033026560},{"$f":"((394/100)*1000*D646)*28.3168*60*60*24","v":12627734243328.002},{"$f":"(1-0.05)*K646","v":11996347531161.602}]
["2001-10-03",60,null,1320,4,1.3684570646595963E-3,{"$f":"G646 + F647","v":0.89326034895655027},0.10673965104344973,12917897625600,12272002744320,12724129161216,12087922703155.199]
["2001-10-04",64,null,1330,1,3.4211426616489907E-4,0.89360246322271519,0.10639753677728481,13015760486400,12364972462080,12820524079104,12179497875148.799]
["2001-10-05",169,null,1340,6,2.0526855969893944E-3,0.89565514881970454,0.10434485118029546,13113623347200,12457942179840,12916918996991.998,12271073047142.398]
["2001-10-06",360,null,1350,3,1.0263427984946972E-3,0.89668149161819921,0.10331850838180079,13211486208000,12550911897600,13013313914880.004,12362648219136.004]
["2001-10-07",836,null,1360,4,1.3684570646595963E-3,0.89804994868285881,0.10195005131714119,13309349068800,12643881615360,13109708832768.002,12454223391129.602]
["2001-10-08",808,null,1370,1,3.4211426616489907E-4,0.89839206294902374,0.10160793705097626,13407211929600,12736851333120,13206103750656,12545798563123.199]
["2001-10-09",791,null,1380,3,1.0263427984946972E-3,0.89941840574751841,0.10058159425248159,13505074790400,12829821050880,13302498668544,12637373735116.799]
["2001-10-10",434,null,1400,3,1.0263427984946972E-3,0.90044474854601309,9.9555251453986915E-2,13700800512000,13015760486400,13495288504320,12820524079104]
["2001-10-11",456,null,1410,3,1.0263427984946972E-3,0.90147109134450776,9.8528908655492242E-2,13798663372800,13108730204160,13591683422208,12912099251097.6]
["2001-10-12",460,null,1420,3,1.0263427984946972E-3,0.90249743414300243,9.750256585699757E-2,13896526233600,13201699921920,13688078340096.004,13003674423091.203]
["2001-10-13",990,null,1430,3,1.0263427984946972E-3,0.9035237769414971,9.6476223058502897E-2,13994389094400,13294669639680,13784473257984,13095249595084.799]
["2001-10-14",812,null,1440,1,3.4211426616489907E-4,0.90386589120766203,9.6134108792337969E-2,14092251955200,13387639357440,13880868175872,13186824767078.398]
["2001-10-15",1630,null,1450,3,1.0263427984946972E-3,0.9048922340061567,9.5107765993843296E-2,14190114816000,13480609075200,13977263093760,13278399939072]
["2001-10-16",1700,null,1460,5,1.7105713308244953E-3,0.90660280533698123,9.3397194663018768E-2,14287977676800,13573578792960,14073658011647.996,13369975111065.596]
["2001-10-17",1780,null,1470,2,6.8422853232979813E-4,0.90728703386931098,9.2712966130689023E-2,14385840537600,13666548510720,14170052929536.004,13461550283059.203]
["2001-10-18",1740,null,1480,5,1.7105713308244953E-3,0.90899760520013551,9.1002394799864494E-2,14483703398400,13759518228480,14266447847424,13553125455052.799]
["2001-10-19",1710,null,1490,1,3.4211426616489907E-4,0.90933971946630043,9.0660280533699567E-2,14581566259200,13852487946240,14362842765312.004,13644700627046.402]
["2001-10-20",1660,null,1500,2,6.8422853232979813E-4,0.91002394799863018,8.9976052001369822E-2,14679429120000,13945457664000,14459237683200,13736275799040]
["2001-10-21",1600,null,1510,4,1.3684570646595963E-3,0.91139240506328978,8.8607594936710221E-2,14777291980800,14038427381760,14555632601088,13827850971033.6]
["2001-10-22",1020,null,1520,3,1.0263427984946972E-3,0.91241874786178445,8.7581252138215548E-2,14875154841600,14131397099520,14652027518976,13919426143027.199]
["2001-10-23",25,null,1530,5,1.7105713308244953E-3,0.91412931919260898,8.587068080739102E-2,14973017702400,14224366817280,14748422436863.996,14011001315020.795]
["2001-10-24",24,null,1540,3,1.0263427984946972E-3,0.91515566199110365,8.4844338008896347E-2,15070880563200,14317336535040,14844817354752.004,14102576487014.402]
["2001-10-25",326,null,1550,1,3.4211426616489907E-4,0.91549777625726858,8.4502223742731419E-2,15168743424000,14410306252800,14941212272640,14194151659008]
["2001-10-26",1210,null,1560,3,1.0263427984946972E-3,0.91652411905576325,8.3475880944236747E-2,15266606284800,14503275970560,15037607190528,14285726831001.6]
["2001-10-27",341,null,1570,3,1.0263427984946972E-3,0.91755046185425793,8.2449538145742074E-2,15364469145600,14596245688320,15134002108416,14377302002995.199]
["2001-10-28",76,null,1580,4,1.3684570646595963E-3,0.91891891891891753,8.1081081081082473E-2,15462332006400,14689215406080,15230397026304,14468877174988.799]
["2001-10-29",66,null,1590,6,2.0526855969893944E-3,0.92097160451590687,7.9028395484093128E-2,15560194867200,14782185123840,15326791944192,14560452346982.398]
["2001-10-30",63,null,1600,3,1.0263427984946972E-3,0.92199794731440154,7.8002052685598455E-2,15658057728000,14875154841600,15423186862080.004,14652027518976.004]
["2001-10-31",56,null,1610,5,1.7105713308244953E-3,0.92370851864522607,7.6291481354773927E-2,15755920588800,14968124559360,15519581779968,14743602690969.6]
["2001-11-01",54,null,1620,4,1.3684570646595963E-3,0.92507697570988567,7.4923024290114326E-2,15853783449600,15061094277120,15615976697856,14835177862963.199]
["2001-11-02",55,null,1630,9,3.0790283954840918E-3,0.9281560041053698,7.1843995894630197E-2,15951646310400,15154063994880,15712371615744,14926753034956.799]
["2001-11-03",54,null,1640,3,1.0263427984946972E-3,0.92918234690386448,7.0817653096135524E-2,16049509171200,15247033712640,15808766533632,15018328206950.398]
["2001-11-04",54,null,1650,1,3.4211426616489907E-4,0.9295244611700294,7.0475538829970596E-2,16147372032000,15340003430400,15905161451520,15109903378944]
["2001-11-05",53,null,1660,5,1.7105713308244953E-3,0.93123503250085393,6.8764967499146068E-2,16245234892800,15432973148160,16001556369408,15201478550937.6]
["2001-11-06",52,null,1670,3,1.0263427984946972E-3,0.9322613752993486,6.7738624700651395E-2,16343097753600,15525942865920,16097951287296.004,15293053722931.203]
["2001-11-07",48,null,1680,5,1.7105713308244953E-3,0.93397194663017313,6.6028053369826867E-2,16440960614400,15618912583680,16194346205184,15384628894924.799]
["2001-11-08",46,null,1690,3,1.0263427984946972E-3,0.93499828942866781,6.5001710571332194E-2,16538823475200,15711882301440,16290741123072.004,15476204066918.402]
["2001-11-09",47,null,1700,8,2.7369141293191925E-3,0.93773520355798701,6.2264796442012993E-2,16636686336000,15804852019200,16387136040960,15567779238912]
["2001-11-10",45,null,1710,8,2.7369141293191925E-3,0.94047211768730621,5.9527882312693792E-2,16734549196800,15897821736960,16483530958847.996,15659354410905.596]
["2001-11-11",48,null,1720,7,2.3947998631542937E-3,0.94286691755046048,5.7133082449539518E-2,16832412057600,15990791454720,16579925876736.004,15750929582899.203]
["2001-11-12",50,null,1730,4,1.3684570646595963E-3,0.94423537461512008,5.5764625384879918E-2,16930274918400,16083761172480,16676320794624,15842504754892.799]
["2001-11-13",54,null,1740,6,2.0526855969893944E-3,0.94628806021210943,5.3711939787890572E-2,17028137779200,16176730890240,16772715712512.004,15934079926886.402]
["2001-11-14",46,null,1750,6,2.0526855969893944E-3,0.94834074580909877,5.1659254190901227E-2,17126000640000,16269700608000,16869110630400,16025655098880]
["2001-11-15",44,null,1760,6,2.0526855969893944E-3,0.95039343140608812,4.9606568593911882E-2,17223863500800,16362670325760,16965505548288,16117230270873.6]
["2001-11-16",224,null,1770,6,2.0526855969893944E-3,0.95244611700307746,4.7553882996922536E-2,17321726361600,16455640043520,17061900466176,16208805442867.199]
["2001-11-17",229,null,1780,2,6.8422853232979813E-4,0.95313034553540721,4.6869654464592791E-2,17419589222400,16548609761280,17158295384063.996,16300380614860.795]
["2001-11-18",115,null,1790,2,6.8422853232979813E-4,0.95381457406773695,4.6185425932263047E-2,17517452083200,16641579479040,17254690301952.004,16391955786854.402]
["2001-11-19",80,null,1800,5,1.7105713308244953E-3,0.95552514539856148,4.4474854601438518E-2,17615314944000,16734549196800,17351085219840,16483530958848]
["2001-11-20",55,null,1810,5,1.7105713308244953E-3,0.95723571672938601,4.276428327061399E-2,17713177804800,16827518914560,17447480137728,16575106130841.6]
["2001-11-21",47,null,1820,3,1.0263427984946972E-3,0.95826205952788068,4.1737940472119317E-2,17811040665600,16920488632320,17543875055616,16666681302835.199]
["2001-11-22",45,null,1830,6,2.0526855969893944E-3,0.96031474512487003,3.9685254875129972E-2,17908903526400,17013458350080,17640269973504,16758256474828.799]
["2001-11-23",45,null,1840,3,1.0263427984946972E-3,0.9613410879233647,3.8658912076635299E-2,18006766387200,17106428067840,17736664891392,16849831646822.398]
["2001-11-24",39,null,1850,4,1.3684570646595963E-3,0.9627095449880243,3.7290455011975698E-2,18104629248000,17199397785600,17833059809280.004,16941406818816.002]
["2001-11-25",38,null,1860,5,1.7105713308244953E-3,0.96442011631884883,3.557988368115117E-2,18202492108800,17292367503360,17929454727168,17032981990809.6]
["2001-11-26",38,null,1870,5,1.7105713308244953E-3,0.96613068764967336,3.3869312350326641E-2,18300354969600,17385337221120,18025849645056,17124557162803.199]
["2001-11-27",98,null,1880,5,1.7105713308244953E-3,0.96784125898049789,3.2158741019502113E-2,18398217830400,17478306938880,18122244562944,17216132334796.799]
["2001-11-28",160,null,1890,2,6.8422853232979813E-4,0.96852548751282763,3.1474512487172368E-2,18496080691200,17571276656640,18218639480832,17307707506790.398]
["2001-11-29",393,null,1910,6,2.0526855969893944E-3,0.97057817310981698,2.9421826890183023E-2,18691806412800,17757216092160,18411429316608,17490857850777.6]
["2001-11-30",848,null,1920,4,1.3684570646595963E-3,0.97194663017447658,2.8053369825523422E-2,18789669273600,17850185809920,18507824234496.004,17582433022771.203]
["2001-12-01",112,null,1930,2,6.8422853232979813E-4,0.97263085870680632,2.7369141293193677E-2,18887532134400,17943155527680,18604219152384,17674008194764.801]
["2001-12-02",267,null,1940,2,6.8422853232979813E-4,0.97331508723913607,2.6684912760863932E-2,18985394995200,18036125245440,18700614070272.004,17765583366758.402]
["2001-12-03",849,null,1950,5,1.7105713308244953E-3,0.9750256585699606,2.4974341430039404E-2,19083257856000,18129094963200,18797008988160,17857158538752]
["2001-12-04",1160,null,1960,4,1.3684570646595963E-3,0.9763941156346202,2.3605884365379803E-2,19181120716800,18222064680960,18893403906047.996,17948733710745.594]
["2001-12-05",361,null,1970,6,{"$f":"E710/2923","v":2.0526855969893944E-3},0.97844680123160954,{"$f":"1-G710","v":2.1553198768390458E-2},{"$f":"((400/100)*1000*D710)*28.3168*60*60*24","v":19278983577600},{"$f":"(1-0.05)*I710","v":18315034398720},{"$f":"((394/100)*1000*D710)*28.3168*60*60*24","v":18989798823936.004},{"$f":"(1-0.05)*K710","v":18040308882739.203}]
["2001-12-06",199,null,1980,5,1.7105713308244953E-3,{"$f":"G710 + F711","v":0.98015737256243407},1.984262743756593E-2,19376846438400,18408004116480,19086193741824,18131884054732.801]
["2001-12-07",130,null,1990,3,1.0263427984946972E-3,0.98118371536092874,1.8816284639071257E-2,19474709299200,18500973834240,19182588659712.004,18223459226726.402]
["2001-12-08",245,null,2000,6,2.0526855969893944E-3,0.98323640095791809,1.6763599042081911E-2,19572572160000,18593943552000,19278983577600,18315034398720]
["2001-12-09",455,null,2010,4,1.3684570646595963E-3,0.98460485802257769,1.5395141977422311E-2,19670435020800,18686913269760,19375378495488,18406609570713.598]
["2001-12-10",313,null,2020,5,1.7105713308244953E-3,0.98631542935340222,1.3684570646597782E-2,19768297881600,18779882987520,19471773413376,18498184742707.199]
["2001-12-11",455,null,2030,5,1.7105713308244953E-3,0.98802600068422675,1.1973999315773254E-2,19866160742400,18872852705280,19568168331263.996,18589759914700.797]
["2001-12-12",852,null,2040,3,1.0263427984946972E-3,0.98905234348272142,1.0947656517278581E-2,19964023603200,18965822423040,19664563249152.004,18681335086694.402]
["2001-12-13",554,null,2050,3,1.0263427984946972E-3,0.99007868628121609,9.9213137187839084E-3,20061886464000,19058792140800,19760958167040,18772910258688]
["2001-12-14",650,null,2060,1,3.4211426616489907E-4,0.99042080054738102,9.5791994526189805E-3,20159749324800,19151761858560,19857353084928,18864485430681.598]
["2001-12-15",113,null,2070,1,3.4211426616489907E-4,0.99076291481354595,9.2370851864540526E-3,20257612185600,19244731576320,19953748002816,18956060602675.199]
["2001-12-16",107,null,2080,2,6.8422853232979813E-4,0.99144714334587569,8.5528566541243078E-3,20355475046400,19337701294080,20050142920704,19047635774668.801]
["2001-12-17",935,null,2090,1,3.4211426616489907E-4,0.99178925761204062,8.2107423879593799E-3,20453337907200,19430671011840,20146537838592,19139210946662.398]
["2001-12-18",1820,null,2100,1,3.4211426616489907E-4,0.99213137187820555,7.868628121794452E-3,20551200768000,19523640729600,20242932756480.004,19230786118656.004]
["2001-12-19",1070,null,2110,3,1.0263427984946972E-3,0.99315771467670022,6.8422853232997793E-3,20649063628800,19616610447360,20339327674368,19322361290649.598]
["2001-12-20",903,null,2130,3,1.0263427984946972E-3,0.99418405747519489,5.8159425248051067E-3,20844789350400,19802549882880,20532117510144,19505511634636.801]
["2001-12-21",598,null,2140,1,3.4211426616489907E-4,0.99452617174135982,5.4738282586401787E-3,20942652211200,19895519600640,20628512428032,19597086806630.398]
["2001-12-22",30,null,2160,2,6.8422853232979813E-4,0.99521040027368957,4.789599726310434E-3,21138377932800,20081459036160,20821302263808,19780237150617.598]
["2001-12-23",480,null,2180,3,1.0263427984946972E-3,0.99623674307218424,3.7632569278157613E-3,21334103654400,20267398471680,21014092099584,19963387494604.801]
["2001-12-24",1220,null,2190,1,3.4211426616489907E-4,0.99657885733834917,3.4211426616508334E-3,21431966515200,20360368189440,21110487017472.004,20054962666598.402]
["2001-12-25",1180,null,2200,1,3.4211426616489907E-4,0.99692097160451409,3.0790283954859055E-3,21529829376000,20453337907200,21206881935360,20146537838592]
["2001-12-26",1260,null,2220,1,3.4211426616489907E-4,0.99726308587067902,2.7369141293209776E-3,21725555097600,20639277342720,21399671771136.004,20329688182579.203]
["2001-12-27",1080,null,2230,1,3.4211426616489907E-4,0.99760520013684395,2.3947998631560496E-3,21823417958400,20732247060480,21496066689024,20421263354572.801]
["2001-12-28",188,null,2260,2,6.8422853232979813E-4,0.9982894286691737,1.7105713308263049E-3,22117006540800,21011156213760,21785251442688,20695988870553.598]
["2001-12-29",99,null,2280,2,6.8422853232979813E-4,0.99897365720150344,1.0263427984965601E-3,22312732262400,21197095649280,21978041278464,20879139214540.801]
["2001-12-30",75,null,2300,1,3.4211426616489907E-4,0.99931577146766837,6.8422853233163217E-4,22508457984000,21383035084800,22170831114240,21062289558528]
["2001-12-31",62,null,2330,1,3.4211426616489907E-4,0.9996578857338333,3.4211426616670426E-4,22802046566400,21661944238080,22460015867904,21337015074508.801]
["2002-01-01",56,null,2400,1,3.4211426616489907E-4,0.99999999999999822,1.7763568394002505E-15,23487086592000,22312732262400,23134780293120,21978041278464]
["2002-01-02",53]
["2002-01-03",51]
["2002-01-04",49]
["2002-01-05",306]
["2002-01-06",506]
["2002-01-07",242]
["2002-01-08",120]
["2002-01-09",96]
["2002-01-10",85]
["2002-01-11",77]
["2002-01-12",66]
["2002-01-13",60]
["2002-01-14",57]
["2002-01-15",51]
["2002-01-16",48]
["2002-01-17",51]
["2002-01-18",49]
["2002-01-19",54]
["2002-01-20",64]
["2002-01-21",59]
["2002-01-22",55]
["2002-01-23",55]
["2002-01-24",66]
["2002-01-25",79]
["2002-01-26",67]
["2002-01-27",60]
["2002-01-28",56]
["2002-01-29",52]
["2002-01-30",51]
["2002-01-31",67]
["2002-02-01",76]
["2002-02-02",56]
["2002-02-03",51]
["2002-02-04",50]
["2002-02-05",78]
["2002-02-06",182]
["2002-02-07",136]
["2002-02-08",94]
["2002-02-09",70]
["2002-02-10",58]
["2002-02-11",58]
["2002-02-12",54]
["2002-02-13",53]
["2002-02-14",52]
["2002-02-15",52]
["2002-02-16",51]
["2002-02-17",53]
["2002-02-18",53]
["2002-02-19",73]
["2002-02-20",79]
["2002-02-21",103]
["2002-02-22",112]
["2002-02-23",82]
["2002-02-24",68]
["2002-02-25",61]
["2002-02-26",56]
["2002-02-27",51]
["2002-02-28",53]
["2002-03-01",98]
["2002-03-02",182]
["2002-03-03",155]
["2002-03-04",140]
["2002-03-05",131]
["2002-03-06",127]
["2002-03-07",129]
["2002-03-08",130]
["2002-03-09",128]
["2002-03-10",123]
["2002-03-11",120]
["2002-03-12",123]
["2002-03-13",120]
["2002-03-14",121]
["2002-03-15",121]
["2002-03-16",118]
["2002-03-17",52]
["2002-03-18",57]
["2002-03-19",65]
["2002-03-20",97]
["2002-03-21",100]
["2002-03-22",79]
["2002-03-23",59]
["2002-03-24",55]
["2002-03-25",79]
["2002-03-26",178]
["2002-03-27",112]
["2002-03-28",88]
["2002-03-29",78]
["2002-03-30",123]
["2002-03-31",185]
["2002-04-01",123]
["2002-04-02",86]
["2002-04-03",69]
["2002-04-04",55]
["2002-04-05",50]
["2002-04-06",48]
["2002-04-07",46]
["2002-04-08",1430]
["2002-04-09",1050]
["2002-04-10",1690]
["2002-04-11",1800]
["2002-04-12",1800]
["2002-04-13",1710]
["2002-04-14",1560]
["2002-04-15",606]
["2002-04-16",132]
["2002-04-17",97]
["2002-04-18",86]
["2002-04-19",77]
["2002-04-20",68]
["2002-04-21",66]
["2002-04-22",69]
["2002-04-23",65]
["2002-04-24",61]
["2002-04-25",44]
["2002-04-26",18]
["2002-04-27",16]
["2002-04-28",16]
["2002-04-29",17]
["2002-04-30",16]
["2002-05-01",16]
["2002-05-02",16]
["2002-05-03",170]
["2002-05-04",174]
["2002-05-05",52]
["2002-05-06",52]
["2002-05-07",52]
["2002-05-08",49]
["2002-05-09",48]
["2002-05-10",49]
["2002-05-11",49]
["2002-05-12",46]
["2002-05-13",47]
["2002-05-14",46]
["2002-05-15",45]
["2002-05-16",46]
["2002-05-17",189]
["2002-05-18",53]
["2002-05-19",27]
["2002-05-20",356]
["2002-05-21",490]
["2002-05-22",72]
["2002-05-23",55]
["2002-05-24",54]
["2002-05-25",50]
["2002-05-26",73]
["2002-05-27",49]
["2002-05-28",52]
["2002-05-29",56]
["2002-05-30",55]
["2002-05-31",49]
["2002-06-01",46]
["2002-06-02",45]
["2002-06-03",44]
["2002-06-04",47]
["2002-06-05",47]
["2002-06-06",49]
["2002-06-07",199]
["2002-06-08",78]
["2002-06-09",63]
["2002-06-10",62]
["2002-06-11",52]
["2002-06-12",53]
["2002-06-13",47]
["2002-06-14",47]
["2002-06-15",44]
["2002-06-16",300]
["2002-06-17",371]
["2002-06-18",167]
["2002-06-19",89]
["2002-06-20",87]
["2002-06-21",79]
["2002-06-22",53]
["2002-06-23",48]
["2002-06-24",58]
["2002-06-25",93]
["2002-06-26",193]
["2002-06-27",279]
["2002-06-28",327]
["2002-06-29",291]
["2002-06-30",397]
["2002-07-01",290]
["2002-07-02",224]
["2002-07-03",207]
["2002-07-04",142]
["2002-07-05",100]
["2002-07-06",74]
["2002-07-07",60]
["2002-07-08",53]
["2002-07-09",51]
["2002-07-10",141]
["2002-07-11",315]
["2002-07-12",386]
["2002-07-13",298]
["2002-07-14",413]
["2002-07-15",216]
["2002-07-16",263]
["2002-07-17",258]
["2002-07-18",724]
["2002-07-19",1230]
["2002-07-20",1250]
["2002-07-21",201]
["2002-07-22",110]
["2002-07-23",91]
["2002-07-24",79]
["2002-07-25",66]
["2002-07-26",64]
["2002-07-27",64]
["2002-07-28",76]
["2002-07-29",86]
["2002-07-30",74]
["2002-07-31",83]
["2002-08-01",67]
["2002-08-02",57]
["2002-08-03",415]
["2002-08-04",489]
["2002-08-05",74]
["2002-08-06",391]
["2002-08-07",489]
["2002-08-08",385]
["2002-08-09",95]
["2002-08-10",143]
["2002-08-11",109]
["2002-08-12",106]
["2002-08-13",110]
["2002-08-14",256]
["2002-08-15",872]
["2002-08-16",393]
["2002-08-17",705]
["2002-08-18",1090]
["2002-08-19",1240]
["2002-08-20",1420]
["2002-08-21",1530]
["2002-08-22",1130]
["2002-08-23",213]
["2002-08-24",978]
["2002-08-25",944]
["2002-08-26",958]
["2002-08-27",628]
["2002-08-28",91]
["2002-08-29",71]
["2002-08-30",61]
["2002-08-31",56]
["2002-09-01",54]
["2002-09-02",56]
["2002-09-03",58]
["2002-09-04",60]
["2002-09-05",55]
["2002-09-06",53]
["2002-09-07",169]
["2002-09-08",207]
["2002-09-09",82]
["2002-09-10",233]
["2002-09-11",875]
["2002-09-12",1170]
["2002-09-13",784]
["2002-09-14",186]
["2002-09-15",126]
["2002-09-16",186]
["2002-09-17",209]
["2002-09-18",209]
["2002-09-19",195]
["2002-09-20",929]
["2002-09-21",1480]
["2002-09-22",1410]
["2002-09-23",1020]
["2002-09-24",413]
["2002-09-25",214]
["2002-09-26",139]
["2002-09-27",112]
["2002-09-28",95]
["2002-09-29",87]
["2002-09-30",79]
["2002-10-01",65]
["2002-10-02",62]
["2002-10-03",60]
["2002-10-04",62]
["2002-10-05",63]
["2002-10-06",74]
["2002-10-07",81]
["2002-10-08",179]
["2002-10-09",281]
["2002-10-10",478]
["2002-10-11",519]
["2002-10-12",134]
["2002-10-13",111]
["2002-10-14",93]
["2002-10-15",80]
["2002-10-16",71]
["2002-10-17",72]
["2002-10-18",64]
["2002-10-19",130]
["2002-10-20",455]
["2002-10-21",598]
["2002-10-22",462]
["2002-10-23",150]
["2002-10-24",261]
["2002-10-25",328]
["2002-10-26",216]
["2002-10-27",288]
["2002-10-28",867]
["2002-10-29",2050]
["2002-10-30",1210]
["2002-10-31",1730]
["2002-11-01",2020]
["2002-11-02",1220]
["2002-11-03",722]
["2002-11-04",1310]
["2002-11-05",1230]
["2002-11-06",1720]
["2002-11-07",1960]
["2002-11-08",1990]
["2002-11-09",1950]
["2002-11-10",1930]
["2002-11-11",1910]
["2002-11-12",1980]
["2002-11-13",2040]
["2002-11-14",1990]
["2002-11-15",1940]
["2002-11-16",2020]
["2002-11-17",2010]
["2002-11-18",2000]
["2002-11-19",2010]
["2002-11-20",2010]
["2002-11-21",2000]
["2002-11-22",1990]
["2002-11-23",1970]
["2002-11-24",1960]
["2002-11-25",1790]
["2002-11-26",1410]
["2002-11-27",1590]
["2002-11-28",1860]
["2002-11-29",1840]
["2002-11-30",1830]
["2002-12-01",1860]
["2002-12-02",1680]
["2002-12-03",526]
["2002-12-04",239]
["2002-12-05",1660]
["2002-12-06",1910]
["2002-12-07",1820]
["2002-12-08",1230]
["2002-12-09",369]
["2002-12-10",850]
["2002-12-11",1860]
["2002-12-12",1570]
["2002-12-13",850]
["2002-12-14",1810]
["2002-12-15",1870]
["2002-12-16",1750]
["2002-12-17",1000]
["2002-12-18",50]
["2002-12-19",60]
["2002-12-20",950]
["2002-12-21",1660]
["2002-12-22",134]
["2002-12-23",50]
["2002-12-24",550]
["2002-12-25",760]
["2002-12-26",500]
["2002-12-27",210]
["2002-12-28",120]
["2002-12-29",110]
["2002-12-30",105]
["2002-12-31",374]
["2003-01-01",685]
["2003-01-02",695]
["2003-01-03",644]
["2003-01-04",489]
["2003-01-05",178]
["2003-01-06",115]
["2003-01-07",96]
["2003-01-08",71]
["2003-01-09",13]
["2003-01-10",13]
["2003-01-11",17]
["2003-01-12",82]
["2003-01-13",61]
["2003-01-14",34]
["2003-01-15",26]
["2003-01-16",21]
["2003-01-17",17]
["2003-01-18",558]
["2003-01-19",1450]
["2003-01-20",758]
["2003-01-21",91]
["2003-01-22",81]
["2003-01-23",73]
["2003-01-24",66]
["2003-01-25",63]
["2003-01-26",296]
["2003-01-27",493]
["2003-01-28",334]
["2003-01-29",159]
["2003-01-30",127]
["2003-01-31",100]
["2003-02-01",85]
["2003-02-02",72]
["2003-02-03",70]
["2003-02-04",61]
["2003-02-05",57]
["2003-02-06",191]
["2003-02-07",406]
["2003-02-08",262]
["2003-02-09",142]
["2003-02-10",134]
["2003-02-11",103]
["2003-02-12",88]
["2003-02-13",70]
["2003-02-14",63]
["2003-02-15",141]
["2003-02-16",319]
["2003-02-17",411]
["2003-02-18",117]
["2003-02-19",114]
["2003-02-20",167]
["2003-02-21",490]
["2003-02-22",645]
["2003-02-23",1050]
["2003-02-24",1230]
["2003-02-25",946]
["2003-02-26",1070]
["2003-02-27",1430]
["2003-02-28",915]
["2003-03-01",322]
["2003-03-02",192]
["2003-03-03",424]
["2003-03-04",1090]
["2003-03-05",980]
["2003-03-06",923]
["2003-03-07",446]
["2003-03-08",274]
["2003-03-09",185]
["2003-03-10",146]
["2003-03-11",119]
["2003-03-12",104]
["2003-03-13",144]
["2003-03-14",173]
["2003-03-15",137]
["2003-03-16",106]
["2003-03-17",88]
["2003-03-18",105]
["2003-03-19",161]
["2003-03-20",112]
["2003-03-21",84]
["2003-03-22",71]
["2003-03-23",71]
["2003-03-24",68]
["2003-03-25",63]
["2003-03-26",92]
["2003-03-27",102]
["2003-03-28",82]
["2003-03-29",61]
["2003-03-30",55]
["2003-03-31",56]
["2003-04-01",51]
["2003-04-02",50]
["2003-04-03",51]
["2003-04-04",53]
["2003-04-05",56]
["2003-04-06",59]
["2003-04-07",84]
["2003-04-08",86]
["2003-04-09",68]
["2003-04-10",55]
["2003-04-11",53]
["2003-04-12",52]
["2003-04-13",50]
["2003-04-14",52]
["2003-04-15",49]
["2003-04-16",50]
["2003-04-17",48]
["2003-04-18",51]
["2003-04-19",51]
["2003-04-20",75]
["2003-04-21",239]
["2003-04-22",126]
["2003-04-23",55]
["2003-04-24",59]
["2003-04-25",25]
["2003-04-26",16]
["2003-04-27",14]
["2003-04-28",13]
["2003-04-29",19]
["2003-04-30",28]
["2003-05-01",103]
["2003-05-02",278]
["2003-05-03",205]
["2003-05-04",59]
["2003-05-05",59]
["2003-05-06",57]
["2003-05-07",56]
["2003-05-08",55]
["2003-05-09",58]
["2003-05-10",51]
["2003-05-11",53]
["2003-05-12",53]
["2003-05-13",53]
["2003-05-14",54]
["2003-05-15",52]
["2003-05-16",48]
["2003-05-17",48]
["2003-05-18",46]
["2003-05-19",48]
["2003-05-20",49]
["2003-05-21",45]
["2003-05-22",44]
["2003-05-23",45]
["2003-05-24",46]
["2003-05-25",46]
["2003-05-26",46]
["2003-05-27",46]
["2003-05-28",47]
["2003-05-29",45]
["2003-05-30",45]
["2003-05-31",46]
["2003-06-01",47]
["2003-06-02",48]
["2003-06-03",50]
["2003-06-04",84]
["2003-06-05",220]
["2003-06-06",257]
["2003-06-07",148]
["2003-06-08",83]
["2003-06-09",65]
["2003-06-10",58]
["2003-06-11",53]
["2003-06-12",71]
["2003-06-13",80]
["2003-06-14",168]
["2003-06-15",463]
["2003-06-16",486]
["2003-06-17",504]
["2003-06-18",310]
["2003-06-19",127]
["2003-06-20",95]
["2003-06-21",130]
["2003-06-22",183]
["2003-06-23",116]
["2003-06-24",100]
["2003-06-25",82]
["2003-06-26",265]
["2003-06-27",288]
["2003-06-28",236]
["2003-06-29",117]
["2003-06-30",71]
["2003-07-01",99]
["2003-07-02",128]
["2003-07-03",226]
["2003-07-04",338]
["2003-07-05",500]
["2003-07-06",348]
["2003-07-07",156]
["2003-07-08",181]
["2003-07-09",186]
["2003-07-10",151]
["2003-07-11",133]
["2003-07-12",153]
["2003-07-13",94]
["2003-07-14",75]
["2003-07-15",93]
["2003-07-16",311]
["2003-07-17",372]
["2003-07-18",234]
["2003-07-19",194]
["2003-07-20",135]
["2003-07-21",91]
["2003-07-22",67]
["2003-07-23",67]
["2003-07-24",88]
["2003-07-25",363]
["2003-07-26",214]
["2003-07-27",115]
["2003-07-28",89]
["2003-07-29",70]
["2003-07-30",57]
["2003-07-31",56]
["2003-08-01",53]
["2003-08-02",48]
["2003-08-03",50]
["2003-08-04",59]
["2003-08-05",53]
["2003-08-06",49]
["2003-08-07",47]
["2003-08-08",61]
["2003-08-09",167]
["2003-08-10",279]
["2003-08-11",240]
["2003-08-12",452]
["2003-08-13",428]
["2003-08-14",230]
["2003-08-15",129]
["2003-08-16",121]
["2003-08-17",219]
["2003-08-18",154]
["2003-08-19",189]
["2003-08-20",141]
["2003-08-21",210]
["2003-08-22",415]
["2003-08-23",532]
["2003-08-24",350]
["2003-08-25",109]
["2003-08-26",84]
["2003-08-27",69]
["2003-08-28",55]
["2003-08-29",53]
["2003-08-30",80]
["2003-08-31",344]
["2003-09-01",688]
["2003-09-02",241]
["2003-09-03",71]
["2003-09-04",441]
["2003-09-05",579]
["2003-09-06",1720]
["2003-09-07",1200]
["2003-09-08",581]
["2003-09-09",99]
["2003-09-10",66]
["2003-09-11",140]
["2003-09-12",589]
["2003-09-13",594]
["2003-09-14",1210]
["2003-09-15",704]
["2003-09-16",1100]
["2003-09-17",444]
["2003-09-18",98]
["2003-09-19",73]
["2003-09-20",64]
["2003-09-21",279]
["2003-09-22",740]
["2003-09-23",948]
["2003-09-24",228]
["2003-09-25",122]
["2003-09-26",88]
["2003-09-27",76]
["2003-09-28",65]
["2003-09-29",58]
["2003-09-30",49]
["2003-10-01",43]
["2003-10-02",45]
["2003-10-03",45]
["2003-10-04",51]
["2003-10-05",47]
["2003-10-06",106]
["2003-10-07",112]
["2003-10-08",69]
["2003-10-09",514]
["2003-10-10",414]
["2003-10-11",835]
["2003-10-12",1580]
["2003-10-13",1500]
["2003-10-14",1450]
["2003-10-15",1410]
["2003-10-16",618]
["2003-10-17",145]
["2003-10-18",110]
["2003-10-19",102]
["2003-10-20",91]
["2003-10-21",74]
["2003-10-22",68]
["2003-10-23",63]
["2003-10-24",72]
["2003-10-25",200]
["2003-10-26",340]
["2003-10-27",770]
["2003-10-28",1140]
["2003-10-29",405]
["2003-10-30",165]
["2003-10-31",113]
["2003-11-01",93]
["2003-11-02",84]
["2003-11-03",75]
["2003-11-04",68]
["2003-11-05",62]
["2003-11-06",55]
["2003-11-07",51]
["2003-11-08",52]
["2003-11-09",53]
["2003-11-10",56]
["2003-11-11",55]
["2003-11-12",55]
["2003-11-13",50]
["2003-11-14",48]
["2003-11-15",63]
["2003-11-16",103]
["2003-11-17",1680]
["2003-11-18",1620]
["2003-11-19",1090]
["2003-11-20",1590]
["2003-11-21",1780]
["2003-11-22",1720]
["2003-11-23",1070]
["2003-11-24",1680]
["2003-11-25",1740]
["2003-11-26",850]
["2003-11-27",739]
["2003-11-28",1620]
["2003-11-29",1730]
["2003-11-30",1650]
["2003-12-01",1300]
["2003-12-02",750]
["2003-12-03",129]
["2003-12-04",84]
["2003-12-05",66]
["2003-12-06",55]
["2003-12-07",53]
["2003-12-08",57]
["2003-12-09",105]
["2003-12-10",185]
["2003-12-11",97]
["2003-12-12",205]
["2003-12-13",659]
["2003-12-14",718]
["2003-12-15",922]
["2003-12-16",384]
["2003-12-17",158]
["2003-12-18",116]
["2003-12-19",86]
["2003-12-20",76]
["2003-12-21",68]
["2003-12-22",66]
["2003-12-23",184]
["2003-12-24",179]
["2003-12-25",102]
["2003-12-26",75]
["2003-12-27",67]
["2003-12-28",83]
["2003-12-29",371]
["2003-12-30",252]
["2003-12-31",138]
["2004-01-01",99]
["2004-01-02",86]
["2004-01-03",78]
["2004-01-04",73]
["2004-01-05",69]
["2004-01-06",61]
["2004-01-07",56]
["2004-01-08",223]
["2004-01-09",273]
["2004-01-10",147]
["2004-01-11",99]
["2004-01-12",86]
["2004-01-13",72]
["2004-01-14",64]
["2004-01-15",72]
["2004-01-16",210]
["2004-01-17",1020]
["2004-01-18",282]
["2004-01-19",683]
["2004-01-20",1610]
["2004-01-21",1870]
["2004-01-22",1840]
["2004-01-23",1060]
["2004-01-24",176]
["2004-01-25",799]
["2004-01-26",1480]
["2004-01-27",1810]
["2004-01-28",1600]
["2004-01-29",699]
["2004-01-30",492]
["2004-01-31",882]
["2004-02-01",536]
["2004-02-02",922]
["2004-02-03",1600]
["2004-02-04",587]
["2004-02-05",526]
["2004-02-06",1630]
["2004-02-07",1590]
["2004-02-08",500]
["2004-02-09",184]
["2004-02-10",345]
["2004-02-11",615]
["2004-02-12",849]
["2004-02-13",410]
["2004-02-14",533]
["2004-02-15",1300]
["2004-02-16",1460]
["2004-02-17",1710]
["2004-02-18",1700]
["2004-02-19",1500]
["2004-02-20",445]
["2004-02-21",147]
["2004-02-22",196]
["2004-02-23",421]
["2004-02-24",177]
["2004-02-25",122]
["2004-02-26",521]
["2004-02-27",202]
["2004-02-28",149]
["2004-02-29",164]
["2004-03-01",287]
["2004-03-02",218]
["2004-03-03",174]
["2004-03-04",163]
["2004-03-05",288]
["2004-03-06",315]
["2004-03-07",194]
["2004-03-08",134]
["2004-03-09",108]
["2004-03-10",87]
["2004-03-11",78]
["2004-03-12",75]
["2004-03-13",80]
["2004-03-14",456]
["2004-03-15",223]
["2004-03-16",799]
["2004-03-17",1590]
["2004-03-18",1530]
["2004-03-19",853]
["2004-03-20",187]
["2004-03-21",301]
["2004-03-22",379]
["2004-03-23",248]
["2004-03-24",178]
["2004-03-25",133]
["2004-03-26",108]
["2004-03-27",100]
["2004-03-28",96]
["2004-03-29",93]
["2004-03-30",106]
["2004-03-31",85]
["2004-04-01",65]
["2004-04-02",65]
["2004-04-03",87]
["2004-04-04",92]
["2004-04-05",79]
["2004-04-06",166]
["2004-04-07",225]
["2004-04-08",125]
["2004-04-09",87]
["2004-04-10",342]
["2004-04-11",511]
["2004-04-12",389]
["2004-04-13",1360]
["2004-04-14",1760]
["2004-04-15",1700]
["2004-04-16",1710]
["2004-04-17",1670]
["2004-04-18",1190]
["2004-04-19",201]
["2004-04-20",113]
["2004-04-21",93]
["2004-04-22",83]
["2004-04-23",81]
["2004-04-24",184]
["2004-04-25",149]
["2004-04-26",664]
["2004-04-27",1110]
["2004-04-28",712]
["2004-04-29",399]
["2004-04-30",409]
["2004-05-01",908]
["2004-05-02",585]
["2004-05-03",1340]
["2004-05-04",1260]
["2004-05-05",1860]
["2004-05-06",1860]
["2004-05-07",1790]
["2004-05-08",1420]
["2004-05-09",1130]
["2004-05-10",1090]
["2004-05-11",792]
["2004-05-12",473]
["2004-05-13",631]
["2004-05-14",882]
["2004-05-15",1340]
["2004-05-16",1550]
["2004-05-17",1140]
["2004-05-18",1190]
["2004-05-19",1700]
["2004-05-20",1800]
["2004-05-21",1760]
["2004-05-22",1750]
["2004-05-23",1720]
["2004-05-24",1740]
["2004-05-25",1770]
["2004-05-26",1760]
["2004-05-27",1100]
["2004-05-28",153]
["2004-05-29",96]
["2004-05-30",80]
["2004-05-31",73]
["2004-06-01",72]
["2004-06-02",64]
["2004-06-03",75]
["2004-06-04",68]
["2004-06-05",33]
["2004-06-06",21]
["2004-06-07",279]
["2004-06-08",376]
["2004-06-09",189]
["2004-06-10",193]
["2004-06-11",468]
["2004-06-12",449]
["2004-06-13",728]
["2004-06-14",881]
["2004-06-15",356]
["2004-06-16",79]
["2004-06-17",279]
["2004-06-18",731]
["2004-06-19",1280]
["2004-06-20",1220]
["2004-06-21",1480]
["2004-06-22",1020]
["2004-06-23",496]
["2004-06-24",957]
["2004-06-25",715]
["2004-06-26",455]
["2004-06-27",254]
["2004-06-28",440]
["2004-06-29",572]
["2004-06-30",429]
["2004-07-01",743]
["2004-07-02",1710]
["2004-07-03",2030]
["2004-07-04",1980]
["2004-07-05",1910]
["2004-07-06",1880]
["2004-07-07",1740]
["2004-07-08",1750]
["2004-07-09",1360]
["2004-07-10",1540]
["2004-07-11",1230]
["2004-07-12",1700]
["2004-07-13",1850]
["2004-07-14",1920]
["2004-07-15",1930]
["2004-07-16",1850]
["2004-07-17",1400]
["2004-07-18",787]
["2004-07-19",1030]
["2004-07-20",132]
["2004-07-21",72]
["2004-07-22",90]
["2004-07-23",106]
["2004-07-24",268]
["2004-07-25",409]
["2004-07-26",398]
["2004-07-27",580]
["2004-07-28",633]
["2004-07-29",422]
["2004-07-30",189]
["2004-07-31",145]
["2004-08-01",149]
["2004-08-02",128]
["2004-08-03",114]
["2004-08-04",102]
["2004-08-05",95]
["2004-08-06",88]
["2004-08-07",85]
["2004-08-08",78]
["2004-08-09",76]
["2004-08-10",119]
["2004-08-11",124]
["2004-08-12",98]
["2004-08-13",77]
["2004-08-14",78]
["2004-08-15",75]
["2004-08-16",65]
["2004-08-17",55]
["2004-08-18",51]
["2004-08-19",97]
["2004-08-20",138]
["2004-08-21",397]
["2004-08-22",504]
["2004-08-23",537]
["2004-08-24",421]
["2004-08-25",135]
["2004-08-26",87]
["2004-08-27",59]
["2004-08-28",111]
["2004-08-29",49]
["2004-08-30",344]
["2004-08-31",112]
["2004-09-01",64]
["2004-09-02",52]
["2004-09-03",98]
["2004-09-04",87]
["2004-09-05",240]
["2004-09-06",168]
["2004-09-07",93]
["2004-09-08",61]
["2004-09-09",51]
["2004-09-10",46]
["2004-09-11",44]
["2004-09-12",44]
["2004-09-13",45]
["2004-09-14",90]
["2004-09-15",340]
["2004-09-16",349]
["2004-09-17",150]
["2004-09-18",61]
["2004-09-19",74]
["2004-09-20",56]
["2004-09-21",47]
["2004-09-22",45]
["2004-09-23",46]
["2004-09-24",48]
["2004-09-25",52]
["2004-09-26",62]
["2004-09-27",50]
["2004-09-28",46]
["2004-09-29",42]
["2004-09-30",41]
["2004-10-01",42]
["2004-10-02",42]
["2004-10-03",47]
["2004-10-04",72]
["2004-10-05",196]
["2004-10-06",199]
["2004-10-07",428]
["2004-10-08",430]
["2004-10-09",703]
["2004-10-10",445]
["2004-10-11",98]
["2004-10-12",78]
["2004-10-13",69]
["2004-10-14",97]
["2004-10-15",105]
["2004-10-16",86]
["2004-10-17",78]
["2004-10-18",75]
["2004-10-19",72]
["2004-10-20",67]
["2004-10-21",66]
["2004-10-22",63]
["2004-10-23",352]
["2004-10-24",627]
["2004-10-25",637]
["2004-10-26",158]
["2004-10-27",123]
["2004-10-28",102]
["2004-10-29",104]
["2004-10-30",117]
["2004-10-31",91]
["2004-11-01",475]
["2004-11-02",514]
["2004-11-03",1170]
["2004-11-04",1670]
["2004-11-05",932]
["2004-11-06",203]
["2004-11-07",122]
["2004-11-08",104]
["2004-11-09",92]
["2004-11-10",80]
["2004-11-11",75]
["2004-11-12",70]
["2004-11-13",71]
["2004-11-14",71]
["2004-11-15",70]
["2004-11-16",70]
["2004-11-17",588]
["2004-11-18",233]
["2004-11-19",88]
["2004-11-20",382]
["2004-11-21",368]
["2004-11-22",933]
["2004-11-23",1950]
["2004-11-24",1400]
["2004-11-25",2030]
["2004-11-26",2160]
["2004-11-27",2180]
["2004-11-28",2220]
["2004-11-29",1690]
["2004-11-30",967]
["2004-12-01",1890]
["2004-12-02",2130]
["2004-12-03",2060]
["2004-12-04",1110]
["2004-12-05",1110]
["2004-12-06",688]
["2004-12-07",1230]
["2004-12-08",1950]
["2004-12-09",1910]
["2004-12-10",2180]
["2004-12-11",2130]
["2004-12-12",2110]
["2004-12-13",2090]
["2004-12-14",2080]
["2004-12-15",2070]
["2004-12-16",1920]
["2004-12-17",2020]
["2004-12-18",2080]
["2004-12-19",2030]
["2004-12-20",1970]
["2004-12-21",1740]
["2004-12-22",1060]
["2004-12-23",523]
["2004-12-24",123]
["2004-12-25",107]
["2004-12-26",94]
["2004-12-27",88]
["2004-12-28",83]
["2004-12-29",81]
["2004-12-30",81]
["2004-12-31",86]
["2005-01-01",90]
["2005-01-02",88]
["2005-01-03",86]
["2005-01-04",84]
["2005-01-05",85]
["2005-01-06",94]
["2005-01-07",89]
["2005-01-08",80]
["2005-01-09",78]
["2005-01-10",82]
["2005-01-11",81]
["2005-01-12",77]
["2005-01-13",794]
["2005-01-14",825]
["2005-01-15",381]
["2005-01-16",163]
["2005-01-17",126]
["2005-01-18",115]
["2005-01-19",110]
["2005-01-20",102]
["2005-01-21",94]
["2005-01-22",91]
["2005-01-23",83]
["2005-01-24",81]
["2005-01-25",80]
["2005-01-26",77]
["2005-01-27",96]
["2005-01-28",323]
["2005-01-29",448]
["2005-01-30",201]
["2005-01-31",424]
["2005-02-01",926]
["2005-02-02",1590]
["2005-02-03",2020]
["2005-02-04",2000]
["2005-02-05",1800]
["2005-02-06",1320]
["2005-02-07",951]
["2005-02-08",780]
["2005-02-09",1290]
["2005-02-10",1910]
["2005-02-11",2050]
["2005-02-12",1570]
["2005-02-13",1040]
["2005-02-14",1970]
["2005-02-15",2040]
["2005-02-16",2000]
["2005-02-17",2050]
["2005-02-18",2040]
["2005-02-19",1960]
["2005-02-20",1760]
["2005-02-21",458]
["2005-02-22",141]
["2005-02-23",128]
["2005-02-24",969]
["2005-02-25",1320]
["2005-02-26",942]
["2005-02-27",762]
["2005-02-28",1740]
["2005-03-01",1950]
["2005-03-02",775]
["2005-03-03",1530]
["2005-03-04",1970]
["2005-03-05",1880]
["2005-03-06",1510]
["2005-03-07",682]
["2005-03-08",1110]
["2005-03-09",1870]
["2005-03-10",1830]
["2005-03-11",987]
["2005-03-12",333]
["2005-03-13",204]
["2005-03-14",160]
["2005-03-15",138]
["2005-03-16",169]
["2005-03-17",201]
["2005-03-18",139]
["2005-03-19",123]
["2005-03-20",315]
["2005-03-21",244]
["2005-03-22",156]
["2005-03-23",134]
["2005-03-24",116]
["2005-03-25",107]
["2005-03-26",106]
["2005-03-27",187]
["2005-03-28",164]
["2005-03-29",118]
["2005-03-30",107]
["2005-03-31",99]
["2005-04-01",106]
["2005-04-02",102]
["2005-04-03",96]
["2005-04-04",93]
["2005-04-05",94]
["2005-04-06",97]
["2005-04-07",93]
["2005-04-08",90]
["2005-04-09",94]
["2005-04-10",94]
["2005-04-11",455]
["2005-04-12",776]
["2005-04-13",756]
["2005-04-14",494]
["2005-04-15",129]
["2005-04-16",115]
["2005-04-17",108]
["2005-04-18",104]
["2005-04-19",101]
["2005-04-20",102]
["2005-04-21",99]
["2005-04-22",98]
["2005-04-23",93]
["2005-04-24",91]
["2005-04-25",100]
["2005-04-26",130]
["2005-04-27",113]
["2005-04-28",98]
["2005-04-29",96]
["2005-04-30",93]
["2005-05-01",91]
["2005-05-02",91]
["2005-05-03",93]
["2005-05-04",92]
["2005-05-05",94]
["2005-05-06",92]
["2005-05-07",89]
["2005-05-08",649]
["2005-05-09",925]
["2005-05-10",1830]
["2005-05-11",2100]
["2005-05-12",2000]
["2005-05-13",1230]
["2005-05-14",230]
["2005-05-15",149]
["2005-05-16",132]
["2005-05-17",119]
["2005-05-18",110]
["2005-05-19",106]
["2005-05-20",105]
["2005-05-21",96]
["2005-05-22",100]
["2005-05-23",94]
["2005-05-24",90]
["2005-05-25",83]
["2005-05-26",107]
["2005-05-27",122]
["2005-05-28",110]
["2005-05-29",168]
["2005-05-30",158]
["2005-05-31",680]
["2005-06-01",577]
["2005-06-02",239]
["2005-06-03",151]
["2005-06-04",109]
["2005-06-05",93]
["2005-06-06",86]
["2005-06-07",82]
["2005-06-08",75]
["2005-06-09",74]
["2005-06-10",68]
["2005-06-11",67]
["2005-06-12",67]
["2005-06-13",68]
["2005-06-14",67]
["2005-06-15",79]
["2005-06-16",78]
["2005-06-17",66]
["2005-06-18",61]
["2005-06-19",61]
["2005-06-20",60]
["2005-06-21",58]
["2005-06-22",56]
["2005-06-23",56]
["2005-06-24",59]
["2005-06-25",62]
["2005-06-26",67]
["2005-06-27",108]
["2005-06-28",116]
["2005-06-29",89]
["2005-06-30",70]
["2005-07-01",64]
["2005-07-02",60]
["2005-07-03",59]
["2005-07-04",55]
["2005-07-05",57]
["2005-07-06",61]
["2005-07-07",80]
["2005-07-08",113]
["2005-07-09",102]
["2005-07-10",87]
["2005-07-11",163]
["2005-07-12",181]
["2005-07-13",154]
["2005-07-14",250]
["2005-07-15",346]
["2005-07-16",125]
["2005-07-17",91]
["2005-07-18",190]
["2005-07-19",288]
["2005-07-20",312]
["2005-07-21",351]
["2005-07-22",707]
["2005-07-23",484]
["2005-07-24",1210]
["2005-07-25",969]
["2005-07-26",451]
["2005-07-27",162]
["2005-07-28",87]
["2005-07-29",96]
["2005-07-30",145]
["2005-07-31",102]
["2005-08-01",88]
["2005-08-02",82]
["2005-08-03",91]
["2005-08-04",101]
["2005-08-05",98]
["2005-08-06",109]
["2005-08-07",102]
["2005-08-08",223]
["2005-08-09",330]
["2005-08-10",209]
["2005-08-11",563]
["2005-08-12",435]
["2005-08-13",135]
["2005-08-14",79]
["2005-08-15",95]
["2005-08-16",212]
["2005-08-17",239]
["2005-08-18",275]
["2005-08-19",161]
["2005-08-20",122]
["2005-08-21",107]
["2005-08-22",90]
["2005-08-23",79]
["2005-08-24",77]
["2005-08-25",81]
["2005-08-26",78]
["2005-08-27",68]
["2005-08-28",492]
["2005-08-29",916]
["2005-08-30",1100]
["2005-08-31",308]
["2005-09-01",125]
["2005-09-02",102]
["2005-09-03",126]
["2005-09-04",268]
["2005-09-05",210]
["2005-09-06",93]
["2005-09-07",77]
["2005-09-08",66]
["2005-09-09",62]
["2005-09-10",59]
["2005-09-11",96]
["2005-09-12",74]
["2005-09-13",84]
["2005-09-14",86]
["2005-09-15",73]
["2005-09-16",65]
["2005-09-17",69]
["2005-09-18",66]
["2005-09-19",66]
["2005-09-20",62]
["2005-09-21",56]
["2005-09-22",62]
["2005-09-23",54]
["2005-09-24",74]
["2005-09-25",96]
["2005-09-26",73]
["2005-09-27",61]
["2005-09-28",57]
["2005-09-29",63]
["2005-09-30",74]
["2005-10-01",54]
["2005-10-02",56]
["2005-10-03",107]
["2005-10-04",83]
["2005-10-05",48]
["2005-10-06",16]
["2005-10-07",14]
["2005-10-08",14]
["2005-10-09",14]
["2005-10-10",49]
["2005-10-11",30]
["2005-10-12",21]
["2005-10-13",18]
["2005-10-14",315]
["2005-10-15",397]
["2005-10-16",100]
["2005-10-17",50]
["2005-10-18",35]
["2005-10-19",88]
["2005-10-20",59]
["2005-10-21",59]
["2005-10-22",56]
["2005-10-23",54]
["2005-10-24",54]
["2005-10-25",53]
["2005-10-26",57]
["2005-10-27",58]
["2005-10-28",57]
["2005-10-29",54]
["2005-10-30",56]
["2005-10-31",143]
["2005-11-01",410]
["2005-11-02",304]
["2005-11-03",123]
["2005-11-04",84]
["2005-11-05",70]
["2005-11-06",63]
["2005-11-07",64]
["2005-11-08",80]
["2005-11-09",83]
["2005-11-10",59]
["2005-11-11",22]
["2005-11-12",22]
["2005-11-13",23]
["2005-11-14",21]
["2005-11-15",42]
["2005-11-16",40]
["2005-11-17",207]
["2005-11-18",593]
["2005-11-19",84]
["2005-11-20",74]
["2005-11-21",74]
["2005-11-22",67]
["2005-11-23",61]
["2005-11-24",57]
["2005-11-25",57]
["2005-11-26",269]
["2005-11-27",517]
["2005-11-28",301]
["2005-11-29",107]
["2005-11-30",77]
["2005-12-01",66]
["2005-12-02",62]
["2005-12-03",59]
["2005-12-04",88]
["2005-12-05",125]
["2005-12-06",108]
["2005-12-07",86]
["2005-12-08",95]
["2005-12-09",90]
["2005-12-10",69]
["2005-12-11",61]
["2005-12-12",61]
["2005-12-13",57]
["2005-12-14",1200]
["2005-12-15",721]
["2005-12-16",750]
["2005-12-17",160]
["2005-12-18",1060]
["2005-12-19",1090]
["2005-12-20",929]
["2005-12-21",847]
["2005-12-22",250]
["2005-12-23",123]
["2005-12-24",103]
["2005-12-25",90]
["2005-12-26",82]
["2005-12-27",80]
["2005-12-28",77]
["2005-12-29",75]
["2005-12-30",75]
["2005-12-31",72]
["2006-01-01",72]
["2006-01-02",71]
["2006-01-03",75]
["2006-01-04",72]
["2006-01-05",71]
["2006-01-06",66]
["2006-01-07",63]
["2006-01-08",67]
["2006-01-09",72]
["2006-01-10",100]
["2006-01-11",100]
["2006-01-12",78]
["2006-01-13",75]
["2006-01-14",71]
["2006-01-15",64]
["2006-01-16",72]
["2006-01-17",311]
["2006-01-18",262]
["2006-01-19",110]
["2006-01-20",75]
["2006-01-21",65]
["2006-01-22",252]
["2006-01-23",555]
["2006-01-24",479]
["2006-01-25",202]
["2006-01-26",65]
["2006-01-27",50]
["2006-01-28",182]
["2006-01-29",402]
["2006-01-30",389]
["2006-01-31",103]
["2006-02-01",87]
["2006-02-02",123]
["2006-02-03",86]
["2006-02-04",58]
["2006-02-05",50]
["2006-02-06",48]
["2006-02-07",42]
["2006-02-08",41]
["2006-02-09",43]
["2006-02-10",201]
["2006-02-11",576]
["2006-02-12",562]
["2006-02-13",228]
["2006-02-14",86]
["2006-02-15",69]
["2006-02-16",61]
["2006-02-17",58]
["2006-02-18",65]
["2006-02-19",60]
["2006-02-20",55]
["2006-02-21",51]
["2006-02-22",49]
["2006-02-23",47]
["2006-02-24",44]
["2006-02-25",99]
["2006-02-26",325]
["2006-02-27",166]
["2006-02-28",94]
["2006-03-01",73]
["2006-03-02",64]
["2006-03-03",56]
["2006-03-04",51]
["2006-03-05",51]
["2006-03-06",54]
["2006-03-07",52]
["2006-03-08",49]
["2006-03-09",52]
["2006-03-10",58]
["2006-03-11",52]
["2006-03-12",55]
["2006-03-13",58]
["2006-03-14",50]
["2006-03-15",46]
["2006-03-16",49]
["2006-03-17",52]
["2006-03-18",52]
["2006-03-19",51]
["2006-03-20",110]
["2006-03-21",134]
["2006-03-22",87]
["2006-03-23",65]
["2006-03-24",55]
["2006-03-25",54]
["2006-03-26",54]
["2006-03-27",56]
["2006-03-28",137]
["2006-03-29",411]
["2006-03-30",373]
["2006-03-31",337]
["2006-04-01",137]
["2006-04-02",86]
["2006-04-03",77]
["2006-04-04",69]
["2006-04-05",68]
["2006-04-06",64]
["2006-04-07",60]
["2006-04-08",53]
["2006-04-09",51]
["2006-04-10",52]
["2006-04-11",53]
["2006-04-12",55]
["2006-04-13",55]
["2006-04-14",50]
["2006-04-15",49]
["2006-04-16",51]
["2006-04-17",58]
["2006-04-18",57]
["2006-04-19",50]
["2006-04-20",50]
["2006-04-21",256]
["2006-04-22",411]
["2006-04-23",212]
["2006-04-24",101]
["2006-04-25",74]
["2006-04-26",98]
["2006-04-27",125]
["2006-04-28",81]
["2006-04-29",448]
["2006-04-30",712]
["2006-05-01",913]
["2006-05-02",787]
["2006-05-03",156]
["2006-05-04",99]
["2006-05-05",149]
["2006-05-06",455]
["2006-05-07",575]
["2006-05-08",489]
["2006-05-09",423]
["2006-05-10",297]
["2006-05-11",84]
["2006-05-12",65]
["2006-05-13",58]
["2006-05-14",57]
["2006-05-15",77]
["2006-05-16",63]
["2006-05-17",54]
["2006-05-18",50]
["2006-05-19",52]
["2006-05-20",52]
["2006-05-21",58]
["2006-05-22",80]
["2006-05-23",180]
["2006-05-24",111]
["2006-05-25",70]
["2006-05-26",62]
["2006-05-27",59]
["2006-05-28",58]
["2006-05-29",82]
["2006-05-30",294]
["2006-05-31",298]
["2006-06-01",166]
["2006-06-02",186]
["2006-06-03",476]
["2006-06-04",838]
["2006-06-05",123]
["2006-06-06",75]
["2006-06-07",58]
["2006-06-08",52]
["2006-06-09",51]
["2006-06-10",49]
["2006-06-11",48]
["2006-06-12",50]
["2006-06-13",47]
["2006-06-14",46]
["2006-06-15",46]
["2006-06-16",52]
["2006-06-17",393]
["2006-06-18",319]
["2006-06-19",473]
["2006-06-20",241]
["2006-06-21",674]
["2006-06-22",1200]
["2006-06-23",1130]
["2006-06-24",1340]
["2006-06-25",1260]
["2006-06-26",1640]
["2006-06-27",1750]
["2006-06-28",883]
["2006-06-29",97]
["2006-06-30",87]
["2006-07-01",120]
["2006-07-02",380]
["2006-07-03",303]
["2006-07-04",86]
["2006-07-05",415]
["2006-07-06",381]
["2006-07-07",548]
["2006-07-08",850]
["2006-07-09",284]
["2006-07-10",1160]
["2006-07-11",1580]
["2006-07-12",1820]
["2006-07-13",1750]
["2006-07-14",1460]
["2006-07-15",842]
["2006-07-16",288]
["2006-07-17",99]
["2006-07-18",88]
["2006-07-19",167]
["2006-07-20",112]
["2006-07-21",116]
["2006-07-22",163]
["2006-07-23",121]
["2006-07-24",177]
["2006-07-25",329]
["2006-07-26",1770]
["2006-07-27",849]
["2006-07-28",1160]
["2006-07-29",1630]
["2006-07-30",1700]
["2006-07-31",1720]
["2006-08-01",1770]
["2006-08-02",1810]
["2006-08-03",1910]
["2006-08-04",1870]
["2006-08-05",1850]
["2006-08-06",845]
["2006-08-07",82]
["2006-08-08",57]
["2006-08-09",581]
["2006-08-10",946]
["2006-08-11",549]
["2006-08-12",213]
["2006-08-13",120]
["2006-08-14",101]
["2006-08-15",93]
["2006-08-16",84]
["2006-08-17",73]
["2006-08-18",75]
["2006-08-19",80]
["2006-08-20",116]
["2006-08-21",128]
["2006-08-22",215]
["2006-08-23",387]
["2006-08-24",370]
["2006-08-25",178]
["2006-08-26",98]
["2006-08-27",106]
["2006-08-28",110]
["2006-08-29",88]
["2006-08-30",73]
["2006-08-31",68]
["2006-09-01",64]
["2006-09-02",61]
["2006-09-03",62]
["2006-09-04",61]
["2006-09-05",62]
["2006-09-06",70]
["2006-09-07",65]
["2006-09-08",61]
["2006-09-09",117]
["2006-09-10",164]
["2006-09-11",217]
["2006-09-12",227]
["2006-09-13",115]
["2006-09-14",75]
["2006-09-15",102]
["2006-09-16",129]
["2006-09-17",93]
["2006-09-18",293]
["2006-09-19",423]
["2006-09-20",183]
["2006-09-21",99]
["2006-09-22",76]
["2006-09-23",97]
["2006-09-24",636]
["2006-09-25",843]
["2006-09-26",927]
["2006-09-27",559]
["2006-09-28",149]
["2006-09-29",111]
["2006-09-30",108]
["2006-10-01",103]
["2006-10-02",89]
["2006-10-03",75]
["2006-10-04",68]
["2006-10-05",65]
["2006-10-06",64]
["2006-10-07",66]
["2006-10-08",65]
["2006-10-09",65]
["2006-10-10",326]
["2006-10-11",586]
["2006-10-12",559]
["2006-10-13",223]
["2006-10-14",334]
["2006-10-15",132]
["2006-10-16",2400]
["2006-10-17",1300]
["2006-10-18",869]
["2006-10-19",1120]
["2006-10-20",1770]
["2006-10-21",454]
["2006-10-22",1030]
["2006-10-23",2030]
["2006-10-24",1960]
["2006-10-25",515]
["2006-10-26",70]
["2006-10-27",1000]
["2006-10-28",1970]
["2006-10-29",2000]
["2006-10-30",1980]
["2006-10-31",1950]
["2006-11-01",1920]
["2006-11-02",1880]
["2006-11-03",1830]
["2006-11-04",1770]
["2006-11-05",1640]
["2006-11-06",442]
["2006-11-07",248]
["2006-11-08",231]
["2006-11-09",85]
["2006-11-10",125]
["2006-11-11",236]
["2006-11-12",178]
["2006-11-13",102]
["2006-11-14",81]
["2006-11-15",67]
["2006-11-16",56]
["2006-11-17",53]
["2006-11-18",55]
["2006-11-19",60]
["2006-11-20",56]
["2006-11-21",53]
["2006-11-22",54]
["2006-11-23",55]
["2006-11-24",53]
["2006-11-25",47]
["2006-11-26",47]
["2006-11-27",111]
["2006-11-28",198]
["2006-11-29",122]
["2006-11-30",78]
["2006-12-01",82]
["2006-12-02",68]
["2006-12-03",55]
["2006-12-04",53]
["2006-12-05",51]
["2006-12-06",50]
["2006-12-07",48]
["2006-12-08",45]
["2006-12-09",46]
["2006-12-10",57]
["2006-12-11",253]
["2006-12-12",474]
["2006-12-13",202]
["2006-12-14",94]
["2006-12-15",67]
["2006-12-16",60]
["2006-12-17",58]
["2006-12-18",95]
["2006-12-19",247]
["2006-12-20",153]
["2006-12-21",144]
["2006-12-22",278]
["2006-12-23",184]
["2006-12-24",468]
["2006-12-25",616]
["2006-12-26",474]
["2006-12-27",135]
["2006-12-28",94]
["2006-12-29",60]
["2006-12-30",31]
["2006-12-31",362]
["2007-01-01",482]
["2007-01-02",192]
["2007-01-03",112]
["2007-01-04",886]
["2007-01-05",1070]
["2007-01-06",977]
["2007-01-07",945]
["2007-01-08",1170]
["2007-01-09",1460]
["2007-01-10",948]
["2007-01-11",145]
["2007-01-12",108]
["2007-01-13",102]
["2007-01-14",64]
["2007-01-15",286]
["2007-01-16",106]
["2007-01-17",562]
["2007-01-18",1520]
["2007-01-19",1610]
["2007-01-20",1100]
["2007-01-21",137]
["2007-01-22",321]
["2007-01-23",73]
["2007-01-24",573]
["2007-01-25",1160]
["2007-01-26",1440]
["2007-01-27",499]
["2007-01-28",1760]
["2007-01-29",1630]
["2007-01-30",1350]
["2007-01-31",1140]
["2007-02-01",1000]
["2007-02-02",1730]
["2007-02-03",587]
["2007-02-04",201]
["2007-02-05",155]
["2007-02-06",134]
["2007-02-07",121]
["2007-02-08",112]
["2007-02-09",108]
["2007-02-10",100]
["2007-02-11",96]
["2007-02-12",133]
["2007-02-13",204]
["2007-02-14",132]
["2007-02-15",106]
["2007-02-16",96]
["2007-02-17",87]
["2007-02-18",83]
["2007-02-19",83]
["2007-02-20",82]
["2007-02-21",100]
["2007-02-22",107]
["2007-02-23",93]
["2007-02-24",105]
["2007-02-25",153]
["2007-02-26",104]
["2007-02-27",89]
["2007-02-28",77]
["2007-03-01",75]
["2007-03-02",72]
["2007-03-03",66]
["2007-03-04",65]
["2007-03-05",68]
["2007-03-06",68]
["2007-03-07",63]
["2007-03-08",63]
["2007-03-09",64]
["2007-03-10",65]
["2007-03-11",65]
["2007-03-12",302]
["2007-03-13",514]
["2007-03-14",1340]
["2007-03-15",1260]
["2007-03-16",1770]
["2007-03-17",2110]
["2007-03-18",2020]
["2007-03-19",1970]
["2007-03-20",1940]
["2007-03-21",1840]
["2007-03-22",1980]
["2007-03-23",1360]
["2007-03-24",525]
["2007-03-25",614]
["2007-03-26",529]
["2007-03-27",62]
["2007-03-28",1010]
["2007-03-29",1260]
["2007-03-30",296]
["2007-03-31",377]
["2007-04-01",165]
["2007-04-02",987]
["2007-04-03",1420]
["2007-04-04",938]
["2007-04-05",1080]
["2007-04-06",1280]
["2007-04-07",569]
["2007-04-08",580]
["2007-04-09",1100]
["2007-04-10",1380]
["2007-04-11",615]
["2007-04-12",144]
["2007-04-13",109]
["2007-04-14",101]
["2007-04-15",95]
["2007-04-16",74]
["2007-04-17",97]
["2007-04-18",421]
["2007-04-19",218]
["2007-04-20",199]
["2007-04-21",109]
["2007-04-22",79]
["2007-04-23",75]
["2007-04-24",72]
["2007-04-25",659]
["2007-04-26",1160]
["2007-04-27",1830]
["2007-04-28",1730]
["2007-04-29",1470]
["2007-04-30",348]
["2007-05-01",655]
["2007-05-02",889]
["2007-05-03",1170]
["2007-05-04",554]
["2007-05-05",618]
["2007-05-06",1690]
["2007-05-07",1710]
["2007-05-08",1810]
["2007-05-09",1720]
["2007-05-10",1250]
["2007-05-11",607]
["2007-05-12",729]
["2007-05-13",1130]
["2007-05-14",655]
["2007-05-15",846]
["2007-05-16",562]
["2007-05-17",106]
["2007-05-18",76]
["2007-05-19",75]
["2007-05-20",73]
["2007-05-21",72]
["2007-05-22",337]
["2007-05-23",822]
["2007-05-24",410]
["2007-05-25",155]
["2007-05-26",380]
["2007-05-27",197]
["2007-05-28",140]
["2007-05-29",113]
["2007-05-30",728]
["2007-05-31",437]
["2007-06-01",1290]
["2007-06-02",1710]
["2007-06-03",1340]
["2007-06-04",473]
["2007-06-05",989]
["2007-06-06",1590]
["2007-06-07",613]
["2007-06-08",88]
["2007-06-09",79]
["2007-06-10",71]
["2007-06-11",67]
["2007-06-12",64]
["2007-06-13",62]
["2007-06-14",153]
["2007-06-15",766]
["2007-06-16",248]
["2007-06-17",320]
["2007-06-18",472]
["2007-06-19",331]
["2007-06-20",250]
["2007-06-21",267]
["2007-06-22",1020]
["2007-06-23",537]
["2007-06-24",147]
["2007-06-25",195]
["2007-06-26",275]
["2007-06-27",1320]
["2007-06-28",1760]
["2007-06-29",1100]
["2007-06-30",748]
["2007-07-01",703]
["2007-07-02",796]
["2007-07-03",299]
["2007-07-04",210]
["2007-07-05",708]
["2007-07-06",673]
["2007-07-07",386]
["2007-07-08",1090]
["2007-07-09",1620]
["2007-07-10",2180]
["2007-07-11",2330]
["2007-07-12",2300]
["2007-07-13",2280]
["2007-07-14",1720]
["2007-07-15",747]
["2007-07-16",1060]
["2007-07-17",869]
["2007-07-18",629]
["2007-07-19",150]
["2007-07-20",772]
["2007-07-21",750]
["2007-07-22",1370]
["2007-07-23",2160]
["2007-07-24",2280]
["2007-07-25",1580]
["2007-07-26",305]
["2007-07-27",300]
["2007-07-28",294]
["2007-07-29",1250]
["2007-07-30",1580]
["2007-07-31",2030]
["2007-08-01",1830]
["2007-08-02",475]
["2007-08-03",1890]
["2007-08-04",1980]
["2007-08-05",2130]
["2007-08-06",2110]
["2007-08-07",2200]
["2007-08-08",2260]
["2007-08-09",2260]
["2007-08-10",2230]
["2007-08-11",2190]
["2007-08-12",2140]
["2007-08-13",2010]
["2007-08-14",1870]
["2007-08-15",455]
["2007-08-16",728]
["2007-08-17",419]
["2007-08-18",451]
["2007-08-19",1620]
["2007-08-20",1920]
["2007-08-21",1850]
["2007-08-22",1880]
["2007-08-23",1880]
["2007-08-24",1680]
["2007-08-25",908]
["2007-08-26",178]
["2007-08-27",121]
["2007-08-28",157]
["2007-08-29",825]
["2007-08-30",685]
["2007-08-31",232]
["2007-09-01",133]
["2007-09-02",52]
["2007-09-03",229]
["2007-09-04",170]
["2007-09-05",290]
["2007-09-06",780]
["2007-09-07",1120]
["2007-09-08",1250]
["2007-09-09",809]
["2007-09-10",768]
["2007-09-11",714]
["2007-09-12",339]
["2007-09-13",340]
["2007-09-14",178]
["2007-09-15",81]
["2007-09-16",74]
["2007-09-17",70]
["2007-09-18",68]
["2007-09-19",69]
["2007-09-20",66]
["2007-09-21",67]
["2007-09-22",62]
["2007-09-23",62]
["2007-09-24",66]
["2007-09-25",68]
["2007-09-26",60]
["2007-09-27",62]
["2007-09-28",78]
["2007-09-29",80]
["2007-09-30",79]
["2007-10-01",110]
["2007-10-02",92]
["2007-10-03",73]
["2007-10-04",60]
["2007-10-05",56]
["2007-10-06",60]
["2007-10-07",118]
["2007-10-08",138]
["2007-10-09",87]
["2007-10-10",71]
["2007-10-11",58]
["2007-10-12",55]
["2007-10-13",55]
["2007-10-14",53]
["2007-10-15",368]
["2007-10-16",888]
["2007-10-17",1400]
["2007-10-18",1510]
["2007-10-19",1530]
["2007-10-20",1340]
["2007-10-21",193]
["2007-10-22",138]
["2007-10-23",130]
["2007-10-24",107]
["2007-10-25",93]
["2007-10-26",84]
["2007-10-27",78]
["2007-10-28",85]
["2007-10-29",92]
["2007-10-30",86]
["2007-10-31",80]
["2007-11-01",77]
["2007-11-02",77]
["2007-11-03",73]
["2007-11-04",73]
["2007-11-05",74]
["2007-11-06",70]
["2007-11-07",64]
["2007-11-08",67]
["2007-11-09",69]
["2007-11-10",69]
["2007-11-11",71]
["2007-11-12",72]
["2007-11-13",69]
["2007-11-14",64]
["2007-11-15",62]
["2007-11-16",60]
["2007-11-17",65]
["2007-11-18",902]
["2007-11-19",891]
["2007-11-20",1510]
["2007-11-21",770]
["2007-11-22",919]
["2007-11-23",680]
["2007-11-24",796]
["2007-11-25",466]
["2007-11-26",1220]
["2007-11-27",1660]
["2007-11-28",1610]
["2007-11-29",1660]
["2007-11-30",1710]
["2007-12-01",1680]
["2007-12-02",1480]
["2007-12-03",1520]
["2007-12-04",1640]
["2007-12-05",1530]
["2007-12-06",904]
["2007-12-07",120]
["2007-12-08",112]
["2007-12-09",98]
["2007-12-10",107]
["2007-12-11",128]
["2007-12-12",135]
["2007-12-13",215]
["2007-12-14",178]
["2007-12-15",644]
["2007-12-16",724]
["2007-12-17",634]
["2007-12-18",372]
["2007-12-19",187]
["2007-12-20",172]
["2007-12-21",147]
["2007-12-22",121]
["2007-12-23",108]
["2007-12-24",95]
["2007-12-25",89]
["2007-12-26",96]
["2007-12-27",113]
["2007-12-28",119]
["2007-12-29",109]
["2007-12-30",91]
["2007-12-31",82]
["2008-01-01",75]

{"sheet":"Fecal Coliform","index":6,"n_rows":407,"n_cols":7,"rows_kept":407,"cut":false,"hidden":false,"merged":[[1,0,1,3],[1,5,1,6],[1,4,2,4]]}
[]
["TRACS",null,null,null,"USGS Flow (cfs)","Calculated Values"]
["Date","Storet Code","Qualifier","Value (CFU/100 mL)",null,"Probability of Flow","Fecal Coliform Load (CFU/day)"]
["2001-04-04",31616,null,500,{"$f":"LOOKUP(A4,'Flow Data'!A$6:A$2928,'Flow Data'!B$6:B$2928)","v":1800},{"$f":"LOOKUP(E4,'Flow Data'!D$6:D$737,'Flow Data'!H$6:H$737)","v":4.4474854601438518E-2},{"$f":"((D4/100)*1000*E4*28.3168)*60*60*24","v":22019143680000}]
["2002-11-25",31613,null,81,{"$f":"LOOKUP(A5,'Flow Data'!A$6:A$2928,'Flow Data'!B$6:B$2928)","v":1790},{"$f":"LOOKUP(E5,'Flow Data'!D$6:D$737,'Flow Data'!H$6:H$737)","v":4.6185425932263047E-2},{"$f":"((D5/100)*1000*E5*28.3168)*60*60*24","v":3547284046848}]
["2002-11-25",31613,"<",10,{"$f":"LOOKUP(A6,'Flow Data'!A$6:A$2928,'Flow Data'!B$6:B$2928)","v":1790},{"$f":"LOOKUP(E6,'Flow Data'!D$6:D$737,'Flow Data'!H$6:H$737)","v":4.6185425932263047E-2},{"$f":"((D6/100)*1000*E6*28.3168)*60*60*24","v":437936302080}]
["2000-04-05",31616,null,540,{"$f":"LOOKUP(A7,'Flow Data'!A$6:A$2928,'Flow Data'!B$6:B$2928)","v":1670},{"$f":"LOOKUP(E7,'Flow Data'!D$6:D$737,'Flow Data'!H$6:H$737)","v":6.7738624700651395E-2},{"$f":"((D7/100)*1000*E7*28.3168)*60*60*24","v":22063181967360}]
["2000-04-05",31616,null,2000,{"$f":"LOOKUP(A8,'Flow Data'!A$6:A$2928,'Flow Data'!B$6:B$2928)","v":1670},{"$f":"LOOKUP(E8,'Flow Data'!D$6:D$737,'Flow Data'!H$6:H$737)","v":6.7738624700651395E-2},{"$f":"((D8/100)*1000*E8*28.3168)*60*60*24","v":81715488768000}]
["2000-04-05",31616,null,850,{"$f":"LOOKUP(A9,'Flow Data'!A$6:A$2928,'Flow Data'!B$6:B$2928)","v":1670},{"$f":"LOOKUP(E9,'Flow Data'!D$6:D$737,'Flow Data'!H$6:H$737)","v":6.7738624700651395E-2},{"$f":"((D9/100)*1000*E9*28.3168)*60*60*24","v":34729082726400}]
["2000-04-05",31616,null,870,{"$f":"LOOKUP(A10,'Flow Data'!A$6:A$2928,'Flow Data'!B$6:B$2928)","v":1670},{"$f":"LOOKUP(E10,'Flow Data'!D$6:D$737,'Flow Data'!H$6:H$737)","v":6.7738624700651395E-2},{"$f":"((D10/100)*1000*E10*28.3168)*60*60*24","v":35546237614080}]
["2000-04-05",31616,null,740,{"$f":"LOOKUP(A11,'Flow Data'!A$6:A$2928,'Flow Data'!B$6:B$2928)","v":1670},{"$f":"LOOKUP(E11,'Flow Data'!D$6:D$737,'Flow Data'!H$6:H$737)","v":6.7738624700651395E-2},{"$f":"((D11/100)*1000*E11*28.3168)*60*60*24","v":30234730844160.008}]
["2000-04-05",31616,null,1200,{"$f":"LOOKUP(A12,'Flow Data'!A$6:A$2928,'Flow Data'!B$6:B$2928)","v":1670},{"$f":"LOOKUP(E12,'Flow Data'!D$6:D$737,'Flow Data'!H$6:H$737)","v":6.7738624700651395E-2},{"$f":"((D12/100)*1000*E12*28.3168)*60*60*24","v":49029293260800}]
["2001-03-06",31616,null,890,{"$f":"LOOKUP(A13,'Flow Data'!A$6:A$2928,'Flow Data'!B$6:B$2928)","v":1630},{"$f":"LOOKUP(E13,'Flow Data'!D$6:D$737,'Flow Data'!H$6:H$737)","v":7.1843995894630197E-2},{"$f":"((D13/100)*1000*E13*28.3168)*60*60*24","v":35492413040640}]
["2001-03-06",31616,null,600,{"$f":"LOOKUP(A14,'Flow Data'!A$6:A$2928,'Flow Data'!B$6:B$2928)","v":1630},{"$f":"LOOKUP(E14,'Flow Data'!D$6:D$737,'Flow Data'!H$6:H$737)","v":7.1843995894630197E-2},{"$f":"((D14/100)*1000*E14*28.3168)*60*60*24","v":23927469465600}]
["2001-03-06",31616,null,580,{"$f":"LOOKUP(A15,'Flow Data'!A$6:A$2928,'Flow Data'!B$6:B$2928)","v":1630},{"$f":"LOOKUP(E15,'Flow Data'!D$6:D$737,'Flow Data'!H$6:H$737)","v":7.1843995894630197E-2},{"$f":"((D15/100)*1000*E15*28.3168)*60*60*24","v":23129887150080.004}]
["2001-03-06",31616,null,750,{"$f":"LOOKUP(A16,'Flow Data'!A$6:A$2928,'Flow Data'!B$6:B$2928)","v":1630},{"$f":"LOOKUP(E16,'Flow Data'!D$6:D$737,'Flow Data'!H$6:H$737)","v":7.1843995894630197E-2},{"$f":"((D16/100)*1000*E16*28.3168)*60*60*24","v":29909336832000}]
["2001-03-06",31616,null,420,{"$f":"LOOKUP(A17,'Flow Data'!A$6:A$2928,'Flow Data'!B$6:B$2928)","v":1630},{"$f":"LOOKUP(E17,'Flow Data'!D$6:D$737,'Flow Data'!H$6:H$737)","v":7.1843995894630197E-2},{"$f":"((D17/100)*1000*E17*28.3168)*60*60*24","v":16749228625920}]
["2001-03-06",31616,null,480,{"$f":"LOOKUP(A18,'Flow Data'!A$6:A$2928,'Flow Data'!B$6:B$2928)","v":1630},{"$f":"LOOKUP(E18,'Flow Data'!D$6:D$737,'Flow Data'!H$6:H$737)","v":7.1843995894630197E-2},{"$f":"((D18/100)*1000*E18*28.3168)*60*60*24","v":19141975572480.004}]
["2001-04-03",31616,null,350,{"$f":"LOOKUP(A19,'Flow Data'!A$6:A$2928,'Flow Data'!B$6:B$2928)","v":1630},{"$f":"LOOKUP(E19,'Flow Data'!D$6:D$737,'Flow Data'!H$6:H$737)","v":7.1843995894630197E-2},{"$f":"((D19/100)*1000*E19*28.3168)*60*60*24","v":13957690521600}]
["2001-04-03",31616,null,380,{"$f":"LOOKUP(A20,'Flow Data'!A$6:A$2928,'Flow Data'!B$6:B$2928)","v":1630},{"$f":"LOOKUP(E20,'Flow Data'!D$6:D$737,'Flow Data'!H$6:H$737)","v":7.1843995894630197E-2},{"$f":"((D20/100)*1000*E20*28.3168)*60*60*24","v":15154063994880.004}]
["2001-04-03",31616,null,310,{"$f":"LOOKUP(A21,'Flow Data'!A$6:A$2928,'Flow Data'!B$6:B$2928)","v":1630},{"$f":"LOOKUP(E21,'Flow Data'!D$6:D$737,'Flow Data'!H$6:H$737)","v":7.1843995894630197E-2},{"$f":"((D21/100)*1000*E21*28.3168)*60*60*24","v":12362525890560}]
["2001-04-03",31616,null,200,{"$f":"LOOKUP(A22,'Flow Data'!A$6:A$2928,'Flow Data'!B$6:B$2928)","v":1630},{"$f":"LOOKUP(E22,'Flow Data'!D$6:D$737,'Flow Data'!H$6:H$737)","v":7.1843995894630197E-2},{"$f":"((D22/100)*1000*E22*28.3168)*60*60*24","v":7975823155200}]
["2001-04-03",31616,"<",10,{"$f":"LOOKUP(A23,'Flow Data'!A$6:A$2928,'Flow Data'!B$6:B$2928)","v":1630},{"$f":"LOOKUP(E23,'Flow Data'!D$6:D$737,'Flow Data'!H$6:H$737)","v":7.1843995894630197E-2},{"$f":"((D23/100)*1000*E23*28.3168)*60*60*24","v":398791157760}]
["2001-04-03",31616,null,2100,{"$f":"LOOKUP(A24,'Flow Data'!A$6:A$2928,'Flow Data'!B$6:B$2928)","v":1630},{"$f":"LOOKUP(E24,'Flow Data'!D$6:D$737,'Flow Data'!H$6:H$737)","v":7.1843995894630197E-2},{"$f":"((D24/100)*1000*E24*28.3168)*60*60*24","v":83746143129600}]
["2001-06-13",31613,null,2400,{"$f":"LOOKUP(A25,'Flow Data'!A$6:A$2928,'Flow Data'!B$6:B$2928)","v":1630},{"$f":"LOOKUP(E25,'Flow Data'!D$6:D$737,'Flow Data'!H$6:H$737)","v":7.1843995894630197E-2},{"$f":"((D25/100)*1000*E25*28.3168)*60*60*24","v":95709877862400}]
["2000-11-20",31616,null,4800,{"$f":"LOOKUP(A26,'Flow Data'!A$6:A$2928,'Flow Data'!B$6:B$2928)","v":1460},{"$f":"LOOKUP(E26,'Flow Data'!D$6:D$737,'Flow Data'!H$6:H$737)","v":9.3397194663018768E-2},{"$f":"((D26/100)*1000*E26*28.3168)*60*60*24","v":171455732121600}]
["2000-11-20",31616,null,6900,{"$f":"LOOKUP(A27,'Flow Data'!A$6:A$2928,'Flow Data'!B$6:B$2928)","v":1460},{"$f":"LOOKUP(E27,'Flow Data'!D$6:D$737,'Flow Data'!H$6:H$737)","v":9.3397194663018768E-2},{"$f":"((D27/100)*1000*E27*28.3168)*60*60*24","v":246467614924800}]
["2000-11-20",31616,null,6000,{"$f":"LOOKUP(A28,'Flow Data'!A$6:A$2928,'Flow Data'!B$6:B$2928)","v":1460},{"$f":"LOOKUP(E28,'Flow Data'!D$6:D$737,'Flow Data'!H$6:H$737)","v":9.3397194663018768E-2},{"$f":"((D28/100)*1000*E28*28.3168)*60*60*24","v":214319665152000}]
["2000-11-20",31616,null,4900,{"$f":"LOOKUP(A29,'Flow Data'!A$6:A$2928,'Flow Data'!B$6:B$2928)","v":1460},{"$f":"LOOKUP(E29,'Flow Data'!D$6:D$737,'Flow Data'!H$6:H$737)","v":9.3397194663018768E-2},{"$f":"((D29/100)*1000*E29*28.3168)*60*60*24","v":175027726540800}]
["2000-11-20",31616,null,4700,{"$f":"LOOKUP(A30,'Flow Data'!A$6:A$2928,'Flow Data'!B$6:B$2928)","v":1460},{"$f":"LOOKUP(E30,'Flow Data'!D$6:D$737,'Flow Data'!H$6:H$737)","v":9.3397194663018768E-2},{"$f":"((D30/100)*1000*E30*28.3168)*60*60*24","v":167883737702400}]
["2001-05-10",31616,null,20000,{"$f":"LOOKUP(A31,'Flow Data'!A$6:A$2928,'Flow Data'!B$6:B$2928)","v":1350},{"$f":"LOOKUP(E31,'Flow Data'!D$6:D$737,'Flow Data'!H$6:H$737)","v":0.10331850838180079},{"$f":"((D31/100)*1000*E31*28.3168)*60*60*24","v":660574310400000}]
["2001-05-10",31616,null,3300,{"$f":"LOOKUP(A32,'Flow Data'!A$6:A$2928,'Flow Data'!B$6:B$2928)","v":1350},{"$f":"LOOKUP(E32,'Flow Data'!D$6:D$737,'Flow Data'!H$6:H$737)","v":0.10331850838180079},{"$f":"((D32/100)*1000*E32*28.3168)*60*60*24","v":108994761216000}]
["2001-05-10",31616,null,410,{"$f":"LOOKUP(A33,'Flow Data'!A$6:A$2928,'Flow Data'!B$6:B$2928)","v":1350},{"$f":"LOOKUP(E33,'Flow Data'!D$6:D$737,'Flow Data'!H$6:H$737)","v":0.10331850838180079},{"$f":"((D33/100)*1000*E33*28.3168)*60*60*24","v":13541773363200}]
["2001-05-10",31616,null,600,{"$f":"LOOKUP(A34,'Flow Data'!A$6:A$2928,'Flow Data'!B$6:B$2928)","v":1350},{"$f":"LOOKUP(E34,'Flow Data'!D$6:D$737,'Flow Data'!H$6:H$737)","v":0.10331850838180079},{"$f":"((D34/100)*1000*E34*28.3168)*60*60*24","v":19817229312000}]
["2001-05-10",31616,null,210,{"$f":"LOOKUP(A35,'Flow Data'!A$6:A$2928,'Flow Data'!B$6:B$2928)","v":1350},{"$f":"LOOKUP(E35,'Flow Data'!D$6:D$737,'Flow Data'!H$6:H$737)","v":0.10331850838180079},{"$f":"((D35/100)*1000*E35*28.3168)*60*60*24","v":6936030259200}]
["2001-05-10",31616,null,800,{"$f":"LOOKUP(A36,'Flow Data'!A$6:A$2928,'Flow Data'!B$6:B$2928)","v":1350},{"$f":"LOOKUP(E36,'Flow Data'!D$6:D$737,'Flow Data'!H$6:H$737)","v":0.10331850838180079},{"$f":"((D36/100)*1000*E36*28.3168)*60*60*24","v":26422972416000}]
["2001-04-02",31616,null,210,{"$f":"LOOKUP(A37,'Flow Data'!A$6:A$2928,'Flow Data'!B$6:B$2928)","v":1320},{"$f":"LOOKUP(E37,'Flow Data'!D$6:D$737,'Flow Data'!H$6:H$737)","v":0.10673965104344973},{"$f":"((D37/100)*1000*E37*28.3168)*60*60*24","v":6781896253440.002}]
["2001-04-02",31616,null,170,{"$f":"LOOKUP(A38,'Flow Data'!A$6:A$2928,'Flow Data'!B$6:B$2928)","v":1320},{"$f":"LOOKUP(E38,'Flow Data'!D$6:D$737,'Flow Data'!H$6:H$737)","v":0.10673965104344973},{"$f":"((D38/100)*1000*E38*28.3168)*60*60*24","v":5490106490880}]
["2001-04-02",31616,null,180,{"$f":"LOOKUP(A39,'Flow Data'!A$6:A$2928,'Flow Data'!B$6:B$2928)","v":1320},{"$f":"LOOKUP(E39,'Flow Data'!D$6:D$737,'Flow Data'!H$6:H$737)","v":0.10673965104344973},{"$f":"((D39/100)*1000*E39*28.3168)*60*60*24","v":5813053931520}]
["2001-04-02",31616,null,230,{"$f":"LOOKUP(A40,'Flow Data'!A$6:A$2928,'Flow Data'!B$6:B$2928)","v":1320},{"$f":"LOOKUP(E40,'Flow Data'!D$6:D$737,'Flow Data'!H$6:H$737)","v":0.10673965104344973},{"$f":"((D40/100)*1000*E40*28.3168)*60*60*24","v":7427791134720}]
["2001-04-02",31616,null,820,{"$f":"LOOKUP(A41,'Flow Data'!A$6:A$2928,'Flow Data'!B$6:B$2928)","v":1320},{"$f":"LOOKUP(E41,'Flow Data'!D$6:D$737,'Flow Data'!H$6:H$737)","v":0.10673965104344973},{"$f":"((D41/100)*1000*E41*28.3168)*60*60*24","v":26481690132480}]
["2000-04-06",31616,null,2100,{"$f":"LOOKUP(A42,'Flow Data'!A$6:A$2928,'Flow Data'!B$6:B$2928)","v":1200},{"$f":"LOOKUP(E42,'Flow Data'!D$6:D$737,'Flow Data'!H$6:H$737)","v":0.12110845022237549},{"$f":"((D42/100)*1000*E42*28.3168)*60*60*24","v":61653602304000}]
["2001-01-22",31616,null,470,{"$f":"LOOKUP(A43,'Flow Data'!A$6:A$2928,'Flow Data'!B$6:B$2928)","v":1170},{"$f":"LOOKUP(E43,'Flow Data'!D$6:D$737,'Flow Data'!H$6:H$737)","v":0.12350325008552976},{"$f":"((D43/100)*1000*E43*28.3168)*60*60*24","v":13453696788480.004}]
["2001-01-22",31616,null,3100,{"$f":"LOOKUP(A44,'Flow Data'!A$6:A$2928,'Flow Data'!B$6:B$2928)","v":1170},{"$f":"LOOKUP(E44,'Flow Data'!D$6:D$737,'Flow Data'!H$6:H$737)","v":0.12350325008552976},{"$f":"((D44/100)*1000*E44*28.3168)*60*60*24","v":88737149030400}]
["2001-06-18",31613,null,580,{"$f":"LOOKUP(A45,'Flow Data'!A$6:A$2928,'Flow Data'!B$6:B$2928)","v":1170},{"$f":"LOOKUP(E45,'Flow Data'!D$6:D$737,'Flow Data'!H$6:H$737)","v":0.12350325008552976},{"$f":"((D45/100)*1000*E45*28.3168)*60*60*24","v":16602434334720}]
["2000-11-06",31616,null,31000,{"$f":"LOOKUP(A46,'Flow Data'!A$6:A$2928,'Flow Data'!B$6:B$2928)","v":1000},{"$f":"LOOKUP(E46,'Flow Data'!D$6:D$737,'Flow Data'!H$6:H$737)","v":0.14505644885391822},{"$f":"((D46/100)*1000*E46*28.3168)*60*60*24","v":758437171200000}]
["2000-11-06",31616,null,40000,{"$f":"LOOKUP(A47,'Flow Data'!A$6:A$2928,'Flow Data'!B$6:B$2928)","v":1000},{"$f":"LOOKUP(E47,'Flow Data'!D$6:D$737,'Flow Data'!H$6:H$737)","v":0.14505644885391822},{"$f":"((D47/100)*1000*E47*28.3168)*60*60*24","v":978628608000000}]
["2000-11-06",31616,null,45000,{"$f":"LOOKUP(A48,'Flow Data'!A$6:A$2928,'Flow Data'!B$6:B$2928)","v":1000},{"$f":"LOOKUP(E48,'Flow Data'!D$6:D$737,'Flow Data'!H$6:H$737)","v":0.14505644885391822},{"$f":"((D48/100)*1000*E48*28.3168)*60*60*24","v":1100957184000000}]
["2000-11-06",31616,null,37000,{"$f":"LOOKUP(A49,'Flow Data'!A$6:A$2928,'Flow Data'!B$6:B$2928)","v":1000},{"$f":"LOOKUP(E49,'Flow Data'!D$6:D$737,'Flow Data'!H$6:H$737)","v":0.14505644885391822},{"$f":"((D49/100)*1000*E49*28.3168)*60*60*24","v":905231462400000}]
["2000-11-06",31616,null,55000,{"$f":"LOOKUP(A50,'Flow Data'!A$6:A$2928,'Flow Data'!B$6:B$2928)","v":1000},{"$f":"LOOKUP(E50,'Flow Data'!D$6:D$737,'Flow Data'!H$6:H$737)","v":0.14505644885391822},{"$f":"((D50/100)*1000*E50*28.3168)*60*60*24","v":1345614336000000}]
["2000-11-06",31616,null,33000,{"$f":"LOOKUP(A51,'Flow Data'!A$6:A$2928,'Flow Data'!B$6:B$2928)","v":1000},{"$f":"LOOKUP(E51,'Flow Data'!D$6:D$737,'Flow Data'!H$6:H$737)","v":0.14505644885391822},{"$f":"((D51/100)*1000*E51*28.3168)*60*60*24","v":807368601600000}]
["2001-03-15",31616,null,22000,{"$f":"LOOKUP(A52,'Flow Data'!A$6:A$2928,'Flow Data'!B$6:B$2928)","v":993},{"$f":"LOOKUP(E52,'Flow Data'!D$6:D$737,'Flow Data'!H$6:H$737)","v":0.14642490591857782},{"$f":"((D52/100)*1000*E52*28.3168)*60*60*24","v":534478014259200}]
["2000-11-14",31613,null,21000,{"$f":"LOOKUP(A53,'Flow Data'!A$6:A$2928,'Flow Data'!B$6:B$2928)","v":964},{"$f":"LOOKUP(E53,'Flow Data'!D$6:D$737,'Flow Data'!H$6:H$737)","v":0.1515566199110514},{"$f":"((D53/100)*1000*E53*28.3168)*60*60*24","v":495283938508800}]
["2001-04-09",31616,null,220,{"$f":"LOOKUP(A54,'Flow Data'!A$6:A$2928,'Flow Data'!B$6:B$2928)","v":904},{"$f":"LOOKUP(E54,'Flow Data'!D$6:D$737,'Flow Data'!H$6:H$737)","v":0.16250427642832843},{"$f":"((D54/100)*1000*E54*28.3168)*60*60*24","v":4865741438976}]
["2001-04-09",31616,null,410,{"$f":"LOOKUP(A55,'Flow Data'!A$6:A$2928,'Flow Data'!B$6:B$2928)","v":904},{"$f":"LOOKUP(E55,'Flow Data'!D$6:D$737,'Flow Data'!H$6:H$737)","v":0.16250427642832843},{"$f":"((D55/100)*1000*E55*28.3168)*60*60*24","v":9067972681728}]
["2001-04-09",31616,null,210,{"$f":"LOOKUP(A56,'Flow Data'!A$6:A$2928,'Flow Data'!B$6:B$2928)","v":904},{"$f":"LOOKUP(E56,'Flow Data'!D$6:D$737,'Flow Data'!H$6:H$737)","v":0.16250427642832843},{"$f":"((D56/100)*1000*E56*28.3168)*60*60*24","v":4644571373568.001}]
["2001-04-09",31616,null,320,{"$f":"LOOKUP(A57,'Flow Data'!A$6:A$2928,'Flow Data'!B$6:B$2928)","v":904},{"$f":"LOOKUP(E57,'Flow Data'!D$6:D$737,'Flow Data'!H$6:H$737)","v":0.16250427642832843},{"$f":"((D57/100)*1000*E57*28.3168)*60*60*24","v":7077442093056.002}]
["2001-04-09",31616,null,340,{"$f":"LOOKUP(A58,'Flow Data'!A$6:A$2928,'Flow Data'!B$6:B$2928)","v":904},{"$f":"LOOKUP(E58,'Flow Data'!D$6:D$737,'Flow Data'!H$6:H$737)","v":0.16250427642832843},{"$f":"((D58/100)*1000*E58*28.3168)*60*60*24","v":7519782223872}]
["2000-04-04",31616,null,4000,{"$f":"LOOKUP(A59,'Flow Data'!A$6:A$2928,'Flow Data'!B$6:B$2928)","v":849},{"$f":"LOOKUP(E59,'Flow Data'!D$6:D$737,'Flow Data'!H$6:H$737)","v":0.17174136161478082},{"$f":"((D59/100)*1000*E59*28.3168)*60*60*24","v":83085568819200}]
["2000-04-04",31616,null,18000,{"$f":"LOOKUP(A60,'Flow Data'!A$6:A$2928,'Flow Data'!B$6:B$2928)","v":849},{"$f":"LOOKUP(E60,'Flow Data'!D$6:D$737,'Flow Data'!H$6:H$737)","v":0.17174136161478082},{"$f":"((D60/100)*1000*E60*28.3168)*60*60*24","v":373885059686400}]
["2000-04-04",31616,null,28000,{"$f":"LOOKUP(A61,'Flow Data'!A$6:A$2928,'Flow Data'!B$6:B$2928)","v":849},{"$f":"LOOKUP(E61,'Flow Data'!D$6:D$737,'Flow Data'!H$6:H$737)","v":0.17174136161478082},{"$f":"((D61/100)*1000*E61*28.3168)*60*60*24","v":581598981734400}]
["2000-04-04",31616,null,7400,{"$f":"LOOKUP(A62,'Flow Data'!A$6:A$2928,'Flow Data'!B$6:B$2928)","v":849},{"$f":"LOOKUP(E62,'Flow Data'!D$6:D$737,'Flow Data'!H$6:H$737)","v":0.17174136161478082},{"$f":"((D62/100)*1000*E62*28.3168)*60*60*24","v":153708302315520}]
["2000-04-04",31616,null,8400,{"$f":"LOOKUP(A63,'Flow Data'!A$6:A$2928,'Flow Data'!B$6:B$2928)","v":849},{"$f":"LOOKUP(E63,'Flow Data'!D$6:D$737,'Flow Data'!H$6:H$737)","v":0.17174136161478082},{"$f":"((D63/100)*1000*E63*28.3168)*60*60*24","v":174479694520320}]
["2001-03-05",31616,null,2600,{"$f":"LOOKUP(A64,'Flow Data'!A$6:A$2928,'Flow Data'!B$6:B$2928)","v":836},{"$f":"LOOKUP(E64,'Flow Data'!D$6:D$737,'Flow Data'!H$6:H$737)","v":0.17584673280875973},{"$f":"((D64/100)*1000*E64*28.3168)*60*60*24","v":53178678558720.016}]
["2001-03-05",31616,null,2100,{"$f":"LOOKUP(A65,'Flow Data'!A$6:A$2928,'Flow Data'!B$6:B$2928)","v":836},{"$f":"LOOKUP(E65,'Flow Data'!D$6:D$737,'Flow Data'!H$6:H$737)","v":0.17584673280875973},{"$f":"((D65/100)*1000*E65*28.3168)*60*60*24","v":42952009605120}]
["2001-03-05",31616,null,3200,{"$f":"LOOKUP(A66,'Flow Data'!A$6:A$2928,'Flow Data'!B$6:B$2928)","v":836},{"$f":"LOOKUP(E66,'Flow Data'!D$6:D$737,'Flow Data'!H$6:H$737)","v":0.17584673280875973},{"$f":"((D66/100)*1000*E66*28.3168)*60*60*24","v":65450681303040}]
["2001-03-05",31616,null,3100,{"$f":"LOOKUP(A67,'Flow Data'!A$6:A$2928,'Flow Data'!B$6:B$2928)","v":836},{"$f":"LOOKUP(E67,'Flow Data'!D$6:D$737,'Flow Data'!H$6:H$737)","v":0.17584673280875973},{"$f":"((D67/100)*1000*E67*28.3168)*60*60*24","v":63405347512320.016}]
["2001-03-05",31616,null,2900,{"$f":"LOOKUP(A68,'Flow Data'!A$6:A$2928,'Flow Data'!B$6:B$2928)","v":836},{"$f":"LOOKUP(E68,'Flow Data'!D$6:D$737,'Flow Data'!H$6:H$737)","v":0.17584673280875973},{"$f":"((D68/100)*1000*E68*28.3168)*60*60*24","v":59314679930880}]
["2001-04-18",31616,null,6600,{"$f":"LOOKUP(A69,'Flow Data'!A$6:A$2928,'Flow Data'!B$6:B$2928)","v":695},{"$f":"LOOKUP(E69,'Flow Data'!D$6:D$737,'Flow Data'!H$6:H$737)","v":0.20047895997263265},{"$f":"((D69/100)*1000*E69*28.3168)*60*60*24","v":112224235622400}]
["2001-01-11",31616,null,8700,{"$f":"LOOKUP(A70,'Flow Data'!A$6:A$2928,'Flow Data'!B$6:B$2928)","v":669},{"$f":"LOOKUP(E70,'Flow Data'!D$6:D$737,'Flow Data'!H$6:H$737)","v":0.20595278823127083},{"$f":"((D70/100)*1000*E70*28.3168)*60*60*24","v":142397802178560}]
["2001-01-11",31616,null,9300,{"$f":"LOOKUP(A71,'Flow Data'!A$6:A$2928,'Flow Data'!B$6:B$2928)","v":669},{"$f":"LOOKUP(E71,'Flow Data'!D$6:D$737,'Flow Data'!H$6:H$737)","v":0.20595278823127083},{"$f":"((D71/100)*1000*E71*28.3168)*60*60*24","v":152218340259840.03}]
["2001-01-11",31616,null,5900,{"$f":"LOOKUP(A72,'Flow Data'!A$6:A$2928,'Flow Data'!B$6:B$2928)","v":669},{"$f":"LOOKUP(E72,'Flow Data'!D$6:D$737,'Flow Data'!H$6:H$737)","v":0.20595278823127083},{"$f":"((D72/100)*1000*E72*28.3168)*60*60*24","v":96568624465920}]
["2001-01-11",31616,null,5100,{"$f":"LOOKUP(A73,'Flow Data'!A$6:A$2928,'Flow Data'!B$6:B$2928)","v":669},{"$f":"LOOKUP(E73,'Flow Data'!D$6:D$737,'Flow Data'!H$6:H$737)","v":0.20595278823127083},{"$f":"((D73/100)*1000*E73*28.3168)*60*60*24","v":83474573690880}]
["2001-01-11",31616,null,6200,{"$f":"LOOKUP(A74,'Flow Data'!A$6:A$2928,'Flow Data'!B$6:B$2928)","v":669},{"$f":"LOOKUP(E74,'Flow Data'!D$6:D$737,'Flow Data'!H$6:H$737)","v":0.20595278823127083},{"$f":"((D74/100)*1000*E74*28.3168)*60*60*24","v":101478893506560}]
["2001-01-11",31616,null,6700,{"$f":"LOOKUP(A75,'Flow Data'!A$6:A$2928,'Flow Data'!B$6:B$2928)","v":669},{"$f":"LOOKUP(E75,'Flow Data'!D$6:D$737,'Flow Data'!H$6:H$737)","v":0.20595278823127083},{"$f":"((D75/100)*1000*E75*28.3168)*60*60*24","v":109662675240960}]
["2000-04-13",31616,null,90,{"$f":"LOOKUP(A76,'Flow Data'!A$6:A$2928,'Flow Data'!B$6:B$2928)","v":663},{"$f":"LOOKUP(E76,'Flow Data'!D$6:D$737,'Flow Data'!H$6:H$737)","v":0.20663701676360069},{"$f":"((D76/100)*1000*E76*28.3168)*60*60*24","v":1459869225983.9998}]
["2000-06-12",31616,null,930,{"$f":"LOOKUP(A77,'Flow Data'!A$6:A$2928,'Flow Data'!B$6:B$2928)","v":614},{"$f":"LOOKUP(E77,'Flow Data'!D$6:D$737,'Flow Data'!H$6:H$737)","v":0.21655833048238304},{"$f":"((D77/100)*1000*E77*28.3168)*60*60*24","v":13970412693504}]
["2000-11-15",31616,null,3500,{"$f":"LOOKUP(A78,'Flow Data'!A$6:A$2928,'Flow Data'!B$6:B$2928)","v":572},{"$f":"LOOKUP(E78,'Flow Data'!D$6:D$737,'Flow Data'!H$6:H$737)","v":0.22613752993500014},{"$f":"((D78/100)*1000*E78*28.3168)*60*60*24","v":48980361830400}]
["2001-01-29",31616,">",200000,{"$f":"LOOKUP(A79,'Flow Data'!A$6:A$2928,'Flow Data'!B$6:B$2928)","v":568},{"$f":"LOOKUP(E79,'Flow Data'!D$6:D$737,'Flow Data'!H$6:H$737)","v":0.22716387273349481},{"$f":"((D79/100)*1000*E79*28.3168)*60*60*24","v":2779305246720000}]
["2001-05-07",31616,null,1600,{"$f":"LOOKUP(A80,'Flow Data'!A$6:A$2928,'Flow Data'!B$6:B$2928)","v":503},{"$f":"LOOKUP(E80,'Flow Data'!D$6:D$737,'Flow Data'!H$6:H$737)","v":0.24119055764625585},{"$f":"((D80/100)*1000*E80*28.3168)*60*60*24","v":19690007592960}]
["2001-05-07",31616,null,5700,{"$f":"LOOKUP(A81,'Flow Data'!A$6:A$2928,'Flow Data'!B$6:B$2928)","v":503},{"$f":"LOOKUP(E81,'Flow Data'!D$6:D$737,'Flow Data'!H$6:H$737)","v":0.24119055764625585},{"$f":"((D81/100)*1000*E81*28.3168)*60*60*24","v":70145652049920.016}]
["2001-05-07",31616,null,22000,{"$f":"LOOKUP(A82,'Flow Data'!A$6:A$2928,'Flow Data'!B$6:B$2928)","v":503},{"$f":"LOOKUP(E82,'Flow Data'!D$6:D$737,'Flow Data'!H$6:H$737)","v":0.24119055764625585},{"$f":"((D82/100)*1000*E82*28.3168)*60*60*24","v":270737604403200}]
["2001-05-07",31616,null,26000,{"$f":"LOOKUP(A83,'Flow Data'!A$6:A$2928,'Flow Data'!B$6:B$2928)","v":503},{"$f":"LOOKUP(E83,'Flow Data'!D$6:D$737,'Flow Data'!H$6:H$737)","v":0.24119055764625585},{"$f":"((D83/100)*1000*E83*28.3168)*60*60*24","v":319962623385600}]
["2001-05-07",31616,null,21000,{"$f":"LOOKUP(A84,'Flow Data'!A$6:A$2928,'Flow Data'!B$6:B$2928)","v":503},{"$f":"LOOKUP(E84,'Flow Data'!D$6:D$737,'Flow Data'!H$6:H$737)","v":0.24119055764625585},{"$f":"((D84/100)*1000*E84*28.3168)*60*60*24","v":258431349657600}]
["2001-01-23",31616,null,240,{"$f":"LOOKUP(A85,'Flow Data'!A$6:A$2928,'Flow Data'!B$6:B$2928)","v":482},{"$f":"LOOKUP(E85,'Flow Data'!D$6:D$737,'Flow Data'!H$6:H$737)","v":0.2483749572357189},{"$f":"((D85/100)*1000*E85*28.3168)*60*60*24","v":2830193934336}]
["2000-06-13",31616,null,2000,{"$f":"LOOKUP(A86,'Flow Data'!A$6:A$2928,'Flow Data'!B$6:B$2928)","v":435},{"$f":"LOOKUP(E86,'Flow Data'!D$6:D$737,'Flow Data'!H$6:H$737)","v":0.26650701334245852},{"$f":"((D86/100)*1000*E86*28.3168)*60*60*24","v":21285172224000}]
["2000-06-13",31616,null,830,{"$f":"LOOKUP(A87,'Flow Data'!A$6:A$2928,'Flow Data'!B$6:B$2928)","v":435},{"$f":"LOOKUP(E87,'Flow Data'!D$6:D$737,'Flow Data'!H$6:H$737)","v":0.26650701334245852},{"$f":"((D87/100)*1000*E87*28.3168)*60*60*24","v":8833346472960}]
["2000-06-13",31616,null,440,{"$f":"LOOKUP(A88,'Flow Data'!A$6:A$2928,'Flow Data'!B$6:B$2928)","v":435},{"$f":"LOOKUP(E88,'Flow Data'!D$6:D$737,'Flow Data'!H$6:H$737)","v":0.26650701334245852},{"$f":"((D88/100)*1000*E88*28.3168)*60*60*24","v":4682737889280}]
["2000-06-13",31616,null,99,{"$f":"LOOKUP(A89,'Flow Data'!A$6:A$2928,'Flow Data'!B$6:B$2928)","v":435},{"$f":"LOOKUP(E89,'Flow Data'!D$6:D$737,'Flow Data'!H$6:H$737)","v":0.26650701334245852},{"$f":"((D89/100)*1000*E89*28.3168)*60*60*24","v":1053616025088}]
["2000-06-13",31616,null,360,{"$f":"LOOKUP(A90,'Flow Data'!A$6:A$2928,'Flow Data'!B$6:B$2928)","v":435},{"$f":"LOOKUP(E90,'Flow Data'!D$6:D$737,'Flow Data'!H$6:H$737)","v":0.26650701334245852},{"$f":"((D90/100)*1000*E90*28.3168)*60*60*24","v":3831331000320.001}]
["2001-03-08",31616,null,2600,{"$f":"LOOKUP(A91,'Flow Data'!A$6:A$2928,'Flow Data'!B$6:B$2928)","v":434},{"$f":"LOOKUP(E91,'Flow Data'!D$6:D$737,'Flow Data'!H$6:H$737)","v":0.26719124187478827},{"$f":"((D91/100)*1000*E91*28.3168)*60*60*24","v":27607113031680}]
["2001-07-30",31613,null,340,{"$f":"LOOKUP(A92,'Flow Data'!A$6:A$2928,'Flow Data'!B$6:B$2928)","v":411},{"$f":"LOOKUP(E92,'Flow Data'!D$6:D$737,'Flow Data'!H$6:H$737)","v":0.27540198426274565},{"$f":"((D92/100)*1000*E92*28.3168)*60*60*24","v":3418839042048}]
["2001-05-14",31616,null,9100,{"$f":"LOOKUP(A93,'Flow Data'!A$6:A$2928,'Flow Data'!B$6:B$2928)","v":394},{"$f":"LOOKUP(E93,'Flow Data'!D$6:D$737,'Flow Data'!H$6:H$737)","v":0.28190215531987883},{"$f":"((D93/100)*1000*E93*28.3168)*60*60*24","v":87719375278080}]
["2001-05-14",31616,null,1800,{"$f":"LOOKUP(A94,'Flow Data'!A$6:A$2928,'Flow Data'!B$6:B$2928)","v":394},{"$f":"LOOKUP(E94,'Flow Data'!D$6:D$737,'Flow Data'!H$6:H$737)","v":0.28190215531987883},{"$f":"((D94/100)*1000*E94*28.3168)*60*60*24","v":17351085219840}]
["2001-05-14",31616,null,1800,{"$f":"LOOKUP(A95,'Flow Data'!A$6:A$2928,'Flow Data'!B$6:B$2928)","v":394},{"$f":"LOOKUP(E95,'Flow Data'!D$6:D$737,'Flow Data'!H$6:H$737)","v":0.28190215531987883},{"$f":"((D95/100)*1000*E95*28.3168)*60*60*24","v":17351085219840}]
["2001-05-14",31616,null,1800,{"$f":"LOOKUP(A96,'Flow Data'!A$6:A$2928,'Flow Data'!B$6:B$2928)","v":394},{"$f":"LOOKUP(E96,'Flow Data'!D$6:D$737,'Flow Data'!H$6:H$737)","v":0.28190215531987883},{"$f":"((D96/100)*1000*E96*28.3168)*60*60*24","v":17351085219840}]
["2001-05-14",31616,null,2700,{"$f":"LOOKUP(A97,'Flow Data'!A$6:A$2928,'Flow Data'!B$6:B$2928)","v":394},{"$f":"LOOKUP(E97,'Flow Data'!D$6:D$737,'Flow Data'!H$6:H$737)","v":0.28190215531987883},{"$f":"((D97/100)*1000*E97*28.3168)*60*60*24","v":26026627829760.008}]
["2000-11-16",31616,null,24000,{"$f":"LOOKUP(A98,'Flow Data'!A$6:A$2928,'Flow Data'!B$6:B$2928)","v":324},{"$f":"LOOKUP(E98,'Flow Data'!D$6:D$737,'Flow Data'!H$6:H$737)","v":0.30790283954841124},{"$f":"((D98/100)*1000*E98*28.3168)*60*60*24","v":190245401395200}]
["2001-01-17",31616,null,2800,{"$f":"LOOKUP(A99,'Flow Data'!A$6:A$2928,'Flow Data'!B$6:B$2928)","v":319},{"$f":"LOOKUP(E99,'Flow Data'!D$6:D$737,'Flow Data'!H$6:H$737)","v":0.30961341087923588},{"$f":"((D99/100)*1000*E99*28.3168)*60*60*24","v":21852776816640}]
["2001-01-17",31616,null,2900,{"$f":"LOOKUP(A100,'Flow Data'!A$6:A$2928,'Flow Data'!B$6:B$2928)","v":319},{"$f":"LOOKUP(E100,'Flow Data'!D$6:D$737,'Flow Data'!H$6:H$737)","v":0.30961341087923588},{"$f":"((D100/100)*1000*E100*28.3168)*60*60*24","v":22633233131520}]
["2001-01-17",31616,null,2600,{"$f":"LOOKUP(A101,'Flow Data'!A$6:A$2928,'Flow Data'!B$6:B$2928)","v":319},{"$f":"LOOKUP(E101,'Flow Data'!D$6:D$737,'Flow Data'!H$6:H$737)","v":0.30961341087923588},{"$f":"((D101/100)*1000*E101*28.3168)*60*60*24","v":20291864186880.004}]
["2001-01-17",31616,null,3100,{"$f":"LOOKUP(A102,'Flow Data'!A$6:A$2928,'Flow Data'!B$6:B$2928)","v":319},{"$f":"LOOKUP(E102,'Flow Data'!D$6:D$737,'Flow Data'!H$6:H$737)","v":0.30961341087923588},{"$f":"((D102/100)*1000*E102*28.3168)*60*60*24","v":24194145761280}]
["2001-04-10",31616,null,410,{"$f":"LOOKUP(A103,'Flow Data'!A$6:A$2928,'Flow Data'!B$6:B$2928)","v":290},{"$f":"LOOKUP(E103,'Flow Data'!D$6:D$737,'Flow Data'!H$6:H$737)","v":0.32432432432432623},{"$f":"((D103/100)*1000*E103*28.3168)*60*60*24","v":2908973537280.0005}]
["2001-04-10",31616,null,220,{"$f":"LOOKUP(A104,'Flow Data'!A$6:A$2928,'Flow Data'!B$6:B$2928)","v":290},{"$f":"LOOKUP(E104,'Flow Data'!D$6:D$737,'Flow Data'!H$6:H$737)","v":0.32432432432432623},{"$f":"((D104/100)*1000*E104*28.3168)*60*60*24","v":1560912629760.0005}]
["2001-04-10",31616,null,110,{"$f":"LOOKUP(A105,'Flow Data'!A$6:A$2928,'Flow Data'!B$6:B$2928)","v":290},{"$f":"LOOKUP(E105,'Flow Data'!D$6:D$737,'Flow Data'!H$6:H$737)","v":0.32432432432432623},{"$f":"((D105/100)*1000*E105*28.3168)*60*60*24","v":780456314880.00024}]
["2001-04-10",31616,null,160,{"$f":"LOOKUP(A106,'Flow Data'!A$6:A$2928,'Flow Data'!B$6:B$2928)","v":290},{"$f":"LOOKUP(E106,'Flow Data'!D$6:D$737,'Flow Data'!H$6:H$737)","v":0.32432432432432623},{"$f":"((D106/100)*1000*E106*28.3168)*60*60*24","v":1135209185280.0002}]
["2001-04-10",31616,null,200,{"$f":"LOOKUP(A107,'Flow Data'!A$6:A$2928,'Flow Data'!B$6:B$2928)","v":290},{"$f":"LOOKUP(E107,'Flow Data'!D$6:D$737,'Flow Data'!H$6:H$737)","v":0.32432432432432623},{"$f":"((D107/100)*1000*E107*28.3168)*60*60*24","v":1419011481600}]
["2001-04-10",31616,null,510,{"$f":"LOOKUP(A108,'Flow Data'!A$6:A$2928,'Flow Data'!B$6:B$2928)","v":290},{"$f":"LOOKUP(E108,'Flow Data'!D$6:D$737,'Flow Data'!H$6:H$737)","v":0.32432432432432623},{"$f":"((D108/100)*1000*E108*28.3168)*60*60*24","v":3618479278080}]
["2000-02-23",31616,null,44000,{"$f":"LOOKUP(A109,'Flow Data'!A$6:A$2928,'Flow Data'!B$6:B$2928)","v":258},{"$f":"LOOKUP(E109,'Flow Data'!D$6:D$737,'Flow Data'!H$6:H$737)","v":0.34040369483407629},{"$f":"((D109/100)*1000*E109*28.3168)*60*60*24","v":277734798950400}]
["2000-02-23",31616,null,28000,{"$f":"LOOKUP(A110,'Flow Data'!A$6:A$2928,'Flow Data'!B$6:B$2928)","v":258},{"$f":"LOOKUP(E110,'Flow Data'!D$6:D$737,'Flow Data'!H$6:H$737)","v":0.34040369483407629},{"$f":"((D110/100)*1000*E110*28.3168)*60*60*24","v":176740326604800}]
["2000-02-23",31616,null,8000,{"$f":"LOOKUP(A111,'Flow Data'!A$6:A$2928,'Flow Data'!B$6:B$2928)","v":258},{"$f":"LOOKUP(E111,'Flow Data'!D$6:D$737,'Flow Data'!H$6:H$737)","v":0.34040369483407629},{"$f":"((D111/100)*1000*E111*28.3168)*60*60*24","v":50497236172800}]
["2002-08-14",31613,null,8000,{"$f":"LOOKUP(A112,'Flow Data'!A$6:A$2928,'Flow Data'!B$6:B$2928)","v":256},{"$f":"LOOKUP(E112,'Flow Data'!D$6:D$737,'Flow Data'!H$6:H$737)","v":0.34143003763257096},{"$f":"((D112/100)*1000*E112*28.3168)*60*60*24","v":50105784729600}]
["2002-08-14",31613,null,12000,{"$f":"LOOKUP(A113,'Flow Data'!A$6:A$2928,'Flow Data'!B$6:B$2928)","v":256},{"$f":"LOOKUP(E113,'Flow Data'!D$6:D$737,'Flow Data'!H$6:H$737)","v":0.34143003763257096},{"$f":"((D113/100)*1000*E113*28.3168)*60*60*24","v":75158677094400}]
["2000-11-07",31616,null,6200,{"$f":"LOOKUP(A114,'Flow Data'!A$6:A$2928,'Flow Data'!B$6:B$2928)","v":240},{"$f":"LOOKUP(E114,'Flow Data'!D$6:D$737,'Flow Data'!H$6:H$737)","v":0.34895655148819849},{"$f":"((D114/100)*1000*E114*28.3168)*60*60*24","v":36404984217600}]
["2000-11-07",31616,null,3800,{"$f":"LOOKUP(A115,'Flow Data'!A$6:A$2928,'Flow Data'!B$6:B$2928)","v":240},{"$f":"LOOKUP(E115,'Flow Data'!D$6:D$737,'Flow Data'!H$6:H$737)","v":0.34895655148819849},{"$f":"((D115/100)*1000*E115*28.3168)*60*60*24","v":22312732262400}]
["2000-11-07",31616,null,5400,{"$f":"LOOKUP(A116,'Flow Data'!A$6:A$2928,'Flow Data'!B$6:B$2928)","v":240},{"$f":"LOOKUP(E116,'Flow Data'!D$6:D$737,'Flow Data'!H$6:H$737)","v":0.34895655148819849},{"$f":"((D116/100)*1000*E116*28.3168)*60*60*24","v":31707566899200}]
["2000-11-07",31616,null,4600,{"$f":"LOOKUP(A117,'Flow Data'!A$6:A$2928,'Flow Data'!B$6:B$2928)","v":240},{"$f":"LOOKUP(E117,'Flow Data'!D$6:D$737,'Flow Data'!H$6:H$737)","v":0.34895655148819849},{"$f":"((D117/100)*1000*E117*28.3168)*60*60*24","v":27010149580800}]
["2000-11-07",31616,null,5400,{"$f":"LOOKUP(A118,'Flow Data'!A$6:A$2928,'Flow Data'!B$6:B$2928)","v":240},{"$f":"LOOKUP(E118,'Flow Data'!D$6:D$737,'Flow Data'!H$6:H$737)","v":0.34895655148819849},{"$f":"((D118/100)*1000*E118*28.3168)*60*60*24","v":31707566899200}]
["2000-11-07",31616,null,4700,{"$f":"LOOKUP(A119,'Flow Data'!A$6:A$2928,'Flow Data'!B$6:B$2928)","v":240},{"$f":"LOOKUP(E119,'Flow Data'!D$6:D$737,'Flow Data'!H$6:H$737)","v":0.34895655148819849},{"$f":"((D119/100)*1000*E119*28.3168)*60*60*24","v":27597326745600}]
["2001-03-12",31616,null,31000,{"$f":"LOOKUP(A120,'Flow Data'!A$6:A$2928,'Flow Data'!B$6:B$2928)","v":227},{"$f":"LOOKUP(E120,'Flow Data'!D$6:D$737,'Flow Data'!H$6:H$737)","v":0.35648306534382601},{"$f":"((D120/100)*1000*E120*28.3168)*60*60*24","v":172165237862400}]
["2001-03-12",31616,null,1500,{"$f":"LOOKUP(A121,'Flow Data'!A$6:A$2928,'Flow Data'!B$6:B$2928)","v":227},{"$f":"LOOKUP(E121,'Flow Data'!D$6:D$737,'Flow Data'!H$6:H$737)","v":0.35648306534382601},{"$f":"((D121/100)*1000*E121*28.3168)*60*60*24","v":8330576025600}]
["2001-03-12",31616,null,2500,{"$f":"LOOKUP(A122,'Flow Data'!A$6:A$2928,'Flow Data'!B$6:B$2928)","v":227},{"$f":"LOOKUP(E122,'Flow Data'!D$6:D$737,'Flow Data'!H$6:H$737)","v":0.35648306534382601},{"$f":"((D122/100)*1000*E122*28.3168)*60*60*24","v":13884293376000}]
["2001-03-12",31616,null,4300,{"$f":"LOOKUP(A123,'Flow Data'!A$6:A$2928,'Flow Data'!B$6:B$2928)","v":227},{"$f":"LOOKUP(E123,'Flow Data'!D$6:D$737,'Flow Data'!H$6:H$737)","v":0.35648306534382601},{"$f":"((D123/100)*1000*E123*28.3168)*60*60*24","v":23880984606720}]
["2001-03-12",31616,null,22000,{"$f":"LOOKUP(A124,'Flow Data'!A$6:A$2928,'Flow Data'!B$6:B$2928)","v":227},{"$f":"LOOKUP(E124,'Flow Data'!D$6:D$737,'Flow Data'!H$6:H$737)","v":0.35648306534382601},{"$f":"((D124/100)*1000*E124*28.3168)*60*60*24","v":122181781708800}]
["2000-02-09",31616,null,3300,{"$f":"LOOKUP(A125,'Flow Data'!A$6:A$2928,'Flow Data'!B$6:B$2928)","v":199},{"$f":"LOOKUP(E125,'Flow Data'!D$6:D$737,'Flow Data'!H$6:H$737)","v":0.37769414984604932},{"$f":"((D125/100)*1000*E125*28.3168)*60*60*24","v":16066635171840}]
["2000-02-09",31616,null,2700,{"$f":"LOOKUP(A126,'Flow Data'!A$6:A$2928,'Flow Data'!B$6:B$2928)","v":199},{"$f":"LOOKUP(E126,'Flow Data'!D$6:D$737,'Flow Data'!H$6:H$737)","v":0.37769414984604932},{"$f":"((D126/100)*1000*E126*28.3168)*60*60*24","v":13145428776960}]
["2000-02-09",31616,null,2800,{"$f":"LOOKUP(A127,'Flow Data'!A$6:A$2928,'Flow Data'!B$6:B$2928)","v":199},{"$f":"LOOKUP(E127,'Flow Data'!D$6:D$737,'Flow Data'!H$6:H$737)","v":0.37769414984604932},{"$f":"((D127/100)*1000*E127*28.3168)*60*60*24","v":13632296509440}]
["2001-03-13",31616,null,540,{"$f":"LOOKUP(A128,'Flow Data'!A$6:A$2928,'Flow Data'!B$6:B$2928)","v":189},{"$f":"LOOKUP(E128,'Flow Data'!D$6:D$737,'Flow Data'!H$6:H$737)","v":0.38590489223400659},{"$f":"((D128/100)*1000*E128*28.3168)*60*60*24","v":2496970893312.0005}]
["2001-03-13",31616,null,2300,{"$f":"LOOKUP(A129,'Flow Data'!A$6:A$2928,'Flow Data'!B$6:B$2928)","v":189},{"$f":"LOOKUP(E129,'Flow Data'!D$6:D$737,'Flow Data'!H$6:H$737)","v":0.38590489223400659},{"$f":"((D129/100)*1000*E129*28.3168)*60*60*24","v":10635246397440.002}]
["2001-03-13",31616,null,2400,{"$f":"LOOKUP(A130,'Flow Data'!A$6:A$2928,'Flow Data'!B$6:B$2928)","v":189},{"$f":"LOOKUP(E130,'Flow Data'!D$6:D$737,'Flow Data'!H$6:H$737)","v":0.38590489223400659},{"$f":"((D130/100)*1000*E130*28.3168)*60*60*24","v":11097648414720}]
["2001-03-13",31616,null,4100,{"$f":"LOOKUP(A131,'Flow Data'!A$6:A$2928,'Flow Data'!B$6:B$2928)","v":189},{"$f":"LOOKUP(E131,'Flow Data'!D$6:D$737,'Flow Data'!H$6:H$737)","v":0.38590489223400659},{"$f":"((D131/100)*1000*E131*28.3168)*60*60*24","v":18958482708480.004}]
["2001-03-13",31616,null,1400,{"$f":"LOOKUP(A132,'Flow Data'!A$6:A$2928,'Flow Data'!B$6:B$2928)","v":189},{"$f":"LOOKUP(E132,'Flow Data'!D$6:D$737,'Flow Data'!H$6:H$737)","v":0.38590489223400659},{"$f":"((D132/100)*1000*E132*28.3168)*60*60*24","v":6473628241920}]
["2001-03-13",31616,null,560,{"$f":"LOOKUP(A133,'Flow Data'!A$6:A$2928,'Flow Data'!B$6:B$2928)","v":189},{"$f":"LOOKUP(E133,'Flow Data'!D$6:D$737,'Flow Data'!H$6:H$737)","v":0.38590489223400659},{"$f":"((D133/100)*1000*E133*28.3168)*60*60*24","v":2589451296768}]
["2001-05-08",31616,null,9000,{"$f":"LOOKUP(A134,'Flow Data'!A$6:A$2928,'Flow Data'!B$6:B$2928)","v":188},{"$f":"LOOKUP(E134,'Flow Data'!D$6:D$737,'Flow Data'!H$6:H$737)","v":0.38795757783099594},{"$f":"((D134/100)*1000*E134*28.3168)*60*60*24","v":41395990118400}]
["2001-01-02",31616,null,5800,{"$f":"LOOKUP(A135,'Flow Data'!A$6:A$2928,'Flow Data'!B$6:B$2928)","v":177},{"$f":"LOOKUP(E135,'Flow Data'!D$6:D$737,'Flow Data'!H$6:H$737)","v":0.40232637700992169},{"$f":"((D135/100)*1000*E135*28.3168)*60*60*24","v":25116503224320}]
["2001-01-02",31616,null,2100,{"$f":"LOOKUP(A136,'Flow Data'!A$6:A$2928,'Flow Data'!B$6:B$2928)","v":177},{"$f":"LOOKUP(E136,'Flow Data'!D$6:D$737,'Flow Data'!H$6:H$737)","v":0.40232637700992169},{"$f":"((D136/100)*1000*E136*28.3168)*60*60*24","v":9093906339840.002}]
["2001-01-02",31616,null,240,{"$f":"LOOKUP(A137,'Flow Data'!A$6:A$2928,'Flow Data'!B$6:B$2928)","v":177},{"$f":"LOOKUP(E137,'Flow Data'!D$6:D$737,'Flow Data'!H$6:H$737)","v":0.40232637700992169},{"$f":"((D137/100)*1000*E137*28.3168)*60*60*24","v":1039303581696.0002}]
["2001-01-02",31616,null,210,{"$f":"LOOKUP(A138,'Flow Data'!A$6:A$2928,'Flow Data'!B$6:B$2928)","v":177},{"$f":"LOOKUP(E138,'Flow Data'!D$6:D$737,'Flow Data'!H$6:H$737)","v":0.40232637700992169},{"$f":"((D138/100)*1000*E138*28.3168)*60*60*24","v":909390633984}]
["2001-01-02",31616,null,240,{"$f":"LOOKUP(A139,'Flow Data'!A$6:A$2928,'Flow Data'!B$6:B$2928)","v":177},{"$f":"LOOKUP(E139,'Flow Data'!D$6:D$737,'Flow Data'!H$6:H$737)","v":0.40232637700992169},{"$f":"((D139/100)*1000*E139*28.3168)*60*60*24","v":1039303581696.0002}]
["2001-05-15",31616,null,2400,{"$f":"LOOKUP(A140,'Flow Data'!A$6:A$2928,'Flow Data'!B$6:B$2928)","v":169},{"$f":"LOOKUP(E140,'Flow Data'!D$6:D$737,'Flow Data'!H$6:H$737)","v":0.40643174820390049},{"$f":"((D140/100)*1000*E140*28.3168)*60*60*24","v":9923294085120}]
["2001-05-15",31616,null,2100,{"$f":"LOOKUP(A141,'Flow Data'!A$6:A$2928,'Flow Data'!B$6:B$2928)","v":169},{"$f":"LOOKUP(E141,'Flow Data'!D$6:D$737,'Flow Data'!H$6:H$737)","v":0.40643174820390049},{"$f":"((D141/100)*1000*E141*28.3168)*60*60*24","v":8682882324480}]
["2001-05-15",31616,null,1900,{"$f":"LOOKUP(A142,'Flow Data'!A$6:A$2928,'Flow Data'!B$6:B$2928)","v":169},{"$f":"LOOKUP(E142,'Flow Data'!D$6:D$737,'Flow Data'!H$6:H$737)","v":0.40643174820390049},{"$f":"((D142/100)*1000*E142*28.3168)*60*60*24","v":7855941150720}]
["2001-05-15",31616,null,1700,{"$f":"LOOKUP(A143,'Flow Data'!A$6:A$2928,'Flow Data'!B$6:B$2928)","v":169},{"$f":"LOOKUP(E143,'Flow Data'!D$6:D$737,'Flow Data'!H$6:H$737)","v":0.40643174820390049},{"$f":"((D143/100)*1000*E143*28.3168)*60*60*24","v":7028999976960}]
["2001-05-15",31616,null,2600,{"$f":"LOOKUP(A144,'Flow Data'!A$6:A$2928,'Flow Data'!B$6:B$2928)","v":169},{"$f":"LOOKUP(E144,'Flow Data'!D$6:D$737,'Flow Data'!H$6:H$737)","v":0.40643174820390049},{"$f":"((D144/100)*1000*E144*28.3168)*60*60*24","v":10750235258880}]
["2001-05-15",31616,null,4700,{"$f":"LOOKUP(A145,'Flow Data'!A$6:A$2928,'Flow Data'!B$6:B$2928)","v":169},{"$f":"LOOKUP(E145,'Flow Data'!D$6:D$737,'Flow Data'!H$6:H$737)","v":0.40643174820390049},{"$f":"((D145/100)*1000*E145*28.3168)*60*60*24","v":19433117583360}]
["2000-12-13",31616,null,43000,{"$f":"LOOKUP(A146,'Flow Data'!A$6:A$2928,'Flow Data'!B$6:B$2928)","v":159},{"$f":"LOOKUP(E146,'Flow Data'!D$6:D$737,'Flow Data'!H$6:H$737)","v":0.4190899760520016},{"$f":"((D146/100)*1000*E146*28.3168)*60*60*24","v":167272094822400}]
["2000-12-13",31616,null,18000,{"$f":"LOOKUP(A147,'Flow Data'!A$6:A$2928,'Flow Data'!B$6:B$2928)","v":159},{"$f":"LOOKUP(E147,'Flow Data'!D$6:D$737,'Flow Data'!H$6:H$737)","v":0.4190899760520016},{"$f":"((D147/100)*1000*E147*28.3168)*60*60*24","v":70020876902400}]
["2000-12-13",31616,null,10000,{"$f":"LOOKUP(A148,'Flow Data'!A$6:A$2928,'Flow Data'!B$6:B$2928)","v":159},{"$f":"LOOKUP(E148,'Flow Data'!D$6:D$737,'Flow Data'!H$6:H$737)","v":0.4190899760520016},{"$f":"((D148/100)*1000*E148*28.3168)*60*60*24","v":38900487168000}]
["2000-12-13",31616,null,35000,{"$f":"LOOKUP(A149,'Flow Data'!A$6:A$2928,'Flow Data'!B$6:B$2928)","v":159},{"$f":"LOOKUP(E149,'Flow Data'!D$6:D$737,'Flow Data'!H$6:H$737)","v":0.4190899760520016},{"$f":"((D149/100)*1000*E149*28.3168)*60*60*24","v":136151705088000}]
["2000-12-13",31616,null,37000,{"$f":"LOOKUP(A150,'Flow Data'!A$6:A$2928,'Flow Data'!B$6:B$2928)","v":159},{"$f":"LOOKUP(E150,'Flow Data'!D$6:D$737,'Flow Data'!H$6:H$737)","v":0.4190899760520016},{"$f":"((D150/100)*1000*E150*28.3168)*60*60*24","v":143931802521600}]
["2000-12-13",31616,null,28000,{"$f":"LOOKUP(A151,'Flow Data'!A$6:A$2928,'Flow Data'!B$6:B$2928)","v":159},{"$f":"LOOKUP(E151,'Flow Data'!D$6:D$737,'Flow Data'!H$6:H$737)","v":0.4190899760520016},{"$f":"((D151/100)*1000*E151*28.3168)*60*60*24","v":108921364070400}]
["2001-08-06",31613,null,310,{"$f":"LOOKUP(A152,'Flow Data'!A$6:A$2928,'Flow Data'!B$6:B$2928)","v":151},{"$f":"LOOKUP(E152,'Flow Data'!D$6:D$737,'Flow Data'!H$6:H$737)","v":0.42798494697228884},{"$f":"((D152/100)*1000*E152*28.3168)*60*60*24","v":1145240128512}]
["2000-10-09",31616,null,3800,{"$f":"LOOKUP(A153,'Flow Data'!A$6:A$2928,'Flow Data'!B$6:B$2928)","v":140},{"$f":"LOOKUP(E153,'Flow Data'!D$6:D$737,'Flow Data'!H$6:H$737)","v":0.44166951761888462},{"$f":"((D153/100)*1000*E153*28.3168)*60*60*24","v":13015760486400}]
["2000-10-09",31616,null,5100,{"$f":"LOOKUP(A154,'Flow Data'!A$6:A$2928,'Flow Data'!B$6:B$2928)","v":140},{"$f":"LOOKUP(E154,'Flow Data'!D$6:D$737,'Flow Data'!H$6:H$737)","v":0.44166951761888462},{"$f":"((D154/100)*1000*E154*28.3168)*60*60*24","v":17468520652800}]
["2000-10-09",31616,null,4800,{"$f":"LOOKUP(A155,'Flow Data'!A$6:A$2928,'Flow Data'!B$6:B$2928)","v":140},{"$f":"LOOKUP(E155,'Flow Data'!D$6:D$737,'Flow Data'!H$6:H$737)","v":0.44166951761888462},{"$f":"((D155/100)*1000*E155*28.3168)*60*60*24","v":16440960614400}]
["2000-10-09",31616,null,3900,{"$f":"LOOKUP(A156,'Flow Data'!A$6:A$2928,'Flow Data'!B$6:B$2928)","v":140},{"$f":"LOOKUP(E156,'Flow Data'!D$6:D$737,'Flow Data'!H$6:H$737)","v":0.44166951761888462},{"$f":"((D156/100)*1000*E156*28.3168)*60*60*24","v":13358280499200}]
["2000-10-09",31616,null,5800,{"$f":"LOOKUP(A157,'Flow Data'!A$6:A$2928,'Flow Data'!B$6:B$2928)","v":140},{"$f":"LOOKUP(E157,'Flow Data'!D$6:D$737,'Flow Data'!H$6:H$737)","v":0.44166951761888462},{"$f":"((D157/100)*1000*E157*28.3168)*60*60*24","v":19866160742400}]
["2000-10-09",31616,null,4600,{"$f":"LOOKUP(A158,'Flow Data'!A$6:A$2928,'Flow Data'!B$6:B$2928)","v":140},{"$f":"LOOKUP(E158,'Flow Data'!D$6:D$737,'Flow Data'!H$6:H$737)","v":0.44166951761888462},{"$f":"((D158/100)*1000*E158*28.3168)*60*60*24","v":15755920588800}]
["2000-06-14",31616,null,4200,{"$f":"LOOKUP(A159,'Flow Data'!A$6:A$2928,'Flow Data'!B$6:B$2928)","v":135},{"$f":"LOOKUP(E159,'Flow Data'!D$6:D$737,'Flow Data'!H$6:H$737)","v":0.4481696886760177},{"$f":"((D159/100)*1000*E159*28.3168)*60*60*24","v":13872060518400}]
["2000-06-14",31616,null,2500,{"$f":"LOOKUP(A160,'Flow Data'!A$6:A$2928,'Flow Data'!B$6:B$2928)","v":135},{"$f":"LOOKUP(E160,'Flow Data'!D$6:D$737,'Flow Data'!H$6:H$737)","v":0.4481696886760177},{"$f":"((D160/100)*1000*E160*28.3168)*60*60*24","v":8257178880000}]
["2000-06-14",31616,null,220,{"$f":"LOOKUP(A161,'Flow Data'!A$6:A$2928,'Flow Data'!B$6:B$2928)","v":135},{"$f":"LOOKUP(E161,'Flow Data'!D$6:D$737,'Flow Data'!H$6:H$737)","v":0.4481696886760177},{"$f":"((D161/100)*1000*E161*28.3168)*60*60*24","v":726631741440}]
["2000-06-14",31616,null,1700,{"$f":"LOOKUP(A162,'Flow Data'!A$6:A$2928,'Flow Data'!B$6:B$2928)","v":135},{"$f":"LOOKUP(E162,'Flow Data'!D$6:D$737,'Flow Data'!H$6:H$737)","v":0.4481696886760177},{"$f":"((D162/100)*1000*E162*28.3168)*60*60*24","v":5614881638400}]
["2000-06-14",31616,null,360,{"$f":"LOOKUP(A163,'Flow Data'!A$6:A$2928,'Flow Data'!B$6:B$2928)","v":135},{"$f":"LOOKUP(E163,'Flow Data'!D$6:D$737,'Flow Data'!H$6:H$737)","v":0.4481696886760177},{"$f":"((D163/100)*1000*E163*28.3168)*60*60*24","v":1189033758720}]
["2000-06-14",31616,null,2200,{"$f":"LOOKUP(A164,'Flow Data'!A$6:A$2928,'Flow Data'!B$6:B$2928)","v":135},{"$f":"LOOKUP(E164,'Flow Data'!D$6:D$737,'Flow Data'!H$6:H$737)","v":0.4481696886760177},{"$f":"((D164/100)*1000*E164*28.3168)*60*60*24","v":7266317414400}]
["2000-08-02",31616,null,3900,{"$f":"LOOKUP(A165,'Flow Data'!A$6:A$2928,'Flow Data'!B$6:B$2928)","v":128},{"$f":"LOOKUP(E165,'Flow Data'!D$6:D$737,'Flow Data'!H$6:H$737)","v":0.46151214505644866},{"$f":"((D165/100)*1000*E165*28.3168)*60*60*24","v":12213285027840}]
["2000-08-02",31616,null,2200,{"$f":"LOOKUP(A166,'Flow Data'!A$6:A$2928,'Flow Data'!B$6:B$2928)","v":128},{"$f":"LOOKUP(E166,'Flow Data'!D$6:D$737,'Flow Data'!H$6:H$737)","v":0.46151214505644866},{"$f":"((D166/100)*1000*E166*28.3168)*60*60*24","v":6889545400320}]
["2000-08-02",31616,null,2100,{"$f":"LOOKUP(A167,'Flow Data'!A$6:A$2928,'Flow Data'!B$6:B$2928)","v":128},{"$f":"LOOKUP(E167,'Flow Data'!D$6:D$737,'Flow Data'!H$6:H$737)","v":0.46151214505644866},{"$f":"((D167/100)*1000*E167*28.3168)*60*60*24","v":6576384245760}]
["2000-08-02",31616,null,2900,{"$f":"LOOKUP(A168,'Flow Data'!A$6:A$2928,'Flow Data'!B$6:B$2928)","v":128},{"$f":"LOOKUP(E168,'Flow Data'!D$6:D$737,'Flow Data'!H$6:H$737)","v":0.46151214505644866},{"$f":"((D168/100)*1000*E168*28.3168)*60*60*24","v":9081673482240.002}]
["2000-08-02",31616,null,2800,{"$f":"LOOKUP(A169,'Flow Data'!A$6:A$2928,'Flow Data'!B$6:B$2928)","v":128},{"$f":"LOOKUP(E169,'Flow Data'!D$6:D$737,'Flow Data'!H$6:H$737)","v":0.46151214505644866},{"$f":"((D169/100)*1000*E169*28.3168)*60*60*24","v":8768512327680}]
["2003-01-30",31613,null,1820,{"$f":"LOOKUP(A170,'Flow Data'!A$6:A$2928,'Flow Data'!B$6:B$2928)","v":127},{"$f":"LOOKUP(E170,'Flow Data'!D$6:D$737,'Flow Data'!H$6:H$737)","v":0.46424905918576787},{"$f":"((D170/100)*1000*E170*28.3168)*60*60*24","v":5655005411328.001}]
["2003-01-30",31613,null,636,{"$f":"LOOKUP(A171,'Flow Data'!A$6:A$2928,'Flow Data'!B$6:B$2928)","v":127},{"$f":"LOOKUP(E171,'Flow Data'!D$6:D$737,'Flow Data'!H$6:H$737)","v":0.46424905918576787},{"$f":"((D171/100)*1000*E171*28.3168)*60*60*24","v":1976144748134.4001}]
["2000-09-13",31616,null,56000,{"$f":"LOOKUP(A172,'Flow Data'!A$6:A$2928,'Flow Data'!B$6:B$2928)","v":121},{"$f":"LOOKUP(E172,'Flow Data'!D$6:D$737,'Flow Data'!H$6:H$737)","v":0.47759151556619894},{"$f":"((D172/100)*1000*E172*28.3168)*60*60*24","v":165779686195200}]
["2000-09-13",31616,null,57000,{"$f":"LOOKUP(A173,'Flow Data'!A$6:A$2928,'Flow Data'!B$6:B$2928)","v":121},{"$f":"LOOKUP(E173,'Flow Data'!D$6:D$737,'Flow Data'!H$6:H$737)","v":0.47759151556619894},{"$f":"((D173/100)*1000*E173*28.3168)*60*60*24","v":168740037734400}]
["2000-09-13",31616,null,34000,{"$f":"LOOKUP(A174,'Flow Data'!A$6:A$2928,'Flow Data'!B$6:B$2928)","v":121},{"$f":"LOOKUP(E174,'Flow Data'!D$6:D$737,'Flow Data'!H$6:H$737)","v":0.47759151556619894},{"$f":"((D174/100)*1000*E174*28.3168)*60*60*24","v":100651952332800}]
["2000-09-13",31616,null,5100,{"$f":"LOOKUP(A175,'Flow Data'!A$6:A$2928,'Flow Data'!B$6:B$2928)","v":121},{"$f":"LOOKUP(E175,'Flow Data'!D$6:D$737,'Flow Data'!H$6:H$737)","v":0.47759151556619894},{"$f":"((D175/100)*1000*E175*28.3168)*60*60*24","v":15097792849920}]
["2000-09-13",31616,null,41000,{"$f":"LOOKUP(A176,'Flow Data'!A$6:A$2928,'Flow Data'!B$6:B$2928)","v":121},{"$f":"LOOKUP(E176,'Flow Data'!D$6:D$737,'Flow Data'!H$6:H$737)","v":0.47759151556619894},{"$f":"((D176/100)*1000*E176*28.3168)*60*60*24","v":121374413107200}]
["2000-09-13",31616,null,38000,{"$f":"LOOKUP(A177,'Flow Data'!A$6:A$2928,'Flow Data'!B$6:B$2928)","v":121},{"$f":"LOOKUP(E177,'Flow Data'!D$6:D$737,'Flow Data'!H$6:H$737)","v":0.47759151556619894},{"$f":"((D177/100)*1000*E177*28.3168)*60*60*24","v":112493358489600}]
["2001-05-16",31616,null,990,{"$f":"LOOKUP(A178,'Flow Data'!A$6:A$2928,'Flow Data'!B$6:B$2928)","v":119},{"$f":"LOOKUP(E178,'Flow Data'!D$6:D$737,'Flow Data'!H$6:H$737)","v":0.48306534382483735},{"$f":"((D178/100)*1000*E178*28.3168)*60*60*24","v":2882305907712.0005}]
["2000-01-10",31616,null,8400,{"$f":"LOOKUP(A179,'Flow Data'!A$6:A$2928,'Flow Data'!B$6:B$2928)","v":110},{"$f":"LOOKUP(E179,'Flow Data'!D$6:D$737,'Flow Data'!H$6:H$737)","v":0.50290797126240139},{"$f":"((D179/100)*1000*E179*28.3168)*60*60*24","v":22606320844800}]
["2000-01-10",31616,null,3000,{"$f":"LOOKUP(A180,'Flow Data'!A$6:A$2928,'Flow Data'!B$6:B$2928)","v":110},{"$f":"LOOKUP(E180,'Flow Data'!D$6:D$737,'Flow Data'!H$6:H$737)","v":0.50290797126240139},{"$f":"((D180/100)*1000*E180*28.3168)*60*60*24","v":8073686016000}]
["2000-08-03",31616,null,5100,{"$f":"LOOKUP(A181,'Flow Data'!A$6:A$2928,'Flow Data'!B$6:B$2928)","v":110},{"$f":"LOOKUP(E181,'Flow Data'!D$6:D$737,'Flow Data'!H$6:H$737)","v":0.50290797126240139},{"$f":"((D181/100)*1000*E181*28.3168)*60*60*24","v":13725266227200}]
["2000-08-03",31616,null,25000,{"$f":"LOOKUP(A182,'Flow Data'!A$6:A$2928,'Flow Data'!B$6:B$2928)","v":110},{"$f":"LOOKUP(E182,'Flow Data'!D$6:D$737,'Flow Data'!H$6:H$737)","v":0.50290797126240139},{"$f":"((D182/100)*1000*E182*28.3168)*60*60*24","v":67280716800000}]
["2000-08-03",31616,null,4600,{"$f":"LOOKUP(A183,'Flow Data'!A$6:A$2928,'Flow Data'!B$6:B$2928)","v":110},{"$f":"LOOKUP(E183,'Flow Data'!D$6:D$737,'Flow Data'!H$6:H$737)","v":0.50290797126240139},{"$f":"((D183/100)*1000*E183*28.3168)*60*60*24","v":12379651891200}]
["2000-08-03",31616,null,2900,{"$f":"LOOKUP(A184,'Flow Data'!A$6:A$2928,'Flow Data'!B$6:B$2928)","v":110},{"$f":"LOOKUP(E184,'Flow Data'!D$6:D$737,'Flow Data'!H$6:H$737)","v":0.50290797126240139},{"$f":"((D184/100)*1000*E184*28.3168)*60*60*24","v":7804563148800}]
["2000-08-03",31616,null,2400,{"$f":"LOOKUP(A185,'Flow Data'!A$6:A$2928,'Flow Data'!B$6:B$2928)","v":110},{"$f":"LOOKUP(E185,'Flow Data'!D$6:D$737,'Flow Data'!H$6:H$737)","v":0.50290797126240139},{"$f":"((D185/100)*1000*E185*28.3168)*60*60*24","v":6458948812800}]
["2000-08-03",31616,null,21000,{"$f":"LOOKUP(A186,'Flow Data'!A$6:A$2928,'Flow Data'!B$6:B$2928)","v":110},{"$f":"LOOKUP(E186,'Flow Data'!D$6:D$737,'Flow Data'!H$6:H$737)","v":0.50290797126240139},{"$f":"((D186/100)*1000*E186*28.3168)*60*60*24","v":56515802112000}]
["2002-08-13",31613,null,300,{"$f":"LOOKUP(A187,'Flow Data'!A$6:A$2928,'Flow Data'!B$6:B$2928)","v":110},{"$f":"LOOKUP(E187,'Flow Data'!D$6:D$737,'Flow Data'!H$6:H$737)","v":0.50290797126240139},{"$f":"((D187/100)*1000*E187*28.3168)*60*60*24","v":807368601600}]
["2000-05-03",31616,null,4300,{"$f":"LOOKUP(A188,'Flow Data'!A$6:A$2928,'Flow Data'!B$6:B$2928)","v":109},{"$f":"LOOKUP(E188,'Flow Data'!D$6:D$737,'Flow Data'!H$6:H$737)","v":0.50769757098871005},{"$f":"((D188/100)*1000*E188*28.3168)*60*60*24","v":11467080714240.002}]
["2000-05-03",31616,null,24000,{"$f":"LOOKUP(A189,'Flow Data'!A$6:A$2928,'Flow Data'!B$6:B$2928)","v":109},{"$f":"LOOKUP(E189,'Flow Data'!D$6:D$737,'Flow Data'!H$6:H$737)","v":0.50769757098871005},{"$f":"((D189/100)*1000*E189*28.3168)*60*60*24","v":64002310963200}]
["2000-05-03",31616,null,10000,{"$f":"LOOKUP(A190,'Flow Data'!A$6:A$2928,'Flow Data'!B$6:B$2928)","v":109},{"$f":"LOOKUP(E190,'Flow Data'!D$6:D$737,'Flow Data'!H$6:H$737)","v":0.50769757098871005},{"$f":"((D190/100)*1000*E190*28.3168)*60*60*24","v":26667629568000}]
["2000-05-03",31616,null,8000,{"$f":"LOOKUP(A191,'Flow Data'!A$6:A$2928,'Flow Data'!B$6:B$2928)","v":109},{"$f":"LOOKUP(E191,'Flow Data'!D$6:D$737,'Flow Data'!H$6:H$737)","v":0.50769757098871005},{"$f":"((D191/100)*1000*E191*28.3168)*60*60*24","v":21334103654400}]
["2000-05-03",31616,null,20000,{"$f":"LOOKUP(A192,'Flow Data'!A$6:A$2928,'Flow Data'!B$6:B$2928)","v":109},{"$f":"LOOKUP(E192,'Flow Data'!D$6:D$737,'Flow Data'!H$6:H$737)","v":0.50769757098871005},{"$f":"((D192/100)*1000*E192*28.3168)*60*60*24","v":53335259136000}]
["2000-12-04",31616,null,22000,{"$f":"LOOKUP(A193,'Flow Data'!A$6:A$2928,'Flow Data'!B$6:B$2928)","v":100},{"$f":"LOOKUP(E193,'Flow Data'!D$6:D$737,'Flow Data'!H$6:H$737)","v":0.54054054054054035},{"$f":"((D193/100)*1000*E193*28.3168)*60*60*24","v":53824573440000}]
["2000-12-04",31616,null,19000,{"$f":"LOOKUP(A194,'Flow Data'!A$6:A$2928,'Flow Data'!B$6:B$2928)","v":100},{"$f":"LOOKUP(E194,'Flow Data'!D$6:D$737,'Flow Data'!H$6:H$737)","v":0.54054054054054035},{"$f":"((D194/100)*1000*E194*28.3168)*60*60*24","v":46484858880000}]
["2000-12-04",31616,null,14000,{"$f":"LOOKUP(A195,'Flow Data'!A$6:A$2928,'Flow Data'!B$6:B$2928)","v":100},{"$f":"LOOKUP(E195,'Flow Data'!D$6:D$737,'Flow Data'!H$6:H$737)","v":0.54054054054054035},{"$f":"((D195/100)*1000*E195*28.3168)*60*60*24","v":34252001280000}]
["2000-12-04",31616,null,46000,{"$f":"LOOKUP(A196,'Flow Data'!A$6:A$2928,'Flow Data'!B$6:B$2928)","v":100},{"$f":"LOOKUP(E196,'Flow Data'!D$6:D$737,'Flow Data'!H$6:H$737)","v":0.54054054054054035},{"$f":"((D196/100)*1000*E196*28.3168)*60*60*24","v":112542289920000}]
["2000-12-04",31616,null,340,{"$f":"LOOKUP(A197,'Flow Data'!A$6:A$2928,'Flow Data'!B$6:B$2928)","v":100},{"$f":"LOOKUP(E197,'Flow Data'!D$6:D$737,'Flow Data'!H$6:H$737)","v":0.54054054054054035},{"$f":"((D197/100)*1000*E197*28.3168)*60*60*24","v":831834316800}]
["2001-01-03",31616,null,380,{"$f":"LOOKUP(A198,'Flow Data'!A$6:A$2928,'Flow Data'!B$6:B$2928)","v":100},{"$f":"LOOKUP(E198,'Flow Data'!D$6:D$737,'Flow Data'!H$6:H$737)","v":0.54054054054054035},{"$f":"((D198/100)*1000*E198*28.3168)*60*60*24","v":929697177600}]
["2001-01-03",31616,null,420,{"$f":"LOOKUP(A199,'Flow Data'!A$6:A$2928,'Flow Data'!B$6:B$2928)","v":100},{"$f":"LOOKUP(E199,'Flow Data'!D$6:D$737,'Flow Data'!H$6:H$737)","v":0.54054054054054035},{"$f":"((D199/100)*1000*E199*28.3168)*60*60*24","v":1027560038400}]
["2001-01-03",31616,null,400,{"$f":"LOOKUP(A200,'Flow Data'!A$6:A$2928,'Flow Data'!B$6:B$2928)","v":100},{"$f":"LOOKUP(E200,'Flow Data'!D$6:D$737,'Flow Data'!H$6:H$737)","v":0.54054054054054035},{"$f":"((D200/100)*1000*E200*28.3168)*60*60*24","v":978628608000}]
["2001-01-03",31616,null,90,{"$f":"LOOKUP(A201,'Flow Data'!A$6:A$2928,'Flow Data'!B$6:B$2928)","v":100},{"$f":"LOOKUP(E201,'Flow Data'!D$6:D$737,'Flow Data'!H$6:H$737)","v":0.54054054054054035},{"$f":"((D201/100)*1000*E201*28.3168)*60*60*24","v":220191436800}]
["2001-01-03",31616,null,81,{"$f":"LOOKUP(A202,'Flow Data'!A$6:A$2928,'Flow Data'!B$6:B$2928)","v":100},{"$f":"LOOKUP(E202,'Flow Data'!D$6:D$737,'Flow Data'!H$6:H$737)","v":0.54054054054054035},{"$f":"((D202/100)*1000*E202*28.3168)*60*60*24","v":198172293120.00006}]
["2000-11-01",31616,null,2100,{"$f":"LOOKUP(A203,'Flow Data'!A$6:A$2928,'Flow Data'!B$6:B$2928)","v":99},{"$f":"LOOKUP(E203,'Flow Data'!D$6:D$737,'Flow Data'!H$6:H$737)","v":0.5453301402668489},{"$f":"((D203/100)*1000*E203*28.3168)*60*60*24","v":5086422190080}]
["2000-11-01",31616,null,2500,{"$f":"LOOKUP(A204,'Flow Data'!A$6:A$2928,'Flow Data'!B$6:B$2928)","v":99},{"$f":"LOOKUP(E204,'Flow Data'!D$6:D$737,'Flow Data'!H$6:H$737)","v":0.5453301402668489},{"$f":"((D204/100)*1000*E204*28.3168)*60*60*24","v":6055264512000}]
["2000-11-01",31616,null,800,{"$f":"LOOKUP(A205,'Flow Data'!A$6:A$2928,'Flow Data'!B$6:B$2928)","v":99},{"$f":"LOOKUP(E205,'Flow Data'!D$6:D$737,'Flow Data'!H$6:H$737)","v":0.5453301402668489},{"$f":"((D205/100)*1000*E205*28.3168)*60*60*24","v":1937684643840}]
["2000-11-01",31616,null,830,{"$f":"LOOKUP(A206,'Flow Data'!A$6:A$2928,'Flow Data'!B$6:B$2928)","v":99},{"$f":"LOOKUP(E206,'Flow Data'!D$6:D$737,'Flow Data'!H$6:H$737)","v":0.5453301402668489},{"$f":"((D206/100)*1000*E206*28.3168)*60*60*24","v":2010347817984.0005}]
["2000-11-01",31616,null,1200,{"$f":"LOOKUP(A207,'Flow Data'!A$6:A$2928,'Flow Data'!B$6:B$2928)","v":99},{"$f":"LOOKUP(E207,'Flow Data'!D$6:D$737,'Flow Data'!H$6:H$737)","v":0.5453301402668489},{"$f":"((D207/100)*1000*E207*28.3168)*60*60*24","v":2906526965760}]
["2000-02-02",31616,null,1600,{"$f":"LOOKUP(A208,'Flow Data'!A$6:A$2928,'Flow Data'!B$6:B$2928)","v":95},{"$f":"LOOKUP(E208,'Flow Data'!D$6:D$737,'Flow Data'!H$6:H$737)","v":0.56277796784125877},{"$f":"((D208/100)*1000*E208*28.3168)*60*60*24","v":3718788710400}]
["2000-02-02",31616,null,1200,{"$f":"LOOKUP(A209,'Flow Data'!A$6:A$2928,'Flow Data'!B$6:B$2928)","v":95},{"$f":"LOOKUP(E209,'Flow Data'!D$6:D$737,'Flow Data'!H$6:H$737)","v":0.56277796784125877},{"$f":"((D209/100)*1000*E209*28.3168)*60*60*24","v":2789091532800}]
["2000-02-02",31616,null,750,{"$f":"LOOKUP(A210,'Flow Data'!A$6:A$2928,'Flow Data'!B$6:B$2928)","v":95},{"$f":"LOOKUP(E210,'Flow Data'!D$6:D$737,'Flow Data'!H$6:H$737)","v":0.56277796784125877},{"$f":"((D210/100)*1000*E210*28.3168)*60*60*24","v":1743182208000}]
["2000-10-10",31616,null,2600,{"$f":"LOOKUP(A211,'Flow Data'!A$6:A$2928,'Flow Data'!B$6:B$2928)","v":92},{"$f":"LOOKUP(E211,'Flow Data'!D$6:D$737,'Flow Data'!H$6:H$737)","v":0.5795415668833388},{"$f":"((D211/100)*1000*E211*28.3168)*60*60*24","v":5852199075840.001}]
["2001-02-05",31616,null,280,{"$f":"LOOKUP(A212,'Flow Data'!A$6:A$2928,'Flow Data'!B$6:B$2928)","v":92},{"$f":"LOOKUP(E212,'Flow Data'!D$6:D$737,'Flow Data'!H$6:H$737)","v":0.5795415668833388},{"$f":"((D212/100)*1000*E212*28.3168)*60*60*24","v":630236823551.99988}]
["2001-02-05",31616,null,840,{"$f":"LOOKUP(A213,'Flow Data'!A$6:A$2928,'Flow Data'!B$6:B$2928)","v":92},{"$f":"LOOKUP(E213,'Flow Data'!D$6:D$737,'Flow Data'!H$6:H$737)","v":0.5795415668833388},{"$f":"((D213/100)*1000*E213*28.3168)*60*60*24","v":1890710470655.9995}]
["2001-02-05",31616,null,670,{"$f":"LOOKUP(A214,'Flow Data'!A$6:A$2928,'Flow Data'!B$6:B$2928)","v":92},{"$f":"LOOKUP(E214,'Flow Data'!D$6:D$737,'Flow Data'!H$6:H$737)","v":0.5795415668833388},{"$f":"((D214/100)*1000*E214*28.3168)*60*60*24","v":1508066684927.9998}]
["2001-02-05",31616,null,640,{"$f":"LOOKUP(A215,'Flow Data'!A$6:A$2928,'Flow Data'!B$6:B$2928)","v":92},{"$f":"LOOKUP(E215,'Flow Data'!D$6:D$737,'Flow Data'!H$6:H$737)","v":0.5795415668833388},{"$f":"((D215/100)*1000*E215*28.3168)*60*60*24","v":1440541310976}]
["2001-02-05",31616,null,250,{"$f":"LOOKUP(A216,'Flow Data'!A$6:A$2928,'Flow Data'!B$6:B$2928)","v":92},{"$f":"LOOKUP(E216,'Flow Data'!D$6:D$737,'Flow Data'!H$6:H$737)","v":0.5795415668833388},{"$f":"((D216/100)*1000*E216*28.3168)*60*60*24","v":562711449600}]
["2001-05-29",31613,null,490,{"$f":"LOOKUP(A217,'Flow Data'!A$6:A$2928,'Flow Data'!B$6:B$2928)","v":90},{"$f":"LOOKUP(E217,'Flow Data'!D$6:D$737,'Flow Data'!H$6:H$737)","v":0.5877523092712964},{"$f":"((D217/100)*1000*E217*28.3168)*60*60*24","v":1078938040320}]
["2000-06-08",31616,null,1400,{"$f":"LOOKUP(A218,'Flow Data'!A$6:A$2928,'Flow Data'!B$6:B$2928)","v":89},{"$f":"LOOKUP(E218,'Flow Data'!D$6:D$737,'Flow Data'!H$6:H$737)","v":0.5918576804652752},{"$f":"((D218/100)*1000*E218*28.3168)*60*60*24","v":3048428113920.0005}]
["2000-06-08",31616,null,1200,{"$f":"LOOKUP(A219,'Flow Data'!A$6:A$2928,'Flow Data'!B$6:B$2928)","v":89},{"$f":"LOOKUP(E219,'Flow Data'!D$6:D$737,'Flow Data'!H$6:H$737)","v":0.5918576804652752},{"$f":"((D219/100)*1000*E219*28.3168)*60*60*24","v":2612938383360.0005}]
["2000-06-08",31616,null,1000,{"$f":"LOOKUP(A220,'Flow Data'!A$6:A$2928,'Flow Data'!B$6:B$2928)","v":89},{"$f":"LOOKUP(E220,'Flow Data'!D$6:D$737,'Flow Data'!H$6:H$737)","v":0.5918576804652752},{"$f":"((D220/100)*1000*E220*28.3168)*60*60*24","v":2177448652800}]
["2000-06-08",31616,null,1100,{"$f":"LOOKUP(A221,'Flow Data'!A$6:A$2928,'Flow Data'!B$6:B$2928)","v":89},{"$f":"LOOKUP(E221,'Flow Data'!D$6:D$737,'Flow Data'!H$6:H$737)","v":0.5918576804652752},{"$f":"((D221/100)*1000*E221*28.3168)*60*60*24","v":2395193518080}]
["2000-06-08",31616,null,1100,{"$f":"LOOKUP(A222,'Flow Data'!A$6:A$2928,'Flow Data'!B$6:B$2928)","v":89},{"$f":"LOOKUP(E222,'Flow Data'!D$6:D$737,'Flow Data'!H$6:H$737)","v":0.5918576804652752},{"$f":"((D222/100)*1000*E222*28.3168)*60*60*24","v":2395193518080}]
["2000-06-08",31616,null,1400,{"$f":"LOOKUP(A223,'Flow Data'!A$6:A$2928,'Flow Data'!B$6:B$2928)","v":89},{"$f":"LOOKUP(E223,'Flow Data'!D$6:D$737,'Flow Data'!H$6:H$737)","v":0.5918576804652752},{"$f":"((D223/100)*1000*E223*28.3168)*60*60*24","v":3048428113920.0005}]
["2000-07-25",31616,null,3700,{"$f":"LOOKUP(A224,'Flow Data'!A$6:A$2928,'Flow Data'!B$6:B$2928)","v":86},{"$f":"LOOKUP(E224,'Flow Data'!D$6:D$737,'Flow Data'!H$6:H$737)","v":0.60554225111187121},{"$f":"((D224/100)*1000*E224*28.3168)*60*60*24","v":7784990576640.002}]
["2000-07-25",31616,null,1600,{"$f":"LOOKUP(A225,'Flow Data'!A$6:A$2928,'Flow Data'!B$6:B$2928)","v":86},{"$f":"LOOKUP(E225,'Flow Data'!D$6:D$737,'Flow Data'!H$6:H$737)","v":0.60554225111187121},{"$f":"((D225/100)*1000*E225*28.3168)*60*60*24","v":3366482411520.001}]
["2000-07-25",31616,null,10000,{"$f":"LOOKUP(A226,'Flow Data'!A$6:A$2928,'Flow Data'!B$6:B$2928)","v":86},{"$f":"LOOKUP(E226,'Flow Data'!D$6:D$737,'Flow Data'!H$6:H$737)","v":0.60554225111187121},{"$f":"((D226/100)*1000*E226*28.3168)*60*60*24","v":21040515072000}]
["2000-07-25",31616,null,8200,{"$f":"LOOKUP(A227,'Flow Data'!A$6:A$2928,'Flow Data'!B$6:B$2928)","v":86},{"$f":"LOOKUP(E227,'Flow Data'!D$6:D$737,'Flow Data'!H$6:H$737)","v":0.60554225111187121},{"$f":"((D227/100)*1000*E227*28.3168)*60*60*24","v":17253222359040}]
["2000-07-25",31616,null,4400,{"$f":"LOOKUP(A228,'Flow Data'!A$6:A$2928,'Flow Data'!B$6:B$2928)","v":86},{"$f":"LOOKUP(E228,'Flow Data'!D$6:D$737,'Flow Data'!H$6:H$737)","v":0.60554225111187121},{"$f":"((D228/100)*1000*E228*28.3168)*60*60*24","v":9257826631680}]
["2000-07-31",31616,null,3600,{"$f":"LOOKUP(A229,'Flow Data'!A$6:A$2928,'Flow Data'!B$6:B$2928)","v":85},{"$f":"LOOKUP(E229,'Flow Data'!D$6:D$737,'Flow Data'!H$6:H$737)","v":0.61272665070133403},{"$f":"((D229/100)*1000*E229*28.3168)*60*60*24","v":7486508851200}]
["2000-05-11",31616,null,510,{"$f":"LOOKUP(A230,'Flow Data'!A$6:A$2928,'Flow Data'!B$6:B$2928)","v":83},{"$f":"LOOKUP(E230,'Flow Data'!D$6:D$737,'Flow Data'!H$6:H$737)","v":0.62230585015395135},{"$f":"((D230/100)*1000*E230*28.3168)*60*60*24","v":1035633724416}]
["2000-05-11",31616,null,440,{"$f":"LOOKUP(A231,'Flow Data'!A$6:A$2928,'Flow Data'!B$6:B$2928)","v":83},{"$f":"LOOKUP(E231,'Flow Data'!D$6:D$737,'Flow Data'!H$6:H$737)","v":0.62230585015395135},{"$f":"((D231/100)*1000*E231*28.3168)*60*60*24","v":893487919103.99976}]
["2000-05-11",31616,null,580,{"$f":"LOOKUP(A232,'Flow Data'!A$6:A$2928,'Flow Data'!B$6:B$2928)","v":83},{"$f":"LOOKUP(E232,'Flow Data'!D$6:D$737,'Flow Data'!H$6:H$737)","v":0.62230585015395135},{"$f":"((D232/100)*1000*E232*28.3168)*60*60*24","v":1177779529727.9998}]
["2000-05-11",31616,null,510,{"$f":"LOOKUP(A233,'Flow Data'!A$6:A$2928,'Flow Data'!B$6:B$2928)","v":83},{"$f":"LOOKUP(E233,'Flow Data'!D$6:D$737,'Flow Data'!H$6:H$737)","v":0.62230585015395135},{"$f":"((D233/100)*1000*E233*28.3168)*60*60*24","v":1035633724416}]
["2000-05-11",31616,null,400,{"$f":"LOOKUP(A234,'Flow Data'!A$6:A$2928,'Flow Data'!B$6:B$2928)","v":83},{"$f":"LOOKUP(E234,'Flow Data'!D$6:D$737,'Flow Data'!H$6:H$737)","v":0.62230585015395135},{"$f":"((D234/100)*1000*E234*28.3168)*60*60*24","v":812261744640}]
["2000-03-14",31616,null,3400,{"$f":"LOOKUP(A235,'Flow Data'!A$6:A$2928,'Flow Data'!B$6:B$2928)","v":81},{"$f":"LOOKUP(E235,'Flow Data'!D$6:D$737,'Flow Data'!H$6:H$737)","v":0.63256927813889829},{"$f":"((D235/100)*1000*E235*28.3168)*60*60*24","v":6737857966080}]
["2000-03-14",31616,null,2200,{"$f":"LOOKUP(A236,'Flow Data'!A$6:A$2928,'Flow Data'!B$6:B$2928)","v":81},{"$f":"LOOKUP(E236,'Flow Data'!D$6:D$737,'Flow Data'!H$6:H$737)","v":0.63256927813889829},{"$f":"((D236/100)*1000*E236*28.3168)*60*60*24","v":4359790448640}]
["2000-03-14",31616,null,5600,{"$f":"LOOKUP(A237,'Flow Data'!A$6:A$2928,'Flow Data'!B$6:B$2928)","v":81},{"$f":"LOOKUP(E237,'Flow Data'!D$6:D$737,'Flow Data'!H$6:H$737)","v":0.63256927813889829},{"$f":"((D237/100)*1000*E237*28.3168)*60*60*24","v":11097648414720}]
["2000-03-14",31616,null,1500,{"$f":"LOOKUP(A238,'Flow Data'!A$6:A$2928,'Flow Data'!B$6:B$2928)","v":81},{"$f":"LOOKUP(E238,'Flow Data'!D$6:D$737,'Flow Data'!H$6:H$737)","v":0.63256927813889829},{"$f":"((D238/100)*1000*E238*28.3168)*60*60*24","v":2972584396800}]
["2000-03-14",31616,null,5800,{"$f":"LOOKUP(A239,'Flow Data'!A$6:A$2928,'Flow Data'!B$6:B$2928)","v":81},{"$f":"LOOKUP(E239,'Flow Data'!D$6:D$737,'Flow Data'!H$6:H$737)","v":0.63256927813889829},{"$f":"((D239/100)*1000*E239*28.3168)*60*60*24","v":11493993000960}]
["2000-03-14",31616,null,4400,{"$f":"LOOKUP(A240,'Flow Data'!A$6:A$2928,'Flow Data'!B$6:B$2928)","v":81},{"$f":"LOOKUP(E240,'Flow Data'!D$6:D$737,'Flow Data'!H$6:H$737)","v":0.63256927813889829},{"$f":"((D240/100)*1000*E240*28.3168)*60*60*24","v":8719580897280}]
["2000-12-05",31616,null,15000,{"$f":"LOOKUP(A241,'Flow Data'!A$6:A$2928,'Flow Data'!B$6:B$2928)","v":81},{"$f":"LOOKUP(E241,'Flow Data'!D$6:D$737,'Flow Data'!H$6:H$737)","v":0.63256927813889829},{"$f":"((D241/100)*1000*E241*28.3168)*60*60*24","v":29725843968000}]
["2000-12-05",31616,null,26000,{"$f":"LOOKUP(A242,'Flow Data'!A$6:A$2928,'Flow Data'!B$6:B$2928)","v":81},{"$f":"LOOKUP(E242,'Flow Data'!D$6:D$737,'Flow Data'!H$6:H$737)","v":0.63256927813889829},{"$f":"((D242/100)*1000*E242*28.3168)*60*60*24","v":51524796211200}]
["2000-12-05",31616,null,40000,{"$f":"LOOKUP(A243,'Flow Data'!A$6:A$2928,'Flow Data'!B$6:B$2928)","v":81},{"$f":"LOOKUP(E243,'Flow Data'!D$6:D$737,'Flow Data'!H$6:H$737)","v":0.63256927813889829},{"$f":"((D243/100)*1000*E243*28.3168)*60*60*24","v":79268917248000}]
["2000-12-05",31616,null,59000,{"$f":"LOOKUP(A244,'Flow Data'!A$6:A$2928,'Flow Data'!B$6:B$2928)","v":81},{"$f":"LOOKUP(E244,'Flow Data'!D$6:D$737,'Flow Data'!H$6:H$737)","v":0.63256927813889829},{"$f":"((D244/100)*1000*E244*28.3168)*60*60*24","v":116921652940800}]
["2000-12-05",31616,null,160,{"$f":"LOOKUP(A245,'Flow Data'!A$6:A$2928,'Flow Data'!B$6:B$2928)","v":81},{"$f":"LOOKUP(E245,'Flow Data'!D$6:D$737,'Flow Data'!H$6:H$737)","v":0.63256927813889829},{"$f":"((D245/100)*1000*E245*28.3168)*60*60*24","v":317075668992}]
["2001-02-06",31616,null,340,{"$f":"LOOKUP(A246,'Flow Data'!A$6:A$2928,'Flow Data'!B$6:B$2928)","v":80},{"$f":"LOOKUP(E246,'Flow Data'!D$6:D$737,'Flow Data'!H$6:H$737)","v":0.63770099213137177},{"$f":"((D246/100)*1000*E246*28.3168)*60*60*24","v":665467453440.00012}]
["2001-02-06",31616,null,1000,{"$f":"LOOKUP(A247,'Flow Data'!A$6:A$2928,'Flow Data'!B$6:B$2928)","v":80},{"$f":"LOOKUP(E247,'Flow Data'!D$6:D$737,'Flow Data'!H$6:H$737)","v":0.63770099213137177},{"$f":"((D247/100)*1000*E247*28.3168)*60*60*24","v":1957257216000}]
["2001-02-06",31616,null,530,{"$f":"LOOKUP(A248,'Flow Data'!A$6:A$2928,'Flow Data'!B$6:B$2928)","v":80},{"$f":"LOOKUP(E248,'Flow Data'!D$6:D$737,'Flow Data'!H$6:H$737)","v":0.63770099213137177},{"$f":"((D248/100)*1000*E248*28.3168)*60*60*24","v":1037346324480.0002}]
["2001-02-06",31616,null,1000,{"$f":"LOOKUP(A249,'Flow Data'!A$6:A$2928,'Flow Data'!B$6:B$2928)","v":80},{"$f":"LOOKUP(E249,'Flow Data'!D$6:D$737,'Flow Data'!H$6:H$737)","v":0.63770099213137177},{"$f":"((D249/100)*1000*E249*28.3168)*60*60*24","v":1957257216000}]
["2001-02-06",31616,null,340,{"$f":"LOOKUP(A250,'Flow Data'!A$6:A$2928,'Flow Data'!B$6:B$2928)","v":80},{"$f":"LOOKUP(E250,'Flow Data'!D$6:D$737,'Flow Data'!H$6:H$737)","v":0.63770099213137177},{"$f":"((D250/100)*1000*E250*28.3168)*60*60*24","v":665467453440.00012}]
["2001-02-06",31616,null,690,{"$f":"LOOKUP(A251,'Flow Data'!A$6:A$2928,'Flow Data'!B$6:B$2928)","v":80},{"$f":"LOOKUP(E251,'Flow Data'!D$6:D$737,'Flow Data'!H$6:H$737)","v":0.63770099213137177},{"$f":"((D251/100)*1000*E251*28.3168)*60*60*24","v":1350507479040}]
["2000-06-22",31616,null,760,{"$f":"LOOKUP(A252,'Flow Data'!A$6:A$2928,'Flow Data'!B$6:B$2928)","v":78},{"$f":"LOOKUP(E252,'Flow Data'!D$6:D$737,'Flow Data'!H$6:H$737)","v":0.65035921997947299},{"$f":"((D252/100)*1000*E252*28.3168)*60*60*24","v":1450327597056}]
["2000-05-04",31616,null,2000,{"$f":"LOOKUP(A253,'Flow Data'!A$6:A$2928,'Flow Data'!B$6:B$2928)","v":77},{"$f":"LOOKUP(E253,'Flow Data'!D$6:D$737,'Flow Data'!H$6:H$737)","v":0.65720150530277111},{"$f":"((D253/100)*1000*E253*28.3168)*60*60*24","v":3767720140800}]
["2000-05-04",31616,null,2900,{"$f":"LOOKUP(A254,'Flow Data'!A$6:A$2928,'Flow Data'!B$6:B$2928)","v":77},{"$f":"LOOKUP(E254,'Flow Data'!D$6:D$737,'Flow Data'!H$6:H$737)","v":0.65720150530277111},{"$f":"((D254/100)*1000*E254*28.3168)*60*60*24","v":5463194204160}]
["2000-05-04",31616,null,1600,{"$f":"LOOKUP(A255,'Flow Data'!A$6:A$2928,'Flow Data'!B$6:B$2928)","v":77},{"$f":"LOOKUP(E255,'Flow Data'!D$6:D$737,'Flow Data'!H$6:H$737)","v":0.65720150530277111},{"$f":"((D255/100)*1000*E255*28.3168)*60*60*24","v":3014176112640}]
["2000-05-04",31616,null,7100,{"$f":"LOOKUP(A256,'Flow Data'!A$6:A$2928,'Flow Data'!B$6:B$2928)","v":77},{"$f":"LOOKUP(E256,'Flow Data'!D$6:D$737,'Flow Data'!H$6:H$737)","v":0.65720150530277111},{"$f":"((D256/100)*1000*E256*28.3168)*60*60*24","v":13375406499840}]
["2000-05-04",31616,null,1300,{"$f":"LOOKUP(A257,'Flow Data'!A$6:A$2928,'Flow Data'!B$6:B$2928)","v":77},{"$f":"LOOKUP(E257,'Flow Data'!D$6:D$737,'Flow Data'!H$6:H$737)","v":0.65720150530277111},{"$f":"((D257/100)*1000*E257*28.3168)*60*60*24","v":2449018091520}]
["2000-05-04",31616,null,2800,{"$f":"LOOKUP(A258,'Flow Data'!A$6:A$2928,'Flow Data'!B$6:B$2928)","v":77},{"$f":"LOOKUP(E258,'Flow Data'!D$6:D$737,'Flow Data'!H$6:H$737)","v":0.65720150530277111},{"$f":"((D258/100)*1000*E258*28.3168)*60*60*24","v":5274808197120.001}]
["2000-01-31",31616,null,4400,{"$f":"LOOKUP(A259,'Flow Data'!A$6:A$2928,'Flow Data'!B$6:B$2928)","v":75},{"$f":"LOOKUP(E259,'Flow Data'!D$6:D$737,'Flow Data'!H$6:H$737)","v":0.66712281902155313},{"$f":"((D259/100)*1000*E259*28.3168)*60*60*24","v":8073686016000}]
["2000-01-31",31616,null,2100,{"$f":"LOOKUP(A260,'Flow Data'!A$6:A$2928,'Flow Data'!B$6:B$2928)","v":75},{"$f":"LOOKUP(E260,'Flow Data'!D$6:D$737,'Flow Data'!H$6:H$737)","v":0.66712281902155313},{"$f":"((D260/100)*1000*E260*28.3168)*60*60*24","v":3853350144000}]
["2000-01-31",31616,null,1700,{"$f":"LOOKUP(A261,'Flow Data'!A$6:A$2928,'Flow Data'!B$6:B$2928)","v":75},{"$f":"LOOKUP(E261,'Flow Data'!D$6:D$737,'Flow Data'!H$6:H$737)","v":0.66712281902155313},{"$f":"((D261/100)*1000*E261*28.3168)*60*60*24","v":3119378688000}]
["2001-02-07",31616,null,330,{"$f":"LOOKUP(A262,'Flow Data'!A$6:A$2928,'Flow Data'!B$6:B$2928)","v":71},{"$f":"LOOKUP(E262,'Flow Data'!D$6:D$737,'Flow Data'!H$6:H$737)","v":0.6982552172425589},{"$f":"((D262/100)*1000*E262*28.3168)*60*60*24","v":573231707136.00012}]
["2001-07-16",31613,null,430,{"$f":"LOOKUP(A263,'Flow Data'!A$6:A$2928,'Flow Data'!B$6:B$2928)","v":69},{"$f":"LOOKUP(E263,'Flow Data'!D$6:D$737,'Flow Data'!H$6:H$737)","v":0.71193978788915491},{"$f":"((D263/100)*1000*E263*28.3168)*60*60*24","v":725897769984}]
["2000-10-11",31616,null,360,{"$f":"LOOKUP(A264,'Flow Data'!A$6:A$2928,'Flow Data'!B$6:B$2928)","v":68},{"$f":"LOOKUP(E264,'Flow Data'!D$6:D$737,'Flow Data'!H$6:H$737)","v":0.71946630174478265},{"$f":"((D264/100)*1000*E264*28.3168)*60*60*24","v":598920708096.00012}]
["2001-02-21",31616,null,32000,{"$f":"LOOKUP(A265,'Flow Data'!A$6:A$2928,'Flow Data'!B$6:B$2928)","v":66},{"$f":"LOOKUP(E265,'Flow Data'!D$6:D$737,'Flow Data'!H$6:H$737)","v":0.73417721518987333},{"$f":"((D265/100)*1000*E265*28.3168)*60*60*24","v":51671590502400}]
["2001-02-12",31616,null,220,{"$f":"LOOKUP(A266,'Flow Data'!A$6:A$2928,'Flow Data'!B$6:B$2928)","v":64},{"$f":"LOOKUP(E266,'Flow Data'!D$6:D$737,'Flow Data'!H$6:H$737)","v":0.75025658569962372},{"$f":"((D266/100)*1000*E266*28.3168)*60*60*24","v":344477270016}]
["2001-02-12",31616,null,150,{"$f":"LOOKUP(A267,'Flow Data'!A$6:A$2928,'Flow Data'!B$6:B$2928)","v":64},{"$f":"LOOKUP(E267,'Flow Data'!D$6:D$737,'Flow Data'!H$6:H$737)","v":0.75025658569962372},{"$f":"((D267/100)*1000*E267*28.3168)*60*60*24","v":234870865920.00006}]
["2001-02-12",31616,null,90,{"$f":"LOOKUP(A268,'Flow Data'!A$6:A$2928,'Flow Data'!B$6:B$2928)","v":64},{"$f":"LOOKUP(E268,'Flow Data'!D$6:D$737,'Flow Data'!H$6:H$737)","v":0.75025658569962372},{"$f":"((D268/100)*1000*E268*28.3168)*60*60*24","v":140922519552}]
["2001-02-12",31616,null,360,{"$f":"LOOKUP(A269,'Flow Data'!A$6:A$2928,'Flow Data'!B$6:B$2928)","v":64},{"$f":"LOOKUP(E269,'Flow Data'!D$6:D$737,'Flow Data'!H$6:H$737)","v":0.75025658569962372},{"$f":"((D269/100)*1000*E269*28.3168)*60*60*24","v":563690078208}]
["2001-02-12",31616,null,120,{"$f":"LOOKUP(A270,'Flow Data'!A$6:A$2928,'Flow Data'!B$6:B$2928)","v":64},{"$f":"LOOKUP(E270,'Flow Data'!D$6:D$737,'Flow Data'!H$6:H$737)","v":0.75025658569962372},{"$f":"((D270/100)*1000*E270*28.3168)*60*60*24","v":187896692736}]
["2001-02-13",31613,null,90,{"$f":"LOOKUP(A271,'Flow Data'!A$6:A$2928,'Flow Data'!B$6:B$2928)","v":61},{"$f":"LOOKUP(E271,'Flow Data'!D$6:D$737,'Flow Data'!H$6:H$737)","v":0.77352035579883682},{"$f":"((D271/100)*1000*E271*28.3168)*60*60*24","v":134316776448}]
["2001-02-13",31613,"<",10,{"$f":"LOOKUP(A272,'Flow Data'!A$6:A$2928,'Flow Data'!B$6:B$2928)","v":61},{"$f":"LOOKUP(E272,'Flow Data'!D$6:D$737,'Flow Data'!H$6:H$737)","v":0.77352035579883682},{"$f":"((D272/100)*1000*E272*28.3168)*60*60*24","v":14924086272}]
["2001-02-13",31616,null,3600,{"$f":"LOOKUP(A273,'Flow Data'!A$6:A$2928,'Flow Data'!B$6:B$2928)","v":61},{"$f":"LOOKUP(E273,'Flow Data'!D$6:D$737,'Flow Data'!H$6:H$737)","v":0.77352035579883682},{"$f":"((D273/100)*1000*E273*28.3168)*60*60*24","v":5372671057920.001}]
["2001-02-13",31616,null,390,{"$f":"LOOKUP(A274,'Flow Data'!A$6:A$2928,'Flow Data'!B$6:B$2928)","v":61},{"$f":"LOOKUP(E274,'Flow Data'!D$6:D$737,'Flow Data'!H$6:H$737)","v":0.77352035579883682},{"$f":"((D274/100)*1000*E274*28.3168)*60*60*24","v":582039364608}]
["2001-02-13",31616,null,290,{"$f":"LOOKUP(A275,'Flow Data'!A$6:A$2928,'Flow Data'!B$6:B$2928)","v":61},{"$f":"LOOKUP(E275,'Flow Data'!D$6:D$737,'Flow Data'!H$6:H$737)","v":0.77352035579883682},{"$f":"((D275/100)*1000*E275*28.3168)*60*60*24","v":432798501888}]
["2001-02-13",31616,null,520,{"$f":"LOOKUP(A276,'Flow Data'!A$6:A$2928,'Flow Data'!B$6:B$2928)","v":61},{"$f":"LOOKUP(E276,'Flow Data'!D$6:D$737,'Flow Data'!H$6:H$737)","v":0.77352035579883682},{"$f":"((D276/100)*1000*E276*28.3168)*60*60*24","v":776052486144}]
["2001-02-13",31616,null,4200,{"$f":"LOOKUP(A277,'Flow Data'!A$6:A$2928,'Flow Data'!B$6:B$2928)","v":61},{"$f":"LOOKUP(E277,'Flow Data'!D$6:D$737,'Flow Data'!H$6:H$737)","v":0.77352035579883682},{"$f":"((D277/100)*1000*E277*28.3168)*60*60*24","v":6268116234240.002}]
["2001-02-13",31616,null,460,{"$f":"LOOKUP(A278,'Flow Data'!A$6:A$2928,'Flow Data'!B$6:B$2928)","v":61},{"$f":"LOOKUP(E278,'Flow Data'!D$6:D$737,'Flow Data'!H$6:H$737)","v":0.77352035579883682},{"$f":"((D278/100)*1000*E278*28.3168)*60*60*24","v":686507968512}]
["2000-07-26",31616,null,5700,{"$f":"LOOKUP(A279,'Flow Data'!A$6:A$2928,'Flow Data'!B$6:B$2928)","v":60},{"$f":"LOOKUP(E279,'Flow Data'!D$6:D$737,'Flow Data'!H$6:H$737)","v":0.78241532671912417},{"$f":"((D279/100)*1000*E279*28.3168)*60*60*24","v":8367274598400}]
["2000-07-26",31616,null,610,{"$f":"LOOKUP(A280,'Flow Data'!A$6:A$2928,'Flow Data'!B$6:B$2928)","v":60},{"$f":"LOOKUP(E280,'Flow Data'!D$6:D$737,'Flow Data'!H$6:H$737)","v":0.78241532671912417},{"$f":"((D280/100)*1000*E280*28.3168)*60*60*24","v":895445176320}]
["2000-07-26",31616,null,6400,{"$f":"LOOKUP(A281,'Flow Data'!A$6:A$2928,'Flow Data'!B$6:B$2928)","v":60},{"$f":"LOOKUP(E281,'Flow Data'!D$6:D$737,'Flow Data'!H$6:H$737)","v":0.78241532671912417},{"$f":"((D281/100)*1000*E281*28.3168)*60*60*24","v":9394834636800}]
["2000-07-26",31616,null,24000,{"$f":"LOOKUP(A282,'Flow Data'!A$6:A$2928,'Flow Data'!B$6:B$2928)","v":60},{"$f":"LOOKUP(E282,'Flow Data'!D$6:D$737,'Flow Data'!H$6:H$737)","v":0.78241532671912417},{"$f":"((D282/100)*1000*E282*28.3168)*60*60*24","v":35230629888000}]
["2000-07-26",31616,null,6400,{"$f":"LOOKUP(A283,'Flow Data'!A$6:A$2928,'Flow Data'!B$6:B$2928)","v":60},{"$f":"LOOKUP(E283,'Flow Data'!D$6:D$737,'Flow Data'!H$6:H$737)","v":0.78241532671912417},{"$f":"((D283/100)*1000*E283*28.3168)*60*60*24","v":9394834636800}]
["2000-07-26",31616,null,2600,{"$f":"LOOKUP(A284,'Flow Data'!A$6:A$2928,'Flow Data'!B$6:B$2928)","v":60},{"$f":"LOOKUP(E284,'Flow Data'!D$6:D$737,'Flow Data'!H$6:H$737)","v":0.78241532671912417},{"$f":"((D284/100)*1000*E284*28.3168)*60*60*24","v":3816651571200}]
["2000-08-23",31616,null,18000,{"$f":"LOOKUP(A285,'Flow Data'!A$6:A$2928,'Flow Data'!B$6:B$2928)","v":59},{"$f":"LOOKUP(E285,'Flow Data'!D$6:D$737,'Flow Data'!H$6:H$737)","v":0.79028395484091685},{"$f":"((D285/100)*1000*E285*28.3168)*60*60*24","v":25982589542400}]
["2000-09-18",31616,null,5200,{"$f":"LOOKUP(A286,'Flow Data'!A$6:A$2928,'Flow Data'!B$6:B$2928)","v":57},{"$f":"LOOKUP(E286,'Flow Data'!D$6:D$737,'Flow Data'!H$6:H$737)","v":0.8060212110845022},{"$f":"((D286/100)*1000*E286*28.3168)*60*60*24","v":7251637985280}]
["2000-09-18",31616,null,2100,{"$f":"LOOKUP(A287,'Flow Data'!A$6:A$2928,'Flow Data'!B$6:B$2928)","v":57},{"$f":"LOOKUP(E287,'Flow Data'!D$6:D$737,'Flow Data'!H$6:H$737)","v":0.8060212110845022},{"$f":"((D287/100)*1000*E287*28.3168)*60*60*24","v":2928546109440}]
["2000-09-18",31616,null,3700,{"$f":"LOOKUP(A288,'Flow Data'!A$6:A$2928,'Flow Data'!B$6:B$2928)","v":57},{"$f":"LOOKUP(E288,'Flow Data'!D$6:D$737,'Flow Data'!H$6:H$737)","v":0.8060212110845022},{"$f":"((D288/100)*1000*E288*28.3168)*60*60*24","v":5159819335680}]
["2000-09-18",31616,null,2100,{"$f":"LOOKUP(A289,'Flow Data'!A$6:A$2928,'Flow Data'!B$6:B$2928)","v":57},{"$f":"LOOKUP(E289,'Flow Data'!D$6:D$737,'Flow Data'!H$6:H$737)","v":0.8060212110845022},{"$f":"((D289/100)*1000*E289*28.3168)*60*60*24","v":2928546109440}]
["2000-09-18",31616,null,470,{"$f":"LOOKUP(A290,'Flow Data'!A$6:A$2928,'Flow Data'!B$6:B$2928)","v":57},{"$f":"LOOKUP(E290,'Flow Data'!D$6:D$737,'Flow Data'!H$6:H$737)","v":0.8060212110845022},{"$f":"((D290/100)*1000*E290*28.3168)*60*60*24","v":655436510208}]
["2000-09-18",31616,null,3600,{"$f":"LOOKUP(A291,'Flow Data'!A$6:A$2928,'Flow Data'!B$6:B$2928)","v":57},{"$f":"LOOKUP(E291,'Flow Data'!D$6:D$737,'Flow Data'!H$6:H$737)","v":0.8060212110845022},{"$f":"((D291/100)*1000*E291*28.3168)*60*60*24","v":5020364759040}]
["2000-06-01",31616,null,380,{"$f":"LOOKUP(A292,'Flow Data'!A$6:A$2928,'Flow Data'!B$6:B$2928)","v":56},{"$f":"LOOKUP(E292,'Flow Data'!D$6:D$737,'Flow Data'!H$6:H$737)","v":0.8128634964078002},{"$f":"((D292/100)*1000*E292*28.3168)*60*60*24","v":520630419456}]
["2000-06-01",31616,null,99,{"$f":"LOOKUP(A293,'Flow Data'!A$6:A$2928,'Flow Data'!B$6:B$2928)","v":56},{"$f":"LOOKUP(E293,'Flow Data'!D$6:D$737,'Flow Data'!H$6:H$737)","v":0.8128634964078002},{"$f":"((D293/100)*1000*E293*28.3168)*60*60*24","v":135637925068.79999}]
["2000-06-01",31616,null,940,{"$f":"LOOKUP(A294,'Flow Data'!A$6:A$2928,'Flow Data'!B$6:B$2928)","v":56},{"$f":"LOOKUP(E294,'Flow Data'!D$6:D$737,'Flow Data'!H$6:H$737)","v":0.8128634964078002},{"$f":"((D294/100)*1000*E294*28.3168)*60*60*24","v":1287875248127.9998}]
["2000-06-01",31616,null,7900,{"$f":"LOOKUP(A295,'Flow Data'!A$6:A$2928,'Flow Data'!B$6:B$2928)","v":56},{"$f":"LOOKUP(E295,'Flow Data'!D$6:D$737,'Flow Data'!H$6:H$737)","v":0.8128634964078002},{"$f":"((D295/100)*1000*E295*28.3168)*60*60*24","v":10823632404480}]
["2000-06-01",31616,null,520,{"$f":"LOOKUP(A296,'Flow Data'!A$6:A$2928,'Flow Data'!B$6:B$2928)","v":56},{"$f":"LOOKUP(E296,'Flow Data'!D$6:D$737,'Flow Data'!H$6:H$737)","v":0.8128634964078002},{"$f":"((D296/100)*1000*E296*28.3168)*60*60*24","v":712441626624}]
["2002-05-23",31613,null,360,{"$f":"LOOKUP(A297,'Flow Data'!A$6:A$2928,'Flow Data'!B$6:B$2928)","v":55},{"$f":"LOOKUP(E297,'Flow Data'!D$6:D$737,'Flow Data'!H$6:H$737)","v":0.82483749572357168},{"$f":"((D297/100)*1000*E297*28.3168)*60*60*24","v":484421160960}]
["2002-05-23",31613,null,727,{"$f":"LOOKUP(A298,'Flow Data'!A$6:A$2928,'Flow Data'!B$6:B$2928)","v":55},{"$f":"LOOKUP(E298,'Flow Data'!D$6:D$737,'Flow Data'!H$6:H$737)","v":0.82483749572357168},{"$f":"((D298/100)*1000*E298*28.3168)*60*60*24","v":978261622272.00024}]
["2000-12-19",31616,null,480,{"$f":"LOOKUP(A299,'Flow Data'!A$6:A$2928,'Flow Data'!B$6:B$2928)","v":54},{"$f":"LOOKUP(E299,'Flow Data'!D$6:D$737,'Flow Data'!H$6:H$737)","v":0.83715360930550808},{"$f":"((D299/100)*1000*E299*28.3168)*60*60*24","v":634151337984}]
["2000-12-19",31616,null,110,{"$f":"LOOKUP(A300,'Flow Data'!A$6:A$2928,'Flow Data'!B$6:B$2928)","v":54},{"$f":"LOOKUP(E300,'Flow Data'!D$6:D$737,'Flow Data'!H$6:H$737)","v":0.83715360930550808},{"$f":"((D300/100)*1000*E300*28.3168)*60*60*24","v":145326348287.99997}]
["2000-12-19",31616,null,160,{"$f":"LOOKUP(A301,'Flow Data'!A$6:A$2928,'Flow Data'!B$6:B$2928)","v":54},{"$f":"LOOKUP(E301,'Flow Data'!D$6:D$737,'Flow Data'!H$6:H$737)","v":0.83715360930550808},{"$f":"((D301/100)*1000*E301*28.3168)*60*60*24","v":211383779328}]
["2000-12-19",31616,null,200,{"$f":"LOOKUP(A302,'Flow Data'!A$6:A$2928,'Flow Data'!B$6:B$2928)","v":54},{"$f":"LOOKUP(E302,'Flow Data'!D$6:D$737,'Flow Data'!H$6:H$737)","v":0.83715360930550808},{"$f":"((D302/100)*1000*E302*28.3168)*60*60*24","v":264229724160}]
["2000-12-19",31616,null,150,{"$f":"LOOKUP(A303,'Flow Data'!A$6:A$2928,'Flow Data'!B$6:B$2928)","v":54},{"$f":"LOOKUP(E303,'Flow Data'!D$6:D$737,'Flow Data'!H$6:H$737)","v":0.83715360930550808},{"$f":"((D303/100)*1000*E303*28.3168)*60*60*24","v":198172293120.00006}]
["2000-12-19",31616,null,210,{"$f":"LOOKUP(A304,'Flow Data'!A$6:A$2928,'Flow Data'!B$6:B$2928)","v":54},{"$f":"LOOKUP(E304,'Flow Data'!D$6:D$737,'Flow Data'!H$6:H$737)","v":0.83715360930550808},{"$f":"((D304/100)*1000*E304*28.3168)*60*60*24","v":277441210368.00006}]
["2000-12-21",31616,null,2900,{"$f":"LOOKUP(A305,'Flow Data'!A$6:A$2928,'Flow Data'!B$6:B$2928)","v":53},{"$f":"LOOKUP(E305,'Flow Data'!D$6:D$737,'Flow Data'!H$6:H$737)","v":0.8457064659596305},{"$f":"((D305/100)*1000*E305*28.3168)*60*60*24","v":3760380426240}]
["2002-02-13",31613,null,2000,{"$f":"LOOKUP(A306,'Flow Data'!A$6:A$2928,'Flow Data'!B$6:B$2928)","v":53},{"$f":"LOOKUP(E306,'Flow Data'!D$6:D$737,'Flow Data'!H$6:H$737)","v":0.8457064659596305},{"$f":"((D306/100)*1000*E306*28.3168)*60*60*24","v":2593365811200}]
["2002-02-13",31613,null,108,{"$f":"LOOKUP(A307,'Flow Data'!A$6:A$2928,'Flow Data'!B$6:B$2928)","v":53},{"$f":"LOOKUP(E307,'Flow Data'!D$6:D$737,'Flow Data'!H$6:H$737)","v":0.8457064659596305},{"$f":"((D307/100)*1000*E307*28.3168)*60*60*24","v":140041753804.79999}]
["2000-12-20",31616,null,72,{"$f":"LOOKUP(A308,'Flow Data'!A$6:A$2928,'Flow Data'!B$6:B$2928)","v":52},{"$f":"LOOKUP(E308,'Flow Data'!D$6:D$737,'Flow Data'!H$6:H$737)","v":0.85802257954156691},{"$f":"((D308/100)*1000*E308*28.3168)*60*60*24","v":91599637708.800003}]
["2001-11-06",31613,null,126,{"$f":"LOOKUP(A309,'Flow Data'!A$6:A$2928,'Flow Data'!B$6:B$2928)","v":52},{"$f":"LOOKUP(E309,'Flow Data'!D$6:D$737,'Flow Data'!H$6:H$737)","v":0.85802257954156691},{"$f":"((D309/100)*1000*E309*28.3168)*60*60*24","v":160299365990.39999}]
["2001-11-06",31613,null,270,{"$f":"LOOKUP(A310,'Flow Data'!A$6:A$2928,'Flow Data'!B$6:B$2928)","v":52},{"$f":"LOOKUP(E310,'Flow Data'!D$6:D$737,'Flow Data'!H$6:H$737)","v":0.85802257954156691},{"$f":"((D310/100)*1000*E310*28.3168)*60*60*24","v":343498641408.00006}]
["2000-05-16",31616,null,910,{"$f":"LOOKUP(A311,'Flow Data'!A$6:A$2928,'Flow Data'!B$6:B$2928)","v":51},{"$f":"LOOKUP(E311,'Flow Data'!D$6:D$737,'Flow Data'!H$6:H$737)","v":0.86999657885733839},{"$f":"((D311/100)*1000*E311*28.3168)*60*60*24","v":1135453842432.0002}]
["2000-05-15",31616,"<",10,{"$f":"LOOKUP(A312,'Flow Data'!A$6:A$2928,'Flow Data'!B$6:B$2928)","v":50},{"$f":"LOOKUP(E312,'Flow Data'!D$6:D$737,'Flow Data'!H$6:H$737)","v":0.88060212110845026},{"$f":"((D312/100)*1000*E312*28.3168)*60*60*24","v":12232857600}]
["2000-05-15",31616,null,410,{"$f":"LOOKUP(A313,'Flow Data'!A$6:A$2928,'Flow Data'!B$6:B$2928)","v":50},{"$f":"LOOKUP(E313,'Flow Data'!D$6:D$737,'Flow Data'!H$6:H$737)","v":0.88060212110845026},{"$f":"((D313/100)*1000*E313*28.3168)*60*60*24","v":501547161600}]
["2000-05-15",31616,null,660,{"$f":"LOOKUP(A314,'Flow Data'!A$6:A$2928,'Flow Data'!B$6:B$2928)","v":50},{"$f":"LOOKUP(E314,'Flow Data'!D$6:D$737,'Flow Data'!H$6:H$737)","v":0.88060212110845026},{"$f":"((D314/100)*1000*E314*28.3168)*60*60*24","v":807368601600}]
["2000-05-15",31616,null,2100,{"$f":"LOOKUP(A315,'Flow Data'!A$6:A$2928,'Flow Data'!B$6:B$2928)","v":50},{"$f":"LOOKUP(E315,'Flow Data'!D$6:D$737,'Flow Data'!H$6:H$737)","v":0.88060212110845026},{"$f":"((D315/100)*1000*E315*28.3168)*60*60*24","v":2568900096000}]
["2000-05-15",31616,"<",10,{"$f":"LOOKUP(A316,'Flow Data'!A$6:A$2928,'Flow Data'!B$6:B$2928)","v":50},{"$f":"LOOKUP(E316,'Flow Data'!D$6:D$737,'Flow Data'!H$6:H$737)","v":0.88060212110845026},{"$f":"((D316/100)*1000*E316*28.3168)*60*60*24","v":12232857600}]
["2000-05-15",31616,null,240,{"$f":"LOOKUP(A317,'Flow Data'!A$6:A$2928,'Flow Data'!B$6:B$2928)","v":50},{"$f":"LOOKUP(E317,'Flow Data'!D$6:D$737,'Flow Data'!H$6:H$737)","v":0.88060212110845026},{"$f":"((D317/100)*1000*E317*28.3168)*60*60*24","v":293588582400}]
["2000-09-12",31616,null,300,{"$f":"LOOKUP(A318,'Flow Data'!A$6:A$2928,'Flow Data'!B$6:B$2928)","v":49},{"$f":"LOOKUP(E318,'Flow Data'!D$6:D$737,'Flow Data'!H$6:H$737)","v":0.89018132056106736},{"$f":"((D318/100)*1000*E318*28.3168)*60*60*24","v":359646013440}]
["2000-09-12",31616,null,180,{"$f":"LOOKUP(A319,'Flow Data'!A$6:A$2928,'Flow Data'!B$6:B$2928)","v":49},{"$f":"LOOKUP(E319,'Flow Data'!D$6:D$737,'Flow Data'!H$6:H$737)","v":0.89018132056106736},{"$f":"((D319/100)*1000*E319*28.3168)*60*60*24","v":215787608064.00006}]
["2000-09-12",31616,null,310,{"$f":"LOOKUP(A320,'Flow Data'!A$6:A$2928,'Flow Data'!B$6:B$2928)","v":49},{"$f":"LOOKUP(E320,'Flow Data'!D$6:D$737,'Flow Data'!H$6:H$737)","v":0.89018132056106736},{"$f":"((D320/100)*1000*E320*28.3168)*60*60*24","v":371634213888}]
["2000-09-12",31616,null,290,{"$f":"LOOKUP(A321,'Flow Data'!A$6:A$2928,'Flow Data'!B$6:B$2928)","v":49},{"$f":"LOOKUP(E321,'Flow Data'!D$6:D$737,'Flow Data'!H$6:H$737)","v":0.89018132056106736},{"$f":"((D321/100)*1000*E321*28.3168)*60*60*24","v":347657812992}]
["2000-09-12",31616,null,480,{"$f":"LOOKUP(A322,'Flow Data'!A$6:A$2928,'Flow Data'!B$6:B$2928)","v":49},{"$f":"LOOKUP(E322,'Flow Data'!D$6:D$737,'Flow Data'!H$6:H$737)","v":0.89018132056106736},{"$f":"((D322/100)*1000*E322*28.3168)*60*60*24","v":575433621504}]
["2001-06-04",31613,null,2000,{"$f":"LOOKUP(A323,'Flow Data'!A$6:A$2928,'Flow Data'!B$6:B$2928)","v":49},{"$f":"LOOKUP(E323,'Flow Data'!D$6:D$737,'Flow Data'!H$6:H$737)","v":0.89018132056106736},{"$f":"((D323/100)*1000*E323*28.3168)*60*60*24","v":2397640089600}]
["2001-07-23",31613,null,545,{"$f":"LOOKUP(A324,'Flow Data'!A$6:A$2928,'Flow Data'!B$6:B$2928)","v":49},{"$f":"LOOKUP(E324,'Flow Data'!D$6:D$737,'Flow Data'!H$6:H$737)","v":0.89018132056106736},{"$f":"((D324/100)*1000*E324*28.3168)*60*60*24","v":653356924416.00012}]
["2000-07-19",31616,null,470,{"$f":"LOOKUP(A325,'Flow Data'!A$6:A$2928,'Flow Data'!B$6:B$2928)","v":48},{"$f":"LOOKUP(E325,'Flow Data'!D$6:D$737,'Flow Data'!H$6:H$737)","v":0.89839206294902496},{"$f":"((D325/100)*1000*E325*28.3168)*60*60*24","v":551946534912}]
["2000-09-19",31616,null,3400,{"$f":"LOOKUP(A326,'Flow Data'!A$6:A$2928,'Flow Data'!B$6:B$2928)","v":48},{"$f":"LOOKUP(E326,'Flow Data'!D$6:D$737,'Flow Data'!H$6:H$737)","v":0.89839206294902496},{"$f":"((D326/100)*1000*E326*28.3168)*60*60*24","v":3992804720640}]
["2000-09-05",31616,null,370,{"$f":"LOOKUP(A327,'Flow Data'!A$6:A$2928,'Flow Data'!B$6:B$2928)","v":46},{"$f":"LOOKUP(E327,'Flow Data'!D$6:D$737,'Flow Data'!H$6:H$737)","v":0.91755046185425937},{"$f":"((D327/100)*1000*E327*28.3168)*60*60*24","v":416406472704}]
["2000-09-05",31616,null,210,{"$f":"LOOKUP(A328,'Flow Data'!A$6:A$2928,'Flow Data'!B$6:B$2928)","v":46},{"$f":"LOOKUP(E328,'Flow Data'!D$6:D$737,'Flow Data'!H$6:H$737)","v":0.91755046185425937},{"$f":"((D328/100)*1000*E328*28.3168)*60*60*24","v":236338808831.99994}]
["2000-09-05",31616,null,380,{"$f":"LOOKUP(A329,'Flow Data'!A$6:A$2928,'Flow Data'!B$6:B$2928)","v":46},{"$f":"LOOKUP(E329,'Flow Data'!D$6:D$737,'Flow Data'!H$6:H$737)","v":0.91755046185425937},{"$f":"((D329/100)*1000*E329*28.3168)*60*60*24","v":427660701696}]
["2000-09-05",31616,null,260,{"$f":"LOOKUP(A330,'Flow Data'!A$6:A$2928,'Flow Data'!B$6:B$2928)","v":46},{"$f":"LOOKUP(E330,'Flow Data'!D$6:D$737,'Flow Data'!H$6:H$737)","v":0.91755046185425937},{"$f":"((D330/100)*1000*E330*28.3168)*60*60*24","v":292609953792}]
["2000-09-05",31616,null,490,{"$f":"LOOKUP(A331,'Flow Data'!A$6:A$2928,'Flow Data'!B$6:B$2928)","v":46},{"$f":"LOOKUP(E331,'Flow Data'!D$6:D$737,'Flow Data'!H$6:H$737)","v":0.91755046185425937},{"$f":"((D331/100)*1000*E331*28.3168)*60*60*24","v":551457220608}]
["2000-09-20",31616,null,28000,{"$f":"LOOKUP(A332,'Flow Data'!A$6:A$2928,'Flow Data'!B$6:B$2928)","v":46},{"$f":"LOOKUP(E332,'Flow Data'!D$6:D$737,'Flow Data'!H$6:H$737)","v":0.91755046185425937},{"$f":"((D332/100)*1000*E332*28.3168)*60*60*24","v":31511841177600}]
["2000-01-12",31616,null,3200,{"$f":"LOOKUP(A333,'Flow Data'!A$6:A$2928,'Flow Data'!B$6:B$2928)","v":45},{"$f":"LOOKUP(E333,'Flow Data'!D$6:D$737,'Flow Data'!H$6:H$737)","v":0.92849811837153617},{"$f":"((D333/100)*1000*E333*28.3168)*60*60*24","v":3523062988800}]
["2000-01-12",31616,null,620,{"$f":"LOOKUP(A334,'Flow Data'!A$6:A$2928,'Flow Data'!B$6:B$2928)","v":45},{"$f":"LOOKUP(E334,'Flow Data'!D$6:D$737,'Flow Data'!H$6:H$737)","v":0.92849811837153617},{"$f":"((D334/100)*1000*E334*28.3168)*60*60*24","v":682593454080}]
["2000-01-12",31616,null,740,{"$f":"LOOKUP(A335,'Flow Data'!A$6:A$2928,'Flow Data'!B$6:B$2928)","v":45},{"$f":"LOOKUP(E335,'Flow Data'!D$6:D$737,'Flow Data'!H$6:H$737)","v":0.92849811837153617},{"$f":"((D335/100)*1000*E335*28.3168)*60*60*24","v":814708316160}]
["2000-02-14",31616,null,570,{"$f":"LOOKUP(A336,'Flow Data'!A$6:A$2928,'Flow Data'!B$6:B$2928)","v":45},{"$f":"LOOKUP(E336,'Flow Data'!D$6:D$737,'Flow Data'!H$6:H$737)","v":0.92849811837153617},{"$f":"((D336/100)*1000*E336*28.3168)*60*60*24","v":627545594880}]
["2000-02-14",31616,null,440,{"$f":"LOOKUP(A337,'Flow Data'!A$6:A$2928,'Flow Data'!B$6:B$2928)","v":45},{"$f":"LOOKUP(E337,'Flow Data'!D$6:D$737,'Flow Data'!H$6:H$737)","v":0.92849811837153617},{"$f":"((D337/100)*1000*E337*28.3168)*60*60*24","v":484421160960}]
["2000-02-14",31616,null,280,{"$f":"LOOKUP(A338,'Flow Data'!A$6:A$2928,'Flow Data'!B$6:B$2928)","v":45},{"$f":"LOOKUP(E338,'Flow Data'!D$6:D$737,'Flow Data'!H$6:H$737)","v":0.92849811837153617},{"$f":"((D338/100)*1000*E338*28.3168)*60*60*24","v":308268011520.00006}]
["2001-05-23",31613,null,541,{"$f":"LOOKUP(A339,'Flow Data'!A$6:A$2928,'Flow Data'!B$6:B$2928)","v":45},{"$f":"LOOKUP(E339,'Flow Data'!D$6:D$737,'Flow Data'!H$6:H$737)","v":0.92849811837153617},{"$f":"((D339/100)*1000*E339*28.3168)*60*60*24","v":595617836544}]
["2001-05-23",31613,null,2500,{"$f":"LOOKUP(A340,'Flow Data'!A$6:A$2928,'Flow Data'!B$6:B$2928)","v":45},{"$f":"LOOKUP(E340,'Flow Data'!D$6:D$737,'Flow Data'!H$6:H$737)","v":0.92849811837153617},{"$f":"((D340/100)*1000*E340*28.3168)*60*60*24","v":2752392960000}]
["2001-05-23",31613,null,355,{"$f":"LOOKUP(A341,'Flow Data'!A$6:A$2928,'Flow Data'!B$6:B$2928)","v":45},{"$f":"LOOKUP(E341,'Flow Data'!D$6:D$737,'Flow Data'!H$6:H$737)","v":0.92849811837153617},{"$f":"((D341/100)*1000*E341*28.3168)*60*60*24","v":390839800320}]
["2000-08-17",31616,null,540,{"$f":"LOOKUP(A342,'Flow Data'!A$6:A$2928,'Flow Data'!B$6:B$2928)","v":44},{"$f":"LOOKUP(E342,'Flow Data'!D$6:D$737,'Flow Data'!H$6:H$737)","v":0.93602463222716392},{"$f":"((D342/100)*1000*E342*28.3168)*60*60*24","v":581305393151.99988}]
["2001-08-14",31613,null,454,{"$f":"LOOKUP(A343,'Flow Data'!A$6:A$2928,'Flow Data'!B$6:B$2928)","v":43},{"$f":"LOOKUP(E343,'Flow Data'!D$6:D$737,'Flow Data'!H$6:H$737)","v":0.94218268901813207},{"$f":"((D343/100)*1000*E343*28.3168)*60*60*24","v":477619692134.40002}]
["2001-08-14",31613,null,108,{"$f":"LOOKUP(A344,'Flow Data'!A$6:A$2928,'Flow Data'!B$6:B$2928)","v":43},{"$f":"LOOKUP(E344,'Flow Data'!D$6:D$737,'Flow Data'!H$6:H$737)","v":0.94218268901813207},{"$f":"((D344/100)*1000*E344*28.3168)*60*60*24","v":113618781388.79999}]
["2001-08-14",31613,null,818,{"$f":"LOOKUP(A345,'Flow Data'!A$6:A$2928,'Flow Data'!B$6:B$2928)","v":43},{"$f":"LOOKUP(E345,'Flow Data'!D$6:D$737,'Flow Data'!H$6:H$737)","v":0.94218268901813207},{"$f":"((D345/100)*1000*E345*28.3168)*60*60*24","v":860557066444.80005}]
["2000-10-03",31616,null,72,{"$f":"LOOKUP(A346,'Flow Data'!A$6:A$2928,'Flow Data'!B$6:B$2928)","v":42},{"$f":"LOOKUP(E346,'Flow Data'!D$6:D$737,'Flow Data'!H$6:H$737)","v":0.94560383167978102},{"$f":"((D346/100)*1000*E346*28.3168)*60*60*24","v":73984322764.800003}]
["2000-10-03",31616,null,190,{"$f":"LOOKUP(A347,'Flow Data'!A$6:A$2928,'Flow Data'!B$6:B$2928)","v":42},{"$f":"LOOKUP(E347,'Flow Data'!D$6:D$737,'Flow Data'!H$6:H$737)","v":0.94560383167978102},{"$f":"((D347/100)*1000*E347*28.3168)*60*60*24","v":195236407296}]
["2000-10-03",31616,null,600,{"$f":"LOOKUP(A348,'Flow Data'!A$6:A$2928,'Flow Data'!B$6:B$2928)","v":42},{"$f":"LOOKUP(E348,'Flow Data'!D$6:D$737,'Flow Data'!H$6:H$737)","v":0.94560383167978102},{"$f":"((D348/100)*1000*E348*28.3168)*60*60*24","v":616536023040.00012}]
["2000-10-03",31616,null,390,{"$f":"LOOKUP(A349,'Flow Data'!A$6:A$2928,'Flow Data'!B$6:B$2928)","v":42},{"$f":"LOOKUP(E349,'Flow Data'!D$6:D$737,'Flow Data'!H$6:H$737)","v":0.94560383167978102},{"$f":"((D349/100)*1000*E349*28.3168)*60*60*24","v":400748414975.99994}]
["2000-10-03",31616,null,820,{"$f":"LOOKUP(A350,'Flow Data'!A$6:A$2928,'Flow Data'!B$6:B$2928)","v":42},{"$f":"LOOKUP(E350,'Flow Data'!D$6:D$737,'Flow Data'!H$6:H$737)","v":0.94560383167978102},{"$f":"((D350/100)*1000*E350*28.3168)*60*60*24","v":842599231488}]
["2000-10-04",31616,null,300,{"$f":"LOOKUP(A351,'Flow Data'!A$6:A$2928,'Flow Data'!B$6:B$2928)","v":42},{"$f":"LOOKUP(E351,'Flow Data'!D$6:D$737,'Flow Data'!H$6:H$737)","v":0.94560383167978102},{"$f":"((D351/100)*1000*E351*28.3168)*60*60*24","v":308268011520.00006}]
["2000-10-04",31616,null,310,{"$f":"LOOKUP(A352,'Flow Data'!A$6:A$2928,'Flow Data'!B$6:B$2928)","v":42},{"$f":"LOOKUP(E352,'Flow Data'!D$6:D$737,'Flow Data'!H$6:H$737)","v":0.94560383167978102},{"$f":"((D352/100)*1000*E352*28.3168)*60*60*24","v":318543611904}]
["2000-10-04",31616,null,360,{"$f":"LOOKUP(A353,'Flow Data'!A$6:A$2928,'Flow Data'!B$6:B$2928)","v":42},{"$f":"LOOKUP(E353,'Flow Data'!D$6:D$737,'Flow Data'!H$6:H$737)","v":0.94560383167978102},{"$f":"((D353/100)*1000*E353*28.3168)*60*60*24","v":369921613824.00006}]
["2000-10-04",31616,null,520,{"$f":"LOOKUP(A354,'Flow Data'!A$6:A$2928,'Flow Data'!B$6:B$2928)","v":42},{"$f":"LOOKUP(E354,'Flow Data'!D$6:D$737,'Flow Data'!H$6:H$737)","v":0.94560383167978102},{"$f":"((D354/100)*1000*E354*28.3168)*60*60*24","v":534331219968}]
["2000-10-04",31616,null,410,{"$f":"LOOKUP(A355,'Flow Data'!A$6:A$2928,'Flow Data'!B$6:B$2928)","v":42},{"$f":"LOOKUP(E355,'Flow Data'!D$6:D$737,'Flow Data'!H$6:H$737)","v":0.94560383167978102},{"$f":"((D355/100)*1000*E355*28.3168)*60*60*24","v":421299615744}]
["2000-10-04",31616,null,490,{"$f":"LOOKUP(A356,'Flow Data'!A$6:A$2928,'Flow Data'!B$6:B$2928)","v":42},{"$f":"LOOKUP(E356,'Flow Data'!D$6:D$737,'Flow Data'!H$6:H$737)","v":0.94560383167978102},{"$f":"((D356/100)*1000*E356*28.3168)*60*60*24","v":503504418816.00012}]
["2000-03-01",31616,null,350,{"$f":"LOOKUP(A357,'Flow Data'!A$6:A$2928,'Flow Data'!B$6:B$2928)","v":41},{"$f":"LOOKUP(E357,'Flow Data'!D$6:D$737,'Flow Data'!H$6:H$737)","v":0.95107765993841942},{"$f":"((D357/100)*1000*E357*28.3168)*60*60*24","v":351083013120.00006}]
["2000-03-01",31616,null,1000,{"$f":"LOOKUP(A358,'Flow Data'!A$6:A$2928,'Flow Data'!B$6:B$2928)","v":41},{"$f":"LOOKUP(E358,'Flow Data'!D$6:D$737,'Flow Data'!H$6:H$737)","v":0.95107765993841942},{"$f":"((D358/100)*1000*E358*28.3168)*60*60*24","v":1003094323200}]
["2000-03-01",31616,null,1200,{"$f":"LOOKUP(A359,'Flow Data'!A$6:A$2928,'Flow Data'!B$6:B$2928)","v":41},{"$f":"LOOKUP(E359,'Flow Data'!D$6:D$737,'Flow Data'!H$6:H$737)","v":0.95107765993841942},{"$f":"((D359/100)*1000*E359*28.3168)*60*60*24","v":1203713187840}]
["2000-03-01",31616,null,5800,{"$f":"LOOKUP(A360,'Flow Data'!A$6:A$2928,'Flow Data'!B$6:B$2928)","v":41},{"$f":"LOOKUP(E360,'Flow Data'!D$6:D$737,'Flow Data'!H$6:H$737)","v":0.95107765993841942},{"$f":"((D360/100)*1000*E360*28.3168)*60*60*24","v":5817947074560.001}]
["2000-03-01",31616,null,7000,{"$f":"LOOKUP(A361,'Flow Data'!A$6:A$2928,'Flow Data'!B$6:B$2928)","v":41},{"$f":"LOOKUP(E361,'Flow Data'!D$6:D$737,'Flow Data'!H$6:H$737)","v":0.95107765993841942},{"$f":"((D361/100)*1000*E361*28.3168)*60*60*24","v":7021660262400}]
["2000-02-16",31616,null,700,{"$f":"LOOKUP(A362,'Flow Data'!A$6:A$2928,'Flow Data'!B$6:B$2928)","v":40},{"$f":"LOOKUP(E362,'Flow Data'!D$6:D$737,'Flow Data'!H$6:H$737)","v":0.95449880260006847},{"$f":"((D362/100)*1000*E362*28.3168)*60*60*24","v":685040025600}]
["2000-02-16",31616,null,240,{"$f":"LOOKUP(A363,'Flow Data'!A$6:A$2928,'Flow Data'!B$6:B$2928)","v":40},{"$f":"LOOKUP(E363,'Flow Data'!D$6:D$737,'Flow Data'!H$6:H$737)","v":0.95449880260006847},{"$f":"((D363/100)*1000*E363*28.3168)*60*60*24","v":234870865920.00006}]
["2000-02-16",31616,null,240,{"$f":"LOOKUP(A364,'Flow Data'!A$6:A$2928,'Flow Data'!B$6:B$2928)","v":40},{"$f":"LOOKUP(E364,'Flow Data'!D$6:D$737,'Flow Data'!H$6:H$737)","v":0.95449880260006847},{"$f":"((D364/100)*1000*E364*28.3168)*60*60*24","v":234870865920.00006}]
["2000-10-02",31616,null,480,{"$f":"LOOKUP(A365,'Flow Data'!A$6:A$2928,'Flow Data'!B$6:B$2928)","v":40},{"$f":"LOOKUP(E365,'Flow Data'!D$6:D$737,'Flow Data'!H$6:H$737)","v":0.95449880260006847},{"$f":"((D365/100)*1000*E365*28.3168)*60*60*24","v":469741731840.00012}]
["2000-10-02",31616,null,470,{"$f":"LOOKUP(A366,'Flow Data'!A$6:A$2928,'Flow Data'!B$6:B$2928)","v":40},{"$f":"LOOKUP(E366,'Flow Data'!D$6:D$737,'Flow Data'!H$6:H$737)","v":0.95449880260006847},{"$f":"((D366/100)*1000*E366*28.3168)*60*60*24","v":459955445760}]
["2000-10-02",31616,null,520,{"$f":"LOOKUP(A367,'Flow Data'!A$6:A$2928,'Flow Data'!B$6:B$2928)","v":40},{"$f":"LOOKUP(E367,'Flow Data'!D$6:D$737,'Flow Data'!H$6:H$737)","v":0.95449880260006847},{"$f":"((D367/100)*1000*E367*28.3168)*60*60*24","v":508886876160}]
["2000-10-02",31616,null,230,{"$f":"LOOKUP(A368,'Flow Data'!A$6:A$2928,'Flow Data'!B$6:B$2928)","v":40},{"$f":"LOOKUP(E368,'Flow Data'!D$6:D$737,'Flow Data'!H$6:H$737)","v":0.95449880260006847},{"$f":"((D368/100)*1000*E368*28.3168)*60*60*24","v":225084579840}]
["2000-10-02",31616,null,560,{"$f":"LOOKUP(A369,'Flow Data'!A$6:A$2928,'Flow Data'!B$6:B$2928)","v":40},{"$f":"LOOKUP(E369,'Flow Data'!D$6:D$737,'Flow Data'!H$6:H$737)","v":0.95449880260006847},{"$f":"((D369/100)*1000*E369*28.3168)*60*60*24","v":548032020480}]
["2000-03-02",31616,null,330,{"$f":"LOOKUP(A370,'Flow Data'!A$6:A$2928,'Flow Data'!B$6:B$2928)","v":38},{"$f":"LOOKUP(E370,'Flow Data'!D$6:D$737,'Flow Data'!H$6:H$737)","v":0.96168320218953129},{"$f":"((D370/100)*1000*E370*28.3168)*60*60*24","v":306800068608.00006}]
["2000-03-06",31616,null,180,{"$f":"LOOKUP(A371,'Flow Data'!A$6:A$2928,'Flow Data'!B$6:B$2928)","v":37},{"$f":"LOOKUP(E371,'Flow Data'!D$6:D$737,'Flow Data'!H$6:H$737)","v":0.96544645911734517},{"$f":"((D371/100)*1000*E371*28.3168)*60*60*24","v":162941663232.00003}]
["2000-03-06",31616,null,280,{"$f":"LOOKUP(A372,'Flow Data'!A$6:A$2928,'Flow Data'!B$6:B$2928)","v":37},{"$f":"LOOKUP(E372,'Flow Data'!D$6:D$737,'Flow Data'!H$6:H$737)","v":0.96544645911734517},{"$f":"((D372/100)*1000*E372*28.3168)*60*60*24","v":253464809472}]
["2000-03-06",31616,null,130,{"$f":"LOOKUP(A373,'Flow Data'!A$6:A$2928,'Flow Data'!B$6:B$2928)","v":37},{"$f":"LOOKUP(E373,'Flow Data'!D$6:D$737,'Flow Data'!H$6:H$737)","v":0.96544645911734517},{"$f":"((D373/100)*1000*E373*28.3168)*60*60*24","v":117680090112.00003}]
["2000-03-06",31616,null,250,{"$f":"LOOKUP(A374,'Flow Data'!A$6:A$2928,'Flow Data'!B$6:B$2928)","v":37},{"$f":"LOOKUP(E374,'Flow Data'!D$6:D$737,'Flow Data'!H$6:H$737)","v":0.96544645911734517},{"$f":"((D374/100)*1000*E374*28.3168)*60*60*24","v":226307865600}]
["2000-03-06",31616,null,200,{"$f":"LOOKUP(A375,'Flow Data'!A$6:A$2928,'Flow Data'!B$6:B$2928)","v":37},{"$f":"LOOKUP(E375,'Flow Data'!D$6:D$737,'Flow Data'!H$6:H$737)","v":0.96544645911734517},{"$f":"((D375/100)*1000*E375*28.3168)*60*60*24","v":181046292480}]
["2000-03-09",31616,null,320,{"$f":"LOOKUP(A376,'Flow Data'!A$6:A$2928,'Flow Data'!B$6:B$2928)","v":37},{"$f":"LOOKUP(E376,'Flow Data'!D$6:D$737,'Flow Data'!H$6:H$737)","v":0.96544645911734517},{"$f":"((D376/100)*1000*E376*28.3168)*60*60*24","v":289674067968.00006}]
["2000-03-08",31616,null,310,{"$f":"LOOKUP(A377,'Flow Data'!A$6:A$2928,'Flow Data'!B$6:B$2928)","v":36},{"$f":"LOOKUP(E377,'Flow Data'!D$6:D$737,'Flow Data'!H$6:H$737)","v":0.96784125898049944},{"$f":"((D377/100)*1000*E377*28.3168)*60*60*24","v":273037381631.99994}]
["2000-03-08",31616,null,280,{"$f":"LOOKUP(A378,'Flow Data'!A$6:A$2928,'Flow Data'!B$6:B$2928)","v":36},{"$f":"LOOKUP(E378,'Flow Data'!D$6:D$737,'Flow Data'!H$6:H$737)","v":0.96784125898049944},{"$f":"((D378/100)*1000*E378*28.3168)*60*60*24","v":246614409216}]
["2000-03-08",31616,null,390,{"$f":"LOOKUP(A379,'Flow Data'!A$6:A$2928,'Flow Data'!B$6:B$2928)","v":36},{"$f":"LOOKUP(E379,'Flow Data'!D$6:D$737,'Flow Data'!H$6:H$737)","v":0.96784125898049944},{"$f":"((D379/100)*1000*E379*28.3168)*60*60*24","v":343498641408.00006}]
["2000-03-08",31616,null,160,{"$f":"LOOKUP(A380,'Flow Data'!A$6:A$2928,'Flow Data'!B$6:B$2928)","v":36},{"$f":"LOOKUP(E380,'Flow Data'!D$6:D$737,'Flow Data'!H$6:H$737)","v":0.96784125898049944},{"$f":"((D380/100)*1000*E380*28.3168)*60*60*24","v":140922519552}]
["2000-03-08",31616,null,360,{"$f":"LOOKUP(A381,'Flow Data'!A$6:A$2928,'Flow Data'!B$6:B$2928)","v":36},{"$f":"LOOKUP(E381,'Flow Data'!D$6:D$737,'Flow Data'!H$6:H$737)","v":0.96784125898049944},{"$f":"((D381/100)*1000*E381*28.3168)*60*60*24","v":317075668992}]
["2000-03-08",31616,null,230,{"$f":"LOOKUP(A382,'Flow Data'!A$6:A$2928,'Flow Data'!B$6:B$2928)","v":36},{"$f":"LOOKUP(E382,'Flow Data'!D$6:D$737,'Flow Data'!H$6:H$737)","v":0.96784125898049944},{"$f":"((D382/100)*1000*E382*28.3168)*60*60*24","v":202576121856}]
["2000-01-19",31616,null,9000,{"$f":"LOOKUP(A383,'Flow Data'!A$6:A$2928,'Flow Data'!B$6:B$2928)","v":33},{"$f":"LOOKUP(E383,'Flow Data'!D$6:D$737,'Flow Data'!H$6:H$737)","v":0.97365720150530277},{"$f":"((D383/100)*1000*E383*28.3168)*60*60*24","v":7266317414400}]
["2000-01-19",31616,null,2100,{"$f":"LOOKUP(A384,'Flow Data'!A$6:A$2928,'Flow Data'!B$6:B$2928)","v":33},{"$f":"LOOKUP(E384,'Flow Data'!D$6:D$737,'Flow Data'!H$6:H$737)","v":0.97365720150530277},{"$f":"((D384/100)*1000*E384*28.3168)*60*60*24","v":1695474063360.0005}]
["2000-01-19",31616,null,180,{"$f":"LOOKUP(A385,'Flow Data'!A$6:A$2928,'Flow Data'!B$6:B$2928)","v":33},{"$f":"LOOKUP(E385,'Flow Data'!D$6:D$737,'Flow Data'!H$6:H$737)","v":0.97365720150530277},{"$f":"((D385/100)*1000*E385*28.3168)*60*60*24","v":145326348287.99997}]
["2000-01-03",31616,null,790,{"$f":"LOOKUP(A386,'Flow Data'!A$6:A$2928,'Flow Data'!B$6:B$2928)","v":32},{"$f":"LOOKUP(E386,'Flow Data'!D$6:D$737,'Flow Data'!H$6:H$737)","v":0.97468354430379744},{"$f":"((D386/100)*1000*E386*28.3168)*60*60*24","v":618493280256}]
["2000-01-03",31616,null,850,{"$f":"LOOKUP(A387,'Flow Data'!A$6:A$2928,'Flow Data'!B$6:B$2928)","v":32},{"$f":"LOOKUP(E387,'Flow Data'!D$6:D$737,'Flow Data'!H$6:H$737)","v":0.97468354430379744},{"$f":"((D387/100)*1000*E387*28.3168)*60*60*24","v":665467453440.00012}]
["2000-01-03",31616,null,340,{"$f":"LOOKUP(A388,'Flow Data'!A$6:A$2928,'Flow Data'!B$6:B$2928)","v":32},{"$f":"LOOKUP(E388,'Flow Data'!D$6:D$737,'Flow Data'!H$6:H$737)","v":0.97468354430379744},{"$f":"((D388/100)*1000*E388*28.3168)*60*60*24","v":266186981375.99994}]
["2000-01-24",31616,null,2500,{"$f":"LOOKUP(A389,'Flow Data'!A$6:A$2928,'Flow Data'!B$6:B$2928)","v":32},{"$f":"LOOKUP(E389,'Flow Data'!D$6:D$737,'Flow Data'!H$6:H$737)","v":0.97468354430379744},{"$f":"((D389/100)*1000*E389*28.3168)*60*60*24","v":1957257216000}]
["2000-01-24",31616,null,870,{"$f":"LOOKUP(A390,'Flow Data'!A$6:A$2928,'Flow Data'!B$6:B$2928)","v":32},{"$f":"LOOKUP(E390,'Flow Data'!D$6:D$737,'Flow Data'!H$6:H$737)","v":0.97468354430379744},{"$f":"((D390/100)*1000*E390*28.3168)*60*60*24","v":681125511168}]
["2000-01-26",31616,null,280,{"$f":"LOOKUP(A391,'Flow Data'!A$6:A$2928,'Flow Data'!B$6:B$2928)","v":30},{"$f":"LOOKUP(E391,'Flow Data'!D$6:D$737,'Flow Data'!H$6:H$737)","v":0.9794731440301061},{"$f":"((D391/100)*1000*E391*28.3168)*60*60*24","v":205512007680}]
["2000-01-26",31616,null,240,{"$f":"LOOKUP(A392,'Flow Data'!A$6:A$2928,'Flow Data'!B$6:B$2928)","v":30},{"$f":"LOOKUP(E392,'Flow Data'!D$6:D$737,'Flow Data'!H$6:H$737)","v":0.9794731440301061},{"$f":"((D392/100)*1000*E392*28.3168)*60*60*24","v":176153149440}]
["2000-01-26",31616,null,68,{"$f":"LOOKUP(A393,'Flow Data'!A$6:A$2928,'Flow Data'!B$6:B$2928)","v":30},{"$f":"LOOKUP(E393,'Flow Data'!D$6:D$737,'Flow Data'!H$6:H$737)","v":0.9794731440301061},{"$f":"((D393/100)*1000*E393*28.3168)*60*60*24","v":49910059007.999992}]
["2000-01-05",31616,null,650,{"$f":"LOOKUP(A394,'Flow Data'!A$6:A$2928,'Flow Data'!B$6:B$2928)","v":29},{"$f":"LOOKUP(E394,'Flow Data'!D$6:D$737,'Flow Data'!H$6:H$737)","v":0.9808416010947657},{"$f":"((D394/100)*1000*E394*28.3168)*60*60*24","v":461178731520}]
["2000-01-05",31616,null,180,{"$f":"LOOKUP(A395,'Flow Data'!A$6:A$2928,'Flow Data'!B$6:B$2928)","v":29},{"$f":"LOOKUP(E395,'Flow Data'!D$6:D$737,'Flow Data'!H$6:H$737)","v":0.9808416010947657},{"$f":"((D395/100)*1000*E395*28.3168)*60*60*24","v":127711033344}]
["2000-01-05",31616,null,120,{"$f":"LOOKUP(A396,'Flow Data'!A$6:A$2928,'Flow Data'!B$6:B$2928)","v":29},{"$f":"LOOKUP(E396,'Flow Data'!D$6:D$737,'Flow Data'!H$6:H$737)","v":0.9808416010947657},{"$f":"((D396/100)*1000*E396*28.3168)*60*60*24","v":85140688896}]
["2000-04-11",31616,null,210,{"$f":"LOOKUP(A397,'Flow Data'!A$6:A$2928,'Flow Data'!B$6:B$2928)","v":22},{"$f":"LOOKUP(E397,'Flow Data'!D$6:D$737,'Flow Data'!H$6:H$737)","v":0.98528908655490932},{"$f":"((D397/100)*1000*E397*28.3168)*60*60*24","v":113031604224}]
["2000-04-11",31616,null,740,{"$f":"LOOKUP(A398,'Flow Data'!A$6:A$2928,'Flow Data'!B$6:B$2928)","v":22},{"$f":"LOOKUP(E398,'Flow Data'!D$6:D$737,'Flow Data'!H$6:H$737)","v":0.98528908655490932},{"$f":"((D398/100)*1000*E398*28.3168)*60*60*24","v":398301843455.99994}]
["2000-04-11",31616,null,230,{"$f":"LOOKUP(A399,'Flow Data'!A$6:A$2928,'Flow Data'!B$6:B$2928)","v":22},{"$f":"LOOKUP(E399,'Flow Data'!D$6:D$737,'Flow Data'!H$6:H$737)","v":0.98528908655490932},{"$f":"((D399/100)*1000*E399*28.3168)*60*60*24","v":123796518912.00003}]
["2000-04-11",31616,null,540,{"$f":"LOOKUP(A400,'Flow Data'!A$6:A$2928,'Flow Data'!B$6:B$2928)","v":22},{"$f":"LOOKUP(E400,'Flow Data'!D$6:D$737,'Flow Data'!H$6:H$737)","v":0.98528908655490932},{"$f":"((D400/100)*1000*E400*28.3168)*60*60*24","v":290652696575.99994}]
["2000-04-11",31616,null,240,{"$f":"LOOKUP(A401,'Flow Data'!A$6:A$2928,'Flow Data'!B$6:B$2928)","v":22},{"$f":"LOOKUP(E401,'Flow Data'!D$6:D$737,'Flow Data'!H$6:H$737)","v":0.98528908655490932},{"$f":"((D401/100)*1000*E401*28.3168)*60*60*24","v":129178976256}]
["2000-04-11",31616,null,340,{"$f":"LOOKUP(A402,'Flow Data'!A$6:A$2928,'Flow Data'!B$6:B$2928)","v":22},{"$f":"LOOKUP(E402,'Flow Data'!D$6:D$737,'Flow Data'!H$6:H$737)","v":0.98528908655490932},{"$f":"((D402/100)*1000*E402*28.3168)*60*60*24","v":183003549696}]
["2000-04-10",31616,null,63,{"$f":"LOOKUP(A403,'Flow Data'!A$6:A$2928,'Flow Data'!B$6:B$2928)","v":19},{"$f":"LOOKUP(E403,'Flow Data'!D$6:D$737,'Flow Data'!H$6:H$737)","v":0.98939445774888812},{"$f":"((D403/100)*1000*E403*28.3168)*60*60*24","v":29285461094.400002}]
["2000-04-10",31616,null,790,{"$f":"LOOKUP(A404,'Flow Data'!A$6:A$2928,'Flow Data'!B$6:B$2928)","v":19},{"$f":"LOOKUP(E404,'Flow Data'!D$6:D$737,'Flow Data'!H$6:H$737)","v":0.98939445774888812},{"$f":"((D404/100)*1000*E404*28.3168)*60*60*24","v":367230385151.99994}]
["2000-04-10",31616,null,440,{"$f":"LOOKUP(A405,'Flow Data'!A$6:A$2928,'Flow Data'!B$6:B$2928)","v":19},{"$f":"LOOKUP(E405,'Flow Data'!D$6:D$737,'Flow Data'!H$6:H$737)","v":0.98939445774888812},{"$f":"((D405/100)*1000*E405*28.3168)*60*60*24","v":204533379072.00003}]
["2000-04-10",31616,null,180,{"$f":"LOOKUP(A406,'Flow Data'!A$6:A$2928,'Flow Data'!B$6:B$2928)","v":19},{"$f":"LOOKUP(E406,'Flow Data'!D$6:D$737,'Flow Data'!H$6:H$737)","v":0.98939445774888812},{"$f":"((D406/100)*1000*E406*28.3168)*60*60*24","v":83672745984}]
["2000-04-10",31616,null,310,{"$f":"LOOKUP(A407,'Flow Data'!A$6:A$2928,'Flow Data'!B$6:B$2928)","v":19},{"$f":"LOOKUP(E407,'Flow Data'!D$6:D$737,'Flow Data'!H$6:H$737)","v":0.98939445774888812},{"$f":"((D407/100)*1000*E407*28.3168)*60*60*24","v":144103062528}]

{"sheet":"E. Coli","index":7,"n_rows":902,"n_cols":7,"rows_kept":902,"cut":false,"hidden":false,"merged":[[1,0,1,3],[1,5,1,6],[1,4,2,4]]}
[]
["TRACS",null,null,null,"USGS Flow (cfs)","Calculated Values"]
["Date","Storet Code","Qualifier","Value (CFU/100mL)",null,"Probability of Flow","E. Coli Load (CFU/day)"]
["2002-11-19",31699,null,52,{"$f":"LOOKUP(A4,'Flow Data'!A$6:A$2928,'Flow Data'!B$6:B$2928)","v":2010},{"$f":"LOOKUP(E4,'Flow Data'!D$6:D$737,'Flow Data'!H$6:H$737)","v":1.5395141977422311E-2},{"$f":"((D4/100)*1000*E4*28.3168)*60*60*24","v":2557156552704}]
["2002-11-19",31699,null,20,{"$f":"LOOKUP(A5,'Flow Data'!A$6:A$2928,'Flow Data'!B$6:B$2928)","v":2010},{"$f":"LOOKUP(E5,'Flow Data'!D$6:D$737,'Flow Data'!H$6:H$737)","v":1.5395141977422311E-2},{"$f":"((D5/100)*1000*E5*28.3168)*60*60*24","v":983521751040}]
["2002-11-19",31699,"<",10,{"$f":"LOOKUP(A6,'Flow Data'!A$6:A$2928,'Flow Data'!B$6:B$2928)","v":2010},{"$f":"LOOKUP(E6,'Flow Data'!D$6:D$737,'Flow Data'!H$6:H$737)","v":1.5395141977422311E-2},{"$f":"((D6/100)*1000*E6*28.3168)*60*60*24","v":491760875520}]
["2002-11-19",31699,"<",10,{"$f":"LOOKUP(A7,'Flow Data'!A$6:A$2928,'Flow Data'!B$6:B$2928)","v":2010},{"$f":"LOOKUP(E7,'Flow Data'!D$6:D$737,'Flow Data'!H$6:H$737)","v":1.5395141977422311E-2},{"$f":"((D7/100)*1000*E7*28.3168)*60*60*24","v":491760875520}]
["2002-11-12",31699,null,160,{"$f":"LOOKUP(A8,'Flow Data'!A$6:A$2928,'Flow Data'!B$6:B$2928)","v":1980},{"$f":"LOOKUP(E8,'Flow Data'!D$6:D$737,'Flow Data'!H$6:H$737)","v":1.984262743756593E-2},{"$f":"((D8/100)*1000*E8*28.3168)*60*60*24","v":7750738575360}]
["2002-11-12",31699,null,52,{"$f":"LOOKUP(A9,'Flow Data'!A$6:A$2928,'Flow Data'!B$6:B$2928)","v":1980},{"$f":"LOOKUP(E9,'Flow Data'!D$6:D$737,'Flow Data'!H$6:H$737)","v":1.984262743756593E-2},{"$f":"((D9/100)*1000*E9*28.3168)*60*60*24","v":2518990036992.0005}]
["2002-11-12",31699,null,240,{"$f":"LOOKUP(A10,'Flow Data'!A$6:A$2928,'Flow Data'!B$6:B$2928)","v":1980},{"$f":"LOOKUP(E10,'Flow Data'!D$6:D$737,'Flow Data'!H$6:H$737)","v":1.984262743756593E-2},{"$f":"((D10/100)*1000*E10*28.3168)*60*60*24","v":11626107863040}]
["2002-11-12",31699,null,140,{"$f":"LOOKUP(A11,'Flow Data'!A$6:A$2928,'Flow Data'!B$6:B$2928)","v":1980},{"$f":"LOOKUP(E11,'Flow Data'!D$6:D$737,'Flow Data'!H$6:H$737)","v":1.984262743756593E-2},{"$f":"((D11/100)*1000*E11*28.3168)*60*60*24","v":6781896253440.002}]
["2002-11-12",31699,null,410,{"$f":"LOOKUP(A12,'Flow Data'!A$6:A$2928,'Flow Data'!B$6:B$2928)","v":1980},{"$f":"LOOKUP(E12,'Flow Data'!D$6:D$737,'Flow Data'!H$6:H$737)","v":1.984262743756593E-2},{"$f":"((D12/100)*1000*E12*28.3168)*60*60*24","v":19861267599360}]
["2004-05-06",31699,null,98,{"$f":"LOOKUP(A13,'Flow Data'!A$6:A$2928,'Flow Data'!B$6:B$2928)","v":1860},{"$f":"LOOKUP(E13,'Flow Data'!D$6:D$737,'Flow Data'!H$6:H$737)","v":3.557988368115117E-2},{"$f":"((D13/100)*1000*E13*28.3168)*60*60*24","v":4459610566656}]
["2004-05-06",31699,null,510,{"$f":"LOOKUP(A14,'Flow Data'!A$6:A$2928,'Flow Data'!B$6:B$2928)","v":1860},{"$f":"LOOKUP(E14,'Flow Data'!D$6:D$737,'Flow Data'!H$6:H$737)","v":3.557988368115117E-2},{"$f":"((D14/100)*1000*E14*28.3168)*60*60*24","v":23208177438720}]
["2004-05-06",31699,null,110,{"$f":"LOOKUP(A15,'Flow Data'!A$6:A$2928,'Flow Data'!B$6:B$2928)","v":1860},{"$f":"LOOKUP(E15,'Flow Data'!D$6:D$737,'Flow Data'!H$6:H$737)","v":3.557988368115117E-2},{"$f":"((D15/100)*1000*E15*28.3168)*60*60*24","v":5005685329920.001}]
["2004-05-06",31699,null,100,{"$f":"LOOKUP(A16,'Flow Data'!A$6:A$2928,'Flow Data'!B$6:B$2928)","v":1860},{"$f":"LOOKUP(E16,'Flow Data'!D$6:D$737,'Flow Data'!H$6:H$737)","v":3.557988368115117E-2},{"$f":"((D16/100)*1000*E16*28.3168)*60*60*24","v":4550623027200}]
["2004-07-13",31699,null,780,{"$f":"LOOKUP(A17,'Flow Data'!A$6:A$2928,'Flow Data'!B$6:B$2928)","v":1850},{"$f":"LOOKUP(E17,'Flow Data'!D$6:D$737,'Flow Data'!H$6:H$737)","v":3.7290455011975698E-2},{"$f":"((D17/100)*1000*E17*28.3168)*60*60*24","v":35304027033600}]
["2004-07-13",31699,null,41,{"$f":"LOOKUP(A18,'Flow Data'!A$6:A$2928,'Flow Data'!B$6:B$2928)","v":1850},{"$f":"LOOKUP(E18,'Flow Data'!D$6:D$737,'Flow Data'!H$6:H$737)","v":3.7290455011975698E-2},{"$f":"((D18/100)*1000*E18*28.3168)*60*60*24","v":1855724497920}]
["2004-07-13",31699,null,63,{"$f":"LOOKUP(A19,'Flow Data'!A$6:A$2928,'Flow Data'!B$6:B$2928)","v":1850},{"$f":"LOOKUP(E19,'Flow Data'!D$6:D$737,'Flow Data'!H$6:H$737)","v":3.7290455011975698E-2},{"$f":"((D19/100)*1000*E19*28.3168)*60*60*24","v":2851479106560.0005}]
["2004-07-13",31699,null,20,{"$f":"LOOKUP(A20,'Flow Data'!A$6:A$2928,'Flow Data'!B$6:B$2928)","v":1850},{"$f":"LOOKUP(E20,'Flow Data'!D$6:D$737,'Flow Data'!H$6:H$737)","v":3.7290455011975698E-2},{"$f":"((D20/100)*1000*E20*28.3168)*60*60*24","v":905231462400}]
["2001-06-13",31699,null,1246,{"$f":"LOOKUP(A21,'Flow Data'!A$6:A$2928,'Flow Data'!B$6:B$2928)","v":1630},{"$f":"LOOKUP(E21,'Flow Data'!D$6:D$737,'Flow Data'!H$6:H$737)","v":7.1843995894630197E-2},{"$f":"((D21/100)*1000*E21*28.3168)*60*60*24","v":49689378256896}]
["2003-10-13",31699,null,490,{"$f":"LOOKUP(A22,'Flow Data'!A$6:A$2928,'Flow Data'!B$6:B$2928)","v":1500},{"$f":"LOOKUP(E22,'Flow Data'!D$6:D$737,'Flow Data'!H$6:H$737)","v":8.9976052001369822E-2},{"$f":"((D22/100)*1000*E22*28.3168)*60*60*24","v":17982300672000}]
["2003-10-13",31699,null,620,{"$f":"LOOKUP(A23,'Flow Data'!A$6:A$2928,'Flow Data'!B$6:B$2928)","v":1500},{"$f":"LOOKUP(E23,'Flow Data'!D$6:D$737,'Flow Data'!H$6:H$737)","v":8.9976052001369822E-2},{"$f":"((D23/100)*1000*E23*28.3168)*60*60*24","v":22753115136000}]
["2003-10-13",31699,null,580,{"$f":"LOOKUP(A24,'Flow Data'!A$6:A$2928,'Flow Data'!B$6:B$2928)","v":1500},{"$f":"LOOKUP(E24,'Flow Data'!D$6:D$737,'Flow Data'!H$6:H$737)","v":8.9976052001369822E-2},{"$f":"((D24/100)*1000*E24*28.3168)*60*60*24","v":21285172224000}]
["2003-10-13",31699,null,720,{"$f":"LOOKUP(A25,'Flow Data'!A$6:A$2928,'Flow Data'!B$6:B$2928)","v":1500},{"$f":"LOOKUP(E25,'Flow Data'!D$6:D$737,'Flow Data'!H$6:H$737)","v":8.9976052001369822E-2},{"$f":"((D25/100)*1000*E25*28.3168)*60*60*24","v":26422972416000}]
["2003-10-13",31699,null,670,{"$f":"LOOKUP(A26,'Flow Data'!A$6:A$2928,'Flow Data'!B$6:B$2928)","v":1500},{"$f":"LOOKUP(E26,'Flow Data'!D$6:D$737,'Flow Data'!H$6:H$737)","v":8.9976052001369822E-2},{"$f":"((D26/100)*1000*E26*28.3168)*60*60*24","v":24588043776000}]
["2003-10-14",31699,null,310,{"$f":"LOOKUP(A27,'Flow Data'!A$6:A$2928,'Flow Data'!B$6:B$2928)","v":1450},{"$f":"LOOKUP(E27,'Flow Data'!D$6:D$737,'Flow Data'!H$6:H$737)","v":9.5107765993843296E-2},{"$f":"((D27/100)*1000*E27*28.3168)*60*60*24","v":10997338982400}]
["2003-10-14",31699,null,320,{"$f":"LOOKUP(A28,'Flow Data'!A$6:A$2928,'Flow Data'!B$6:B$2928)","v":1450},{"$f":"LOOKUP(E28,'Flow Data'!D$6:D$737,'Flow Data'!H$6:H$737)","v":9.5107765993843296E-2},{"$f":"((D28/100)*1000*E28*28.3168)*60*60*24","v":11352091852800}]
["2003-10-14",31699,null,1100,{"$f":"LOOKUP(A29,'Flow Data'!A$6:A$2928,'Flow Data'!B$6:B$2928)","v":1450},{"$f":"LOOKUP(E29,'Flow Data'!D$6:D$737,'Flow Data'!H$6:H$737)","v":9.5107765993843296E-2},{"$f":"((D29/100)*1000*E29*28.3168)*60*60*24","v":39022815744000}]
["2003-10-14",31699,null,210,{"$f":"LOOKUP(A30,'Flow Data'!A$6:A$2928,'Flow Data'!B$6:B$2928)","v":1450},{"$f":"LOOKUP(E30,'Flow Data'!D$6:D$737,'Flow Data'!H$6:H$737)","v":9.5107765993843296E-2},{"$f":"((D30/100)*1000*E30*28.3168)*60*60*24","v":7449810278400}]
["2004-04-13",31699,null,1800,{"$f":"LOOKUP(A31,'Flow Data'!A$6:A$2928,'Flow Data'!B$6:B$2928)","v":1360},{"$f":"LOOKUP(E31,'Flow Data'!D$6:D$737,'Flow Data'!H$6:H$737)","v":0.10195005131714119},{"$f":"((D31/100)*1000*E31*28.3168)*60*60*24","v":59892070809600}]
["2004-04-13",31699,null,4300,{"$f":"LOOKUP(A32,'Flow Data'!A$6:A$2928,'Flow Data'!B$6:B$2928)","v":1360},{"$f":"LOOKUP(E32,'Flow Data'!D$6:D$737,'Flow Data'!H$6:H$737)","v":0.10195005131714119},{"$f":"((D32/100)*1000*E32*28.3168)*60*60*24","v":143075502489600}]
["2004-04-13",31699,null,2400,{"$f":"LOOKUP(A33,'Flow Data'!A$6:A$2928,'Flow Data'!B$6:B$2928)","v":1360},{"$f":"LOOKUP(E33,'Flow Data'!D$6:D$737,'Flow Data'!H$6:H$737)","v":0.10195005131714119},{"$f":"((D33/100)*1000*E33*28.3168)*60*60*24","v":79856094412800}]
["2004-04-13",31699,null,3900,{"$f":"LOOKUP(A34,'Flow Data'!A$6:A$2928,'Flow Data'!B$6:B$2928)","v":1360},{"$f":"LOOKUP(E34,'Flow Data'!D$6:D$737,'Flow Data'!H$6:H$737)","v":0.10195005131714119},{"$f":"((D34/100)*1000*E34*28.3168)*60*60*24","v":129766153420800}]
["2004-05-04",31699,null,1200,{"$f":"LOOKUP(A35,'Flow Data'!A$6:A$2928,'Flow Data'!B$6:B$2928)","v":1260},{"$f":"LOOKUP(E35,'Flow Data'!D$6:D$737,'Flow Data'!H$6:H$737)","v":0.11084502223742843},{"$f":"((D35/100)*1000*E35*28.3168)*60*60*24","v":36992161382400}]
["2004-05-04",31699,null,2100,{"$f":"LOOKUP(A36,'Flow Data'!A$6:A$2928,'Flow Data'!B$6:B$2928)","v":1260},{"$f":"LOOKUP(E36,'Flow Data'!D$6:D$737,'Flow Data'!H$6:H$737)","v":0.11084502223742843},{"$f":"((D36/100)*1000*E36*28.3168)*60*60*24","v":64736282419200}]
["2004-05-04",31699,null,1800,{"$f":"LOOKUP(A37,'Flow Data'!A$6:A$2928,'Flow Data'!B$6:B$2928)","v":1260},{"$f":"LOOKUP(E37,'Flow Data'!D$6:D$737,'Flow Data'!H$6:H$737)","v":0.11084502223742843},{"$f":"((D37/100)*1000*E37*28.3168)*60*60*24","v":55488242073600}]
["2004-05-04",31699,null,1600,{"$f":"LOOKUP(A38,'Flow Data'!A$6:A$2928,'Flow Data'!B$6:B$2928)","v":1260},{"$f":"LOOKUP(E38,'Flow Data'!D$6:D$737,'Flow Data'!H$6:H$737)","v":0.11084502223742843},{"$f":"((D38/100)*1000*E38*28.3168)*60*60*24","v":49322881843200}]
["2004-05-04",31699,null,1600,{"$f":"LOOKUP(A39,'Flow Data'!A$6:A$2928,'Flow Data'!B$6:B$2928)","v":1260},{"$f":"LOOKUP(E39,'Flow Data'!D$6:D$737,'Flow Data'!H$6:H$737)","v":0.11084502223742843},{"$f":"((D39/100)*1000*E39*28.3168)*60*60*24","v":49322881843200}]
["2001-06-18",31699,null,384,{"$f":"LOOKUP(A40,'Flow Data'!A$6:A$2928,'Flow Data'!B$6:B$2928)","v":1170},{"$f":"LOOKUP(E40,'Flow Data'!D$6:D$737,'Flow Data'!H$6:H$737)","v":0.12350325008552976},{"$f":"((D40/100)*1000*E40*28.3168)*60*60*24","v":10991956525056.002}]
["2001-12-04",31699,null,3900,{"$f":"LOOKUP(A41,'Flow Data'!A$6:A$2928,'Flow Data'!B$6:B$2928)","v":1160},{"$f":"LOOKUP(E41,'Flow Data'!D$6:D$737,'Flow Data'!H$6:H$737)","v":0.1255559356825191},{"$f":"((D41/100)*1000*E41*28.3168)*60*60*24","v":110682895564800}]
["2001-12-04",31699,null,4500,{"$f":"LOOKUP(A42,'Flow Data'!A$6:A$2928,'Flow Data'!B$6:B$2928)","v":1160},{"$f":"LOOKUP(E42,'Flow Data'!D$6:D$737,'Flow Data'!H$6:H$737)","v":0.1255559356825191},{"$f":"((D42/100)*1000*E42*28.3168)*60*60*24","v":127711033344000}]
["2001-12-04",31699,null,3300,{"$f":"LOOKUP(A43,'Flow Data'!A$6:A$2928,'Flow Data'!B$6:B$2928)","v":1160},{"$f":"LOOKUP(E43,'Flow Data'!D$6:D$737,'Flow Data'!H$6:H$737)","v":0.1255559356825191},{"$f":"((D43/100)*1000*E43*28.3168)*60*60*24","v":93654757785600}]
["2001-12-04",31699,null,3300,{"$f":"LOOKUP(A44,'Flow Data'!A$6:A$2928,'Flow Data'!B$6:B$2928)","v":1160},{"$f":"LOOKUP(E44,'Flow Data'!D$6:D$737,'Flow Data'!H$6:H$737)","v":0.1255559356825191},{"$f":"((D44/100)*1000*E44*28.3168)*60*60*24","v":93654757785600}]
["2001-12-04",31699,null,4100,{"$f":"LOOKUP(A45,'Flow Data'!A$6:A$2928,'Flow Data'!B$6:B$2928)","v":1160},{"$f":"LOOKUP(E45,'Flow Data'!D$6:D$737,'Flow Data'!H$6:H$737)","v":0.1255559356825191},{"$f":"((D45/100)*1000*E45*28.3168)*60*60*24","v":116358941491200}]
["2001-12-04",31699,null,5700,{"$f":"LOOKUP(A46,'Flow Data'!A$6:A$2928,'Flow Data'!B$6:B$2928)","v":1160},{"$f":"LOOKUP(E46,'Flow Data'!D$6:D$737,'Flow Data'!H$6:H$737)","v":0.1255559356825191},{"$f":"((D46/100)*1000*E46*28.3168)*60*60*24","v":161767308902400}]
["2001-12-19",31699,null,2800,{"$f":"LOOKUP(A47,'Flow Data'!A$6:A$2928,'Flow Data'!B$6:B$2928)","v":1070},{"$f":"LOOKUP(E47,'Flow Data'!D$6:D$737,'Flow Data'!H$6:H$737)","v":0.1378720492644554},{"$f":"((D47/100)*1000*E47*28.3168)*60*60*24","v":73299282739200}]
["2001-12-19",31699,null,5200,{"$f":"LOOKUP(A48,'Flow Data'!A$6:A$2928,'Flow Data'!B$6:B$2928)","v":1070},{"$f":"LOOKUP(E48,'Flow Data'!D$6:D$737,'Flow Data'!H$6:H$737)","v":0.1378720492644554},{"$f":"((D48/100)*1000*E48*28.3168)*60*60*24","v":136127239372800}]
["2001-12-19",31699,null,930,{"$f":"LOOKUP(A49,'Flow Data'!A$6:A$2928,'Flow Data'!B$6:B$2928)","v":1070},{"$f":"LOOKUP(E49,'Flow Data'!D$6:D$737,'Flow Data'!H$6:H$737)","v":0.1378720492644554},{"$f":"((D49/100)*1000*E49*28.3168)*60*60*24","v":24345833195520}]
["2001-12-19",31699,null,810,{"$f":"LOOKUP(A50,'Flow Data'!A$6:A$2928,'Flow Data'!B$6:B$2928)","v":1070},{"$f":"LOOKUP(E50,'Flow Data'!D$6:D$737,'Flow Data'!H$6:H$737)","v":0.1378720492644554},{"$f":"((D50/100)*1000*E50*28.3168)*60*60*24","v":21204435363840}]
["2001-12-19",31699,null,190,{"$f":"LOOKUP(A51,'Flow Data'!A$6:A$2928,'Flow Data'!B$6:B$2928)","v":1070},{"$f":"LOOKUP(E51,'Flow Data'!D$6:D$737,'Flow Data'!H$6:H$737)","v":0.1378720492644554},{"$f":"((D51/100)*1000*E51*28.3168)*60*60*24","v":4973879900160}]
["2002-12-17",31699,null,790,{"$f":"LOOKUP(A52,'Flow Data'!A$6:A$2928,'Flow Data'!B$6:B$2928)","v":1000},{"$f":"LOOKUP(E52,'Flow Data'!D$6:D$737,'Flow Data'!H$6:H$737)","v":0.14505644885391822},{"$f":"((D52/100)*1000*E52*28.3168)*60*60*24","v":19327915008000}]
["2002-12-17",31699,null,840,{"$f":"LOOKUP(A53,'Flow Data'!A$6:A$2928,'Flow Data'!B$6:B$2928)","v":1000},{"$f":"LOOKUP(E53,'Flow Data'!D$6:D$737,'Flow Data'!H$6:H$737)","v":0.14505644885391822},{"$f":"((D53/100)*1000*E53*28.3168)*60*60*24","v":20551200768000}]
["2002-12-17",31699,null,990,{"$f":"LOOKUP(A54,'Flow Data'!A$6:A$2928,'Flow Data'!B$6:B$2928)","v":1000},{"$f":"LOOKUP(E54,'Flow Data'!D$6:D$737,'Flow Data'!H$6:H$737)","v":0.14505644885391822},{"$f":"((D54/100)*1000*E54*28.3168)*60*60*24","v":24221058048000}]
["2002-12-17",31699,null,1000,{"$f":"LOOKUP(A55,'Flow Data'!A$6:A$2928,'Flow Data'!B$6:B$2928)","v":1000},{"$f":"LOOKUP(E55,'Flow Data'!D$6:D$737,'Flow Data'!H$6:H$737)","v":0.14505644885391822},{"$f":"((D55/100)*1000*E55*28.3168)*60*60*24","v":24465715200000}]
["2002-12-17",31699,null,1100,{"$f":"LOOKUP(A56,'Flow Data'!A$6:A$2928,'Flow Data'!B$6:B$2928)","v":1000},{"$f":"LOOKUP(E56,'Flow Data'!D$6:D$737,'Flow Data'!H$6:H$737)","v":0.14505644885391822},{"$f":"((D56/100)*1000*E56*28.3168)*60*60*24","v":26912286720000}]
["2000-11-14",31699,null,17329,{"$f":"LOOKUP(A57,'Flow Data'!A$6:A$2928,'Flow Data'!B$6:B$2928)","v":964},{"$f":"LOOKUP(E57,'Flow Data'!D$6:D$737,'Flow Data'!H$6:H$737)","v":0.1515566199110514},{"$f":"((D57/100)*1000*E57*28.3168)*60*60*24","v":408703589067571.19}]
["2000-11-14",31699,null,24192,{"$f":"LOOKUP(A58,'Flow Data'!A$6:A$2928,'Flow Data'!B$6:B$2928)","v":964},{"$f":"LOOKUP(E58,'Flow Data'!D$6:D$737,'Flow Data'!H$6:H$737)","v":0.1515566199110514},{"$f":"((D58/100)*1000*E58*28.3168)*60*60*24","v":570567097162137.62}]
["2004-02-02",31699,null,4000,{"$f":"LOOKUP(A59,'Flow Data'!A$6:A$2928,'Flow Data'!B$6:B$2928)","v":922},{"$f":"LOOKUP(E59,'Flow Data'!D$6:D$737,'Flow Data'!H$6:H$737)","v":0.15942524803284441},{"$f":"((D59/100)*1000*E59*28.3168)*60*60*24","v":90229557657600}]
["2004-02-02",31699,null,6200,{"$f":"LOOKUP(A60,'Flow Data'!A$6:A$2928,'Flow Data'!B$6:B$2928)","v":922},{"$f":"LOOKUP(E60,'Flow Data'!D$6:D$737,'Flow Data'!H$6:H$737)","v":0.15942524803284441},{"$f":"((D60/100)*1000*E60*28.3168)*60*60*24","v":139855814369280}]
["2004-02-02",31699,null,10000,{"$f":"LOOKUP(A61,'Flow Data'!A$6:A$2928,'Flow Data'!B$6:B$2928)","v":922},{"$f":"LOOKUP(E61,'Flow Data'!D$6:D$737,'Flow Data'!H$6:H$737)","v":0.15942524803284441},{"$f":"((D61/100)*1000*E61*28.3168)*60*60*24","v":225573894144000}]
["2004-02-02",31699,null,9600,{"$f":"LOOKUP(A62,'Flow Data'!A$6:A$2928,'Flow Data'!B$6:B$2928)","v":922},{"$f":"LOOKUP(E62,'Flow Data'!D$6:D$737,'Flow Data'!H$6:H$737)","v":0.15942524803284441},{"$f":"((D62/100)*1000*E62*28.3168)*60*60*24","v":216550938378240}]
["2004-02-02",31699,null,5900,{"$f":"LOOKUP(A63,'Flow Data'!A$6:A$2928,'Flow Data'!B$6:B$2928)","v":922},{"$f":"LOOKUP(E63,'Flow Data'!D$6:D$737,'Flow Data'!H$6:H$737)","v":0.15942524803284441},{"$f":"((D63/100)*1000*E63*28.3168)*60*60*24","v":133088597544960}]
["2002-09-11",31699,null,400,{"$f":"LOOKUP(A64,'Flow Data'!A$6:A$2928,'Flow Data'!B$6:B$2928)","v":875},{"$f":"LOOKUP(E64,'Flow Data'!D$6:D$737,'Flow Data'!H$6:H$737)","v":0.16763599042080202},{"$f":"((D64/100)*1000*E64*28.3168)*60*60*24","v":8563000320000}]
["2002-09-11",31699,null,640,{"$f":"LOOKUP(A65,'Flow Data'!A$6:A$2928,'Flow Data'!B$6:B$2928)","v":875},{"$f":"LOOKUP(E65,'Flow Data'!D$6:D$737,'Flow Data'!H$6:H$737)","v":0.16763599042080202},{"$f":"((D65/100)*1000*E65*28.3168)*60*60*24","v":13700800512000}]
["2002-09-11",31699,null,440,{"$f":"LOOKUP(A66,'Flow Data'!A$6:A$2928,'Flow Data'!B$6:B$2928)","v":875},{"$f":"LOOKUP(E66,'Flow Data'!D$6:D$737,'Flow Data'!H$6:H$737)","v":0.16763599042080202},{"$f":"((D66/100)*1000*E66*28.3168)*60*60*24","v":9419300352000}]
["2002-09-11",31699,null,130,{"$f":"LOOKUP(A67,'Flow Data'!A$6:A$2928,'Flow Data'!B$6:B$2928)","v":875},{"$f":"LOOKUP(E67,'Flow Data'!D$6:D$737,'Flow Data'!H$6:H$737)","v":0.16763599042080202},{"$f":"((D67/100)*1000*E67*28.3168)*60*60*24","v":2782975104000}]
["2002-08-15",31699,null,46000,{"$f":"LOOKUP(A68,'Flow Data'!A$6:A$2928,'Flow Data'!B$6:B$2928)","v":872},{"$f":"LOOKUP(E68,'Flow Data'!D$6:D$737,'Flow Data'!H$6:H$737)","v":0.16797810468696694},{"$f":"((D68/100)*1000*E68*28.3168)*60*60*24","v":981368768102400}]
["2002-08-15",31699,null,39000,{"$f":"LOOKUP(A69,'Flow Data'!A$6:A$2928,'Flow Data'!B$6:B$2928)","v":872},{"$f":"LOOKUP(E69,'Flow Data'!D$6:D$737,'Flow Data'!H$6:H$737)","v":0.16797810468696694},{"$f":"((D69/100)*1000*E69*28.3168)*60*60*24","v":832030042521600}]
["2002-08-15",31699,null,44000,{"$f":"LOOKUP(A70,'Flow Data'!A$6:A$2928,'Flow Data'!B$6:B$2928)","v":872},{"$f":"LOOKUP(E70,'Flow Data'!D$6:D$737,'Flow Data'!H$6:H$737)","v":0.16797810468696694},{"$f":"((D70/100)*1000*E70*28.3168)*60*60*24","v":938700560793600}]
["2002-08-15",31699,null,24000,{"$f":"LOOKUP(A71,'Flow Data'!A$6:A$2928,'Flow Data'!B$6:B$2928)","v":872},{"$f":"LOOKUP(E71,'Flow Data'!D$6:D$737,'Flow Data'!H$6:H$737)","v":0.16797810468696694},{"$f":"((D71/100)*1000*E71*28.3168)*60*60*24","v":512018487705600}]
["2002-12-10",31699,null,4000,{"$f":"LOOKUP(A72,'Flow Data'!A$6:A$2928,'Flow Data'!B$6:B$2928)","v":850},{"$f":"LOOKUP(E72,'Flow Data'!D$6:D$737,'Flow Data'!H$6:H$737)","v":0.17037290455012122},{"$f":"((D72/100)*1000*E72*28.3168)*60*60*24","v":83183431680000}]
["2002-12-10",31699,null,1200,{"$f":"LOOKUP(A73,'Flow Data'!A$6:A$2928,'Flow Data'!B$6:B$2928)","v":850},{"$f":"LOOKUP(E73,'Flow Data'!D$6:D$737,'Flow Data'!H$6:H$737)","v":0.17037290455012122},{"$f":"((D73/100)*1000*E73*28.3168)*60*60*24","v":24955029504000}]
["2002-12-10",31699,null,1000,{"$f":"LOOKUP(A74,'Flow Data'!A$6:A$2928,'Flow Data'!B$6:B$2928)","v":850},{"$f":"LOOKUP(E74,'Flow Data'!D$6:D$737,'Flow Data'!H$6:H$737)","v":0.17037290455012122},{"$f":"((D74/100)*1000*E74*28.3168)*60*60*24","v":20795857920000}]
["2002-12-10",31699,null,910,{"$f":"LOOKUP(A75,'Flow Data'!A$6:A$2928,'Flow Data'!B$6:B$2928)","v":850},{"$f":"LOOKUP(E75,'Flow Data'!D$6:D$737,'Flow Data'!H$6:H$737)","v":0.17037290455012122},{"$f":"((D75/100)*1000*E75*28.3168)*60*60*24","v":18924230707200}]
["2004-02-12",31699,null,5800,{"$f":"LOOKUP(A76,'Flow Data'!A$6:A$2928,'Flow Data'!B$6:B$2928)","v":849},{"$f":"LOOKUP(E76,'Flow Data'!D$6:D$737,'Flow Data'!H$6:H$737)","v":0.17174136161478082},{"$f":"((D76/100)*1000*E76*28.3168)*60*60*24","v":120474074787840.03}]
["2004-02-12",31699,null,2100,{"$f":"LOOKUP(A77,'Flow Data'!A$6:A$2928,'Flow Data'!B$6:B$2928)","v":849},{"$f":"LOOKUP(E77,'Flow Data'!D$6:D$737,'Flow Data'!H$6:H$737)","v":0.17174136161478082},{"$f":"((D77/100)*1000*E77*28.3168)*60*60*24","v":43619923630080}]
["2004-05-11",31699,null,3900,{"$f":"LOOKUP(A78,'Flow Data'!A$6:A$2928,'Flow Data'!B$6:B$2928)","v":792},{"$f":"LOOKUP(E78,'Flow Data'!D$6:D$737,'Flow Data'!H$6:H$737)","v":0.18132056106739802},{"$f":"((D78/100)*1000*E78*28.3168)*60*60*24","v":75569701109760}]
["2004-05-11",31699,null,17000,{"$f":"LOOKUP(A79,'Flow Data'!A$6:A$2928,'Flow Data'!B$6:B$2928)","v":792},{"$f":"LOOKUP(E79,'Flow Data'!D$6:D$737,'Flow Data'!H$6:H$737)","v":0.18132056106739802},{"$f":"((D79/100)*1000*E79*28.3168)*60*60*24","v":329406389452800}]
["2003-12-02",31699,null,230,{"$f":"LOOKUP(A80,'Flow Data'!A$6:A$2928,'Flow Data'!B$6:B$2928)","v":750},{"$f":"LOOKUP(E80,'Flow Data'!D$6:D$737,'Flow Data'!H$6:H$737)","v":0.18816284639069614},{"$f":"((D80/100)*1000*E80*28.3168)*60*60*24","v":4220335872000}]
["2003-12-02",31699,null,290,{"$f":"LOOKUP(A81,'Flow Data'!A$6:A$2928,'Flow Data'!B$6:B$2928)","v":750},{"$f":"LOOKUP(E81,'Flow Data'!D$6:D$737,'Flow Data'!H$6:H$737)","v":0.18816284639069614},{"$f":"((D81/100)*1000*E81*28.3168)*60*60*24","v":5321293056000}]
["2003-12-02",31699,null,120,{"$f":"LOOKUP(A82,'Flow Data'!A$6:A$2928,'Flow Data'!B$6:B$2928)","v":750},{"$f":"LOOKUP(E82,'Flow Data'!D$6:D$737,'Flow Data'!H$6:H$737)","v":0.18816284639069614},{"$f":"((D82/100)*1000*E82*28.3168)*60*60*24","v":2201914368000}]
["2003-12-02",31699,null,130,{"$f":"LOOKUP(A83,'Flow Data'!A$6:A$2928,'Flow Data'!B$6:B$2928)","v":750},{"$f":"LOOKUP(E83,'Flow Data'!D$6:D$737,'Flow Data'!H$6:H$737)","v":0.18816284639069614},{"$f":"((D83/100)*1000*E83*28.3168)*60*60*24","v":2385407232000}]
["2003-12-02",31699,null,360,{"$f":"LOOKUP(A84,'Flow Data'!A$6:A$2928,'Flow Data'!B$6:B$2928)","v":750},{"$f":"LOOKUP(E84,'Flow Data'!D$6:D$737,'Flow Data'!H$6:H$737)","v":0.18816284639069614},{"$f":"((D84/100)*1000*E84*28.3168)*60*60*24","v":6605743104000}]
["2004-07-01",31699,null,5900,{"$f":"LOOKUP(A85,'Flow Data'!A$6:A$2928,'Flow Data'!B$6:B$2928)","v":743},{"$f":"LOOKUP(E85,'Flow Data'!D$6:D$737,'Flow Data'!H$6:H$737)","v":0.18987341772152067},{"$f":"((D85/100)*1000*E85*28.3168)*60*60*24","v":107250355722240.03}]
["2004-07-01",31699,null,10000,{"$f":"LOOKUP(A86,'Flow Data'!A$6:A$2928,'Flow Data'!B$6:B$2928)","v":743},{"$f":"LOOKUP(E86,'Flow Data'!D$6:D$737,'Flow Data'!H$6:H$737)","v":0.18987341772152067},{"$f":"((D86/100)*1000*E86*28.3168)*60*60*24","v":181780263936000}]
["2004-07-01",31699,null,22000,{"$f":"LOOKUP(A87,'Flow Data'!A$6:A$2928,'Flow Data'!B$6:B$2928)","v":743},{"$f":"LOOKUP(E87,'Flow Data'!D$6:D$737,'Flow Data'!H$6:H$737)","v":0.18987341772152067},{"$f":"((D87/100)*1000*E87*28.3168)*60*60*24","v":399916580659200}]
["2004-07-01",31699,null,25000,{"$f":"LOOKUP(A88,'Flow Data'!A$6:A$2928,'Flow Data'!B$6:B$2928)","v":743},{"$f":"LOOKUP(E88,'Flow Data'!D$6:D$737,'Flow Data'!H$6:H$737)","v":0.18987341772152067},{"$f":"((D88/100)*1000*E88*28.3168)*60*60*24","v":454450659840000}]
["2004-07-01",31699,null,28000,{"$f":"LOOKUP(A89,'Flow Data'!A$6:A$2928,'Flow Data'!B$6:B$2928)","v":743},{"$f":"LOOKUP(E89,'Flow Data'!D$6:D$737,'Flow Data'!H$6:H$737)","v":0.18987341772152067},{"$f":"((D89/100)*1000*E89*28.3168)*60*60*24","v":508984739020800}]
["2002-04-15",31699,null,1200,{"$f":"LOOKUP(A90,'Flow Data'!A$6:A$2928,'Flow Data'!B$6:B$2928)","v":606},{"$f":"LOOKUP(E90,'Flow Data'!D$6:D$737,'Flow Data'!H$6:H$737)","v":0.21792678754704264},{"$f":"((D90/100)*1000*E90*28.3168)*60*60*24","v":17791468093440}]
["2002-04-15",31699,null,1500,{"$f":"LOOKUP(A91,'Flow Data'!A$6:A$2928,'Flow Data'!B$6:B$2928)","v":606},{"$f":"LOOKUP(E91,'Flow Data'!D$6:D$737,'Flow Data'!H$6:H$737)","v":0.21792678754704264},{"$f":"((D91/100)*1000*E91*28.3168)*60*60*24","v":22239335116800}]
["2004-02-05",31699,null,1800,{"$f":"LOOKUP(A92,'Flow Data'!A$6:A$2928,'Flow Data'!B$6:B$2928)","v":526},{"$f":"LOOKUP(E92,'Flow Data'!D$6:D$737,'Flow Data'!H$6:H$737)","v":0.23571672938761734},{"$f":"((D92/100)*1000*E92*28.3168)*60*60*24","v":23164139151360}]
["2004-02-05",31699,null,7500,{"$f":"LOOKUP(A93,'Flow Data'!A$6:A$2928,'Flow Data'!B$6:B$2928)","v":526},{"$f":"LOOKUP(E93,'Flow Data'!D$6:D$737,'Flow Data'!H$6:H$737)","v":0.23571672938761734},{"$f":"((D93/100)*1000*E93*28.3168)*60*60*24","v":96517246464000}]
["2004-02-05",31699,null,1800,{"$f":"LOOKUP(A94,'Flow Data'!A$6:A$2928,'Flow Data'!B$6:B$2928)","v":526},{"$f":"LOOKUP(E94,'Flow Data'!D$6:D$737,'Flow Data'!H$6:H$737)","v":0.23571672938761734},{"$f":"((D94/100)*1000*E94*28.3168)*60*60*24","v":23164139151360}]
["2004-02-05",31699,null,1700,{"$f":"LOOKUP(A95,'Flow Data'!A$6:A$2928,'Flow Data'!B$6:B$2928)","v":526},{"$f":"LOOKUP(E95,'Flow Data'!D$6:D$737,'Flow Data'!H$6:H$737)","v":0.23571672938761734},{"$f":"((D95/100)*1000*E95*28.3168)*60*60*24","v":21877242531840}]
["2004-02-05",31699,null,4100,{"$f":"LOOKUP(A96,'Flow Data'!A$6:A$2928,'Flow Data'!B$6:B$2928)","v":526},{"$f":"LOOKUP(E96,'Flow Data'!D$6:D$737,'Flow Data'!H$6:H$737)","v":0.23571672938761734},{"$f":"((D96/100)*1000*E96*28.3168)*60*60*24","v":52762761400320.016}]
["2004-11-02",31699,null,8200,{"$f":"LOOKUP(A97,'Flow Data'!A$6:A$2928,'Flow Data'!B$6:B$2928)","v":514},{"$f":"LOOKUP(E97,'Flow Data'!D$6:D$737,'Flow Data'!H$6:H$737)","v":0.23879575778310158},{"$f":"((D97/100)*1000*E97*28.3168)*60*60*24","v":103118096424960}]
["2004-11-02",31699,null,24000,{"$f":"LOOKUP(A98,'Flow Data'!A$6:A$2928,'Flow Data'!B$6:B$2928)","v":514},{"$f":"LOOKUP(E98,'Flow Data'!D$6:D$737,'Flow Data'!H$6:H$737)","v":0.23879575778310158},{"$f":"((D98/100)*1000*E98*28.3168)*60*60*24","v":301809062707200}]
["2001-12-11",31699,null,8200,{"$f":"LOOKUP(A99,'Flow Data'!A$6:A$2928,'Flow Data'!B$6:B$2928)","v":455},{"$f":"LOOKUP(E99,'Flow Data'!D$6:D$737,'Flow Data'!H$6:H$737)","v":0.25863838522066573},{"$f":"((D99/100)*1000*E99*28.3168)*60*60*24","v":91281583411200}]
["2003-09-04",31699,null,180,{"$f":"LOOKUP(A100,'Flow Data'!A$6:A$2928,'Flow Data'!B$6:B$2928)","v":441},{"$f":"LOOKUP(E100,'Flow Data'!D$6:D$737,'Flow Data'!H$6:H$737)","v":0.26548067054396374},{"$f":"((D100/100)*1000*E100*28.3168)*60*60*24","v":1942088472576}]
["2003-09-04",31699,null,470,{"$f":"LOOKUP(A101,'Flow Data'!A$6:A$2928,'Flow Data'!B$6:B$2928)","v":441},{"$f":"LOOKUP(E101,'Flow Data'!D$6:D$737,'Flow Data'!H$6:H$737)","v":0.26548067054396374},{"$f":"((D101/100)*1000*E101*28.3168)*60*60*24","v":5071008789504}]
["2003-09-04",31699,null,680,{"$f":"LOOKUP(A102,'Flow Data'!A$6:A$2928,'Flow Data'!B$6:B$2928)","v":441},{"$f":"LOOKUP(E102,'Flow Data'!D$6:D$737,'Flow Data'!H$6:H$737)","v":0.26548067054396374},{"$f":"((D102/100)*1000*E102*28.3168)*60*60*24","v":7336778674176.002}]
["2003-09-04",31699,null,2500,{"$f":"LOOKUP(A103,'Flow Data'!A$6:A$2928,'Flow Data'!B$6:B$2928)","v":441},{"$f":"LOOKUP(E103,'Flow Data'!D$6:D$737,'Flow Data'!H$6:H$737)","v":0.26548067054396374},{"$f":"((D103/100)*1000*E103*28.3168)*60*60*24","v":26973451008000}]
["2001-07-30",31699,null,933,{"$f":"LOOKUP(A104,'Flow Data'!A$6:A$2928,'Flow Data'!B$6:B$2928)","v":411},{"$f":"LOOKUP(E104,'Flow Data'!D$6:D$737,'Flow Data'!H$6:H$737)","v":0.27540198426274565},{"$f":"((D104/100)*1000*E104*28.3168)*60*60*24","v":9381696547737.6016}]
["2004-07-25",31699,null,91000,{"$f":"LOOKUP(A105,'Flow Data'!A$6:A$2928,'Flow Data'!B$6:B$2928)","v":409},{"$f":"LOOKUP(E105,'Flow Data'!D$6:D$737,'Flow Data'!H$6:H$737)","v":0.27779678412589992},{"$f":"((D105/100)*1000*E105*28.3168)*60*60*24","v":910589454028800}]
["2004-07-25",31699,null,69000,{"$f":"LOOKUP(A106,'Flow Data'!A$6:A$2928,'Flow Data'!B$6:B$2928)","v":409},{"$f":"LOOKUP(E106,'Flow Data'!D$6:D$737,'Flow Data'!H$6:H$737)","v":0.27779678412589992},{"$f":"((D106/100)*1000*E106*28.3168)*60*60*24","v":690446948659200}]
["2004-07-25",31699,null,53000,{"$f":"LOOKUP(A107,'Flow Data'!A$6:A$2928,'Flow Data'!B$6:B$2928)","v":409},{"$f":"LOOKUP(E107,'Flow Data'!D$6:D$737,'Flow Data'!H$6:H$737)","v":0.27779678412589992},{"$f":"((D107/100)*1000*E107*28.3168)*60*60*24","v":530343308390400}]
["2004-07-25",31699,null,31000,{"$f":"LOOKUP(A108,'Flow Data'!A$6:A$2928,'Flow Data'!B$6:B$2928)","v":409},{"$f":"LOOKUP(E108,'Flow Data'!D$6:D$737,'Flow Data'!H$6:H$737)","v":0.27779678412589992},{"$f":"((D108/100)*1000*E108*28.3168)*60*60*24","v":310200803020800}]
["2004-07-25",31699,null,34000,{"$f":"LOOKUP(A109,'Flow Data'!A$6:A$2928,'Flow Data'!B$6:B$2928)","v":409},{"$f":"LOOKUP(E109,'Flow Data'!D$6:D$737,'Flow Data'!H$6:H$737)","v":0.27779678412589992},{"$f":"((D109/100)*1000*E109*28.3168)*60*60*24","v":340220235571200}]
["2004-07-25",31699,null,30000,{"$f":"LOOKUP(A110,'Flow Data'!A$6:A$2928,'Flow Data'!B$6:B$2928)","v":409},{"$f":"LOOKUP(E110,'Flow Data'!D$6:D$737,'Flow Data'!H$6:H$737)","v":0.27779678412589992},{"$f":"((D110/100)*1000*E110*28.3168)*60*60*24","v":300194325504000}]
["2001-12-05",31699,null,1400,{"$f":"LOOKUP(A111,'Flow Data'!A$6:A$2928,'Flow Data'!B$6:B$2928)","v":361},{"$f":"LOOKUP(E111,'Flow Data'!D$6:D$737,'Flow Data'!H$6:H$737)","v":0.29421826890181524},{"$f":"((D111/100)*1000*E111*28.3168)*60*60*24","v":12364972462080.002}]
["2001-12-05",31699,null,1300,{"$f":"LOOKUP(A112,'Flow Data'!A$6:A$2928,'Flow Data'!B$6:B$2928)","v":361},{"$f":"LOOKUP(E112,'Flow Data'!D$6:D$737,'Flow Data'!H$6:H$737)","v":0.29421826890181524},{"$f":"((D112/100)*1000*E112*28.3168)*60*60*24","v":11481760143360}]
["2001-12-05",31699,null,910,{"$f":"LOOKUP(A113,'Flow Data'!A$6:A$2928,'Flow Data'!B$6:B$2928)","v":361},{"$f":"LOOKUP(E113,'Flow Data'!D$6:D$737,'Flow Data'!H$6:H$737)","v":0.29421826890181524},{"$f":"((D113/100)*1000*E113*28.3168)*60*60*24","v":8037232100352}]
["2001-12-05",31699,null,1000,{"$f":"LOOKUP(A114,'Flow Data'!A$6:A$2928,'Flow Data'!B$6:B$2928)","v":361},{"$f":"LOOKUP(E114,'Flow Data'!D$6:D$737,'Flow Data'!H$6:H$737)","v":0.29421826890181524},{"$f":"((D114/100)*1000*E114*28.3168)*60*60*24","v":8832123187200}]
["2001-12-05",31699,null,1400,{"$f":"LOOKUP(A115,'Flow Data'!A$6:A$2928,'Flow Data'!B$6:B$2928)","v":361},{"$f":"LOOKUP(E115,'Flow Data'!D$6:D$737,'Flow Data'!H$6:H$737)","v":0.29421826890181524},{"$f":"((D115/100)*1000*E115*28.3168)*60*60*24","v":12364972462080.002}]
["2001-12-10",31699,null,5400,{"$f":"LOOKUP(A116,'Flow Data'!A$6:A$2928,'Flow Data'!B$6:B$2928)","v":313},{"$f":"LOOKUP(E116,'Flow Data'!D$6:D$737,'Flow Data'!H$6:H$737)","v":0.3126924392747199},{"$f":"((D116/100)*1000*E116*28.3168)*60*60*24","v":41351951831040}]
["2001-12-10",31699,null,6600,{"$f":"LOOKUP(A117,'Flow Data'!A$6:A$2928,'Flow Data'!B$6:B$2928)","v":313},{"$f":"LOOKUP(E117,'Flow Data'!D$6:D$737,'Flow Data'!H$6:H$737)","v":0.3126924392747199},{"$f":"((D117/100)*1000*E117*28.3168)*60*60*24","v":50541274460160}]
["2001-12-10",31699,null,8100,{"$f":"LOOKUP(A118,'Flow Data'!A$6:A$2928,'Flow Data'!B$6:B$2928)","v":313},{"$f":"LOOKUP(E118,'Flow Data'!D$6:D$737,'Flow Data'!H$6:H$737)","v":0.3126924392747199},{"$f":"((D118/100)*1000*E118*28.3168)*60*60*24","v":62027927746560}]
["2001-12-10",31699,null,12000,{"$f":"LOOKUP(A119,'Flow Data'!A$6:A$2928,'Flow Data'!B$6:B$2928)","v":313},{"$f":"LOOKUP(E119,'Flow Data'!D$6:D$737,'Flow Data'!H$6:H$737)","v":0.3126924392747199},{"$f":"((D119/100)*1000*E119*28.3168)*60*60*24","v":91893226291200}]
["2001-12-10",31699,null,6200,{"$f":"LOOKUP(A120,'Flow Data'!A$6:A$2928,'Flow Data'!B$6:B$2928)","v":313},{"$f":"LOOKUP(E120,'Flow Data'!D$6:D$737,'Flow Data'!H$6:H$737)","v":0.3126924392747199},{"$f":"((D120/100)*1000*E120*28.3168)*60*60*24","v":47478166917120.008}]
["2001-12-10",31699,null,7900,{"$f":"LOOKUP(A121,'Flow Data'!A$6:A$2928,'Flow Data'!B$6:B$2928)","v":313},{"$f":"LOOKUP(E121,'Flow Data'!D$6:D$737,'Flow Data'!H$6:H$737)","v":0.3126924392747199},{"$f":"((D121/100)*1000*E121*28.3168)*60*60*24","v":60496373975040}]
["2002-07-01",31699,null,2400,{"$f":"LOOKUP(A122,'Flow Data'!A$6:A$2928,'Flow Data'!B$6:B$2928)","v":290},{"$f":"LOOKUP(E122,'Flow Data'!D$6:D$737,'Flow Data'!H$6:H$737)","v":0.32432432432432623},{"$f":"((D122/100)*1000*E122*28.3168)*60*60*24","v":17028137779200}]
["2002-07-01",31699,null,2100,{"$f":"LOOKUP(A123,'Flow Data'!A$6:A$2928,'Flow Data'!B$6:B$2928)","v":290},{"$f":"LOOKUP(E123,'Flow Data'!D$6:D$737,'Flow Data'!H$6:H$737)","v":0.32432432432432623},{"$f":"((D123/100)*1000*E123*28.3168)*60*60*24","v":14899620556800}]
["2002-07-01",31699,null,1200,{"$f":"LOOKUP(A124,'Flow Data'!A$6:A$2928,'Flow Data'!B$6:B$2928)","v":290},{"$f":"LOOKUP(E124,'Flow Data'!D$6:D$737,'Flow Data'!H$6:H$737)","v":0.32432432432432623},{"$f":"((D124/100)*1000*E124*28.3168)*60*60*24","v":8514068889600}]
["2002-07-01",31699,null,1900,{"$f":"LOOKUP(A125,'Flow Data'!A$6:A$2928,'Flow Data'!B$6:B$2928)","v":290},{"$f":"LOOKUP(E125,'Flow Data'!D$6:D$737,'Flow Data'!H$6:H$737)","v":0.32432432432432623},{"$f":"((D125/100)*1000*E125*28.3168)*60*60*24","v":13480609075200}]
["2002-07-01",31699,null,1500,{"$f":"LOOKUP(A126,'Flow Data'!A$6:A$2928,'Flow Data'!B$6:B$2928)","v":290},{"$f":"LOOKUP(E126,'Flow Data'!D$6:D$737,'Flow Data'!H$6:H$737)","v":0.32432432432432623},{"$f":"((D126/100)*1000*E126*28.3168)*60*60*24","v":10642586112000}]
["2004-03-01",31699,null,5700,{"$f":"LOOKUP(A127,'Flow Data'!A$6:A$2928,'Flow Data'!B$6:B$2928)","v":287},{"$f":"LOOKUP(E127,'Flow Data'!D$6:D$737,'Flow Data'!H$6:H$737)","v":0.32774546698597518},{"$f":"((D127/100)*1000*E127*28.3168)*60*60*24","v":40023463495680}]
["2004-03-01",31699,null,6500,{"$f":"LOOKUP(A128,'Flow Data'!A$6:A$2928,'Flow Data'!B$6:B$2928)","v":287},{"$f":"LOOKUP(E128,'Flow Data'!D$6:D$737,'Flow Data'!H$6:H$737)","v":0.32774546698597518},{"$f":"((D128/100)*1000*E128*28.3168)*60*60*24","v":45640791705600}]
["2004-03-01",31699,null,9600,{"$f":"LOOKUP(A129,'Flow Data'!A$6:A$2928,'Flow Data'!B$6:B$2928)","v":287},{"$f":"LOOKUP(E129,'Flow Data'!D$6:D$737,'Flow Data'!H$6:H$737)","v":0.32774546698597518},{"$f":"((D129/100)*1000*E129*28.3168)*60*60*24","v":67407938519040}]
["2004-03-01",31699,null,13000,{"$f":"LOOKUP(A130,'Flow Data'!A$6:A$2928,'Flow Data'!B$6:B$2928)","v":287},{"$f":"LOOKUP(E130,'Flow Data'!D$6:D$737,'Flow Data'!H$6:H$737)","v":0.32774546698597518},{"$f":"((D130/100)*1000*E130*28.3168)*60*60*24","v":91281583411200}]
["2004-03-01",31699,null,16000,{"$f":"LOOKUP(A131,'Flow Data'!A$6:A$2928,'Flow Data'!B$6:B$2928)","v":287},{"$f":"LOOKUP(E131,'Flow Data'!D$6:D$737,'Flow Data'!H$6:H$737)","v":0.32774546698597518},{"$f":"((D131/100)*1000*E131*28.3168)*60*60*24","v":112346564198400}]
["2004-07-24",31699,null,15000,{"$f":"LOOKUP(A132,'Flow Data'!A$6:A$2928,'Flow Data'!B$6:B$2928)","v":268},{"$f":"LOOKUP(E132,'Flow Data'!D$6:D$737,'Flow Data'!H$6:H$737)","v":0.33595620937393278},{"$f":"((D132/100)*1000*E132*28.3168)*60*60*24","v":98352175104000}]
["2004-07-24",31699,null,130,{"$f":"LOOKUP(A133,'Flow Data'!A$6:A$2928,'Flow Data'!B$6:B$2928)","v":268},{"$f":"LOOKUP(E133,'Flow Data'!D$6:D$737,'Flow Data'!H$6:H$737)","v":0.33595620937393278},{"$f":"((D133/100)*1000*E133*28.3168)*60*60*24","v":852385517568}]
["2002-10-24",31699,null,880,{"$f":"LOOKUP(A134,'Flow Data'!A$6:A$2928,'Flow Data'!B$6:B$2928)","v":261},{"$f":"LOOKUP(E134,'Flow Data'!D$6:D$737,'Flow Data'!H$6:H$737)","v":0.33971946630174654},{"$f":"((D134/100)*1000*E134*28.3168)*60*60*24","v":5619285467136}]
["2002-10-24",31699,null,910,{"$f":"LOOKUP(A135,'Flow Data'!A$6:A$2928,'Flow Data'!B$6:B$2928)","v":261},{"$f":"LOOKUP(E135,'Flow Data'!D$6:D$737,'Flow Data'!H$6:H$737)","v":0.33971946630174654},{"$f":"((D135/100)*1000*E135*28.3168)*60*60*24","v":5810852017152}]
["2002-10-24",31699,null,910,{"$f":"LOOKUP(A136,'Flow Data'!A$6:A$2928,'Flow Data'!B$6:B$2928)","v":261},{"$f":"LOOKUP(E136,'Flow Data'!D$6:D$737,'Flow Data'!H$6:H$737)","v":0.33971946630174654},{"$f":"((D136/100)*1000*E136*28.3168)*60*60*24","v":5810852017152}]
["2002-10-24",31699,null,930,{"$f":"LOOKUP(A137,'Flow Data'!A$6:A$2928,'Flow Data'!B$6:B$2928)","v":261},{"$f":"LOOKUP(E137,'Flow Data'!D$6:D$737,'Flow Data'!H$6:H$737)","v":0.33971946630174654},{"$f":"((D137/100)*1000*E137*28.3168)*60*60*24","v":5938563050496}]
["2002-08-14",31699,null,3255,{"$f":"LOOKUP(A138,'Flow Data'!A$6:A$2928,'Flow Data'!B$6:B$2928)","v":256},{"$f":"LOOKUP(E138,'Flow Data'!D$6:D$737,'Flow Data'!H$6:H$737)","v":0.34143003763257096},{"$f":"((D138/100)*1000*E138*28.3168)*60*60*24","v":20386791161856}]
["2002-08-14",31699,null,6867,{"$f":"LOOKUP(A139,'Flow Data'!A$6:A$2928,'Flow Data'!B$6:B$2928)","v":256},{"$f":"LOOKUP(E139,'Flow Data'!D$6:D$737,'Flow Data'!H$6:H$737)","v":0.34143003763257096},{"$f":"((D139/100)*1000*E139*28.3168)*60*60*24","v":43009552967270.406}]
["2002-01-07",31699,null,19000,{"$f":"LOOKUP(A140,'Flow Data'!A$6:A$2928,'Flow Data'!B$6:B$2928)","v":242},{"$f":"LOOKUP(E140,'Flow Data'!D$6:D$737,'Flow Data'!H$6:H$737)","v":0.34793020868970381},{"$f":"((D140/100)*1000*E140*28.3168)*60*60*24","v":112493358489600}]
["2002-01-07",31699,null,8400,{"$f":"LOOKUP(A141,'Flow Data'!A$6:A$2928,'Flow Data'!B$6:B$2928)","v":242},{"$f":"LOOKUP(E141,'Flow Data'!D$6:D$737,'Flow Data'!H$6:H$737)","v":0.34793020868970381},{"$f":"((D141/100)*1000*E141*28.3168)*60*60*24","v":49733905858560}]
["2002-01-07",31699,null,7100,{"$f":"LOOKUP(A142,'Flow Data'!A$6:A$2928,'Flow Data'!B$6:B$2928)","v":242},{"$f":"LOOKUP(E142,'Flow Data'!D$6:D$737,'Flow Data'!H$6:H$737)","v":0.34793020868970381},{"$f":"((D142/100)*1000*E142*28.3168)*60*60*24","v":42036991856640}]
["2002-01-07",31699,null,11000,{"$f":"LOOKUP(A143,'Flow Data'!A$6:A$2928,'Flow Data'!B$6:B$2928)","v":242},{"$f":"LOOKUP(E143,'Flow Data'!D$6:D$737,'Flow Data'!H$6:H$737)","v":0.34793020868970381},{"$f":"((D143/100)*1000*E143*28.3168)*60*60*24","v":65127733862400}]
["2002-01-07",31699,null,7100,{"$f":"LOOKUP(A144,'Flow Data'!A$6:A$2928,'Flow Data'!B$6:B$2928)","v":242},{"$f":"LOOKUP(E144,'Flow Data'!D$6:D$737,'Flow Data'!H$6:H$737)","v":0.34793020868970381},{"$f":"((D144/100)*1000*E144*28.3168)*60*60*24","v":42036991856640}]
["2003-08-14",31699,null,740,{"$f":"LOOKUP(A145,'Flow Data'!A$6:A$2928,'Flow Data'!B$6:B$2928)","v":230},{"$f":"LOOKUP(E145,'Flow Data'!D$6:D$737,'Flow Data'!H$6:H$737)","v":0.35443037974683678},{"$f":"((D145/100)*1000*E145*28.3168)*60*60*24","v":4164064727040}]
["2003-08-14",31699,null,1100,{"$f":"LOOKUP(A146,'Flow Data'!A$6:A$2928,'Flow Data'!B$6:B$2928)","v":230},{"$f":"LOOKUP(E146,'Flow Data'!D$6:D$737,'Flow Data'!H$6:H$737)","v":0.35443037974683678},{"$f":"((D146/100)*1000*E146*28.3168)*60*60*24","v":6189825945600}]
["2003-08-14",31699,null,2000,{"$f":"LOOKUP(A147,'Flow Data'!A$6:A$2928,'Flow Data'!B$6:B$2928)","v":230},{"$f":"LOOKUP(E147,'Flow Data'!D$6:D$737,'Flow Data'!H$6:H$737)","v":0.35443037974683678},{"$f":"((D147/100)*1000*E147*28.3168)*60*60*24","v":11254228992000}]
["2003-08-14",31699,null,2700,{"$f":"LOOKUP(A148,'Flow Data'!A$6:A$2928,'Flow Data'!B$6:B$2928)","v":230},{"$f":"LOOKUP(E148,'Flow Data'!D$6:D$737,'Flow Data'!H$6:H$737)","v":0.35443037974683678},{"$f":"((D148/100)*1000*E148*28.3168)*60*60*24","v":15193209139200}]
["2004-01-08",31699,null,7400,{"$f":"LOOKUP(A149,'Flow Data'!A$6:A$2928,'Flow Data'!B$6:B$2928)","v":223},{"$f":"LOOKUP(E149,'Flow Data'!D$6:D$737,'Flow Data'!H$6:H$737)","v":0.3592199794731451},{"$f":"((D149/100)*1000*E149*28.3168)*60*60*24","v":40373323223040}]
["2004-01-08",31699,null,5100,{"$f":"LOOKUP(A150,'Flow Data'!A$6:A$2928,'Flow Data'!B$6:B$2928)","v":223},{"$f":"LOOKUP(E150,'Flow Data'!D$6:D$737,'Flow Data'!H$6:H$737)","v":0.3592199794731451},{"$f":"((D150/100)*1000*E150*28.3168)*60*60*24","v":27824857896960.008}]
["2004-01-08",31699,null,8800,{"$f":"LOOKUP(A151,'Flow Data'!A$6:A$2928,'Flow Data'!B$6:B$2928)","v":223},{"$f":"LOOKUP(E151,'Flow Data'!D$6:D$737,'Flow Data'!H$6:H$737)","v":0.3592199794731451},{"$f":"((D151/100)*1000*E151*28.3168)*60*60*24","v":48011519508480.008}]
["2004-01-08",31699,null,20000,{"$f":"LOOKUP(A152,'Flow Data'!A$6:A$2928,'Flow Data'!B$6:B$2928)","v":223},{"$f":"LOOKUP(E152,'Flow Data'!D$6:D$737,'Flow Data'!H$6:H$737)","v":0.3592199794731451},{"$f":"((D152/100)*1000*E152*28.3168)*60*60*24","v":109117089792000}]
["2001-12-06",31699,null,1600,{"$f":"LOOKUP(A153,'Flow Data'!A$6:A$2928,'Flow Data'!B$6:B$2928)","v":199},{"$f":"LOOKUP(E153,'Flow Data'!D$6:D$737,'Flow Data'!H$6:H$737)","v":0.37769414984604932},{"$f":"((D153/100)*1000*E153*28.3168)*60*60*24","v":7789883719680}]
["2004-10-05",31699,null,8100,{"$f":"LOOKUP(A154,'Flow Data'!A$6:A$2928,'Flow Data'!B$6:B$2928)","v":196},{"$f":"LOOKUP(E154,'Flow Data'!D$6:D$737,'Flow Data'!H$6:H$737)","v":0.38043106397536852},{"$f":"((D154/100)*1000*E154*28.3168)*60*60*24","v":38841769451520}]
["2004-10-05",31699,null,30000,{"$f":"LOOKUP(A155,'Flow Data'!A$6:A$2928,'Flow Data'!B$6:B$2928)","v":196},{"$f":"LOOKUP(E155,'Flow Data'!D$6:D$737,'Flow Data'!H$6:H$737)","v":0.38043106397536852},{"$f":"((D155/100)*1000*E155*28.3168)*60*60*24","v":143858405376000}]
["2004-10-05",31699,null,16000,{"$f":"LOOKUP(A156,'Flow Data'!A$6:A$2928,'Flow Data'!B$6:B$2928)","v":196},{"$f":"LOOKUP(E156,'Flow Data'!D$6:D$737,'Flow Data'!H$6:H$737)","v":0.38043106397536852},{"$f":"((D156/100)*1000*E156*28.3168)*60*60*24","v":76724482867200}]
["2004-10-05",31699,null,36000,{"$f":"LOOKUP(A157,'Flow Data'!A$6:A$2928,'Flow Data'!B$6:B$2928)","v":196},{"$f":"LOOKUP(E157,'Flow Data'!D$6:D$737,'Flow Data'!H$6:H$737)","v":0.38043106397536852},{"$f":"((D157/100)*1000*E157*28.3168)*60*60*24","v":172630086451200}]
["2004-10-05",31699,null,37000,{"$f":"LOOKUP(A158,'Flow Data'!A$6:A$2928,'Flow Data'!B$6:B$2928)","v":196},{"$f":"LOOKUP(E158,'Flow Data'!D$6:D$737,'Flow Data'!H$6:H$737)","v":0.38043106397536852},{"$f":"((D158/100)*1000*E158*28.3168)*60*60*24","v":177425366630400}]
["2004-06-10",31699,null,690,{"$f":"LOOKUP(A159,'Flow Data'!A$6:A$2928,'Flow Data'!B$6:B$2928)","v":193},{"$f":"LOOKUP(E159,'Flow Data'!D$6:D$737,'Flow Data'!H$6:H$737)","v":0.38248374957235776},{"$f":"((D159/100)*1000*E159*28.3168)*60*60*24","v":3258099293184.001}]
["2004-06-10",31699,null,1600,{"$f":"LOOKUP(A160,'Flow Data'!A$6:A$2928,'Flow Data'!B$6:B$2928)","v":193},{"$f":"LOOKUP(E160,'Flow Data'!D$6:D$737,'Flow Data'!H$6:H$737)","v":0.38248374957235776},{"$f":"((D160/100)*1000*E160*28.3168)*60*60*24","v":7555012853760}]
["2004-06-10",31699,null,1100,{"$f":"LOOKUP(A161,'Flow Data'!A$6:A$2928,'Flow Data'!B$6:B$2928)","v":193},{"$f":"LOOKUP(E161,'Flow Data'!D$6:D$737,'Flow Data'!H$6:H$737)","v":0.38248374957235776},{"$f":"((D161/100)*1000*E161*28.3168)*60*60*24","v":5194071336960}]
["2004-06-10",31699,null,1600,{"$f":"LOOKUP(A162,'Flow Data'!A$6:A$2928,'Flow Data'!B$6:B$2928)","v":193},{"$f":"LOOKUP(E162,'Flow Data'!D$6:D$737,'Flow Data'!H$6:H$737)","v":0.38248374957235776},{"$f":"((D162/100)*1000*E162*28.3168)*60*60*24","v":7555012853760}]
["2003-07-09",31699,null,3700,{"$f":"LOOKUP(A163,'Flow Data'!A$6:A$2928,'Flow Data'!B$6:B$2928)","v":186},{"$f":"LOOKUP(E163,'Flow Data'!D$6:D$737,'Flow Data'!H$6:H$737)","v":0.38966814916182035},{"$f":"((D163/100)*1000*E163*28.3168)*60*60*24","v":16837305200640}]
["2003-07-09",31699,null,6400,{"$f":"LOOKUP(A164,'Flow Data'!A$6:A$2928,'Flow Data'!B$6:B$2928)","v":186},{"$f":"LOOKUP(E164,'Flow Data'!D$6:D$737,'Flow Data'!H$6:H$737)","v":0.38966814916182035},{"$f":"((D164/100)*1000*E164*28.3168)*60*60*24","v":29123987374080}]
["2003-07-09",31699,null,7000,{"$f":"LOOKUP(A165,'Flow Data'!A$6:A$2928,'Flow Data'!B$6:B$2928)","v":186},{"$f":"LOOKUP(E165,'Flow Data'!D$6:D$737,'Flow Data'!H$6:H$737)","v":0.38966814916182035},{"$f":"((D165/100)*1000*E165*28.3168)*60*60*24","v":31854361190400}]
["2003-07-09",31699,null,8800,{"$f":"LOOKUP(A166,'Flow Data'!A$6:A$2928,'Flow Data'!B$6:B$2928)","v":186},{"$f":"LOOKUP(E166,'Flow Data'!D$6:D$737,'Flow Data'!H$6:H$737)","v":0.38966814916182035},{"$f":"((D166/100)*1000*E166*28.3168)*60*60*24","v":40045482639360.008}]
["2003-07-09",31699,null,13000,{"$f":"LOOKUP(A167,'Flow Data'!A$6:A$2928,'Flow Data'!B$6:B$2928)","v":186},{"$f":"LOOKUP(E167,'Flow Data'!D$6:D$737,'Flow Data'!H$6:H$737)","v":0.38966814916182035},{"$f":"((D167/100)*1000*E167*28.3168)*60*60*24","v":59158099353600}]
["2003-07-08",31699,null,700,{"$f":"LOOKUP(A168,'Flow Data'!A$6:A$2928,'Flow Data'!B$6:B$2928)","v":181},{"$f":"LOOKUP(E168,'Flow Data'!D$6:D$737,'Flow Data'!H$6:H$737)","v":0.39651043448511836},{"$f":"((D168/100)*1000*E168*28.3168)*60*60*24","v":3099806115840}]
["2003-07-08",31699,null,2000,{"$f":"LOOKUP(A169,'Flow Data'!A$6:A$2928,'Flow Data'!B$6:B$2928)","v":181},{"$f":"LOOKUP(E169,'Flow Data'!D$6:D$737,'Flow Data'!H$6:H$737)","v":0.39651043448511836},{"$f":"((D169/100)*1000*E169*28.3168)*60*60*24","v":8856588902400}]
["2003-07-08",31699,null,24000,{"$f":"LOOKUP(A170,'Flow Data'!A$6:A$2928,'Flow Data'!B$6:B$2928)","v":181},{"$f":"LOOKUP(E170,'Flow Data'!D$6:D$737,'Flow Data'!H$6:H$737)","v":0.39651043448511836},{"$f":"((D170/100)*1000*E170*28.3168)*60*60*24","v":106279066828800}]
["2003-07-08",31699,null,3400,{"$f":"LOOKUP(A171,'Flow Data'!A$6:A$2928,'Flow Data'!B$6:B$2928)","v":181},{"$f":"LOOKUP(E171,'Flow Data'!D$6:D$737,'Flow Data'!H$6:H$737)","v":0.39651043448511836},{"$f":"((D171/100)*1000*E171*28.3168)*60*60*24","v":15056201134080.004}]
["2004-04-06",31699,null,4700,{"$f":"LOOKUP(A172,'Flow Data'!A$6:A$2928,'Flow Data'!B$6:B$2928)","v":166},{"$f":"LOOKUP(E172,'Flow Data'!D$6:D$737,'Flow Data'!H$6:H$737)","v":0.41122134793020904},{"$f":"((D172/100)*1000*E172*28.3168)*60*60*24","v":19088150999040}]
["2004-04-06",31699,null,2800,{"$f":"LOOKUP(A173,'Flow Data'!A$6:A$2928,'Flow Data'!B$6:B$2928)","v":166},{"$f":"LOOKUP(E173,'Flow Data'!D$6:D$737,'Flow Data'!H$6:H$737)","v":0.41122134793020904},{"$f":"((D173/100)*1000*E173*28.3168)*60*60*24","v":11371664424960}]
["2004-04-06",31699,null,960,{"$f":"LOOKUP(A174,'Flow Data'!A$6:A$2928,'Flow Data'!B$6:B$2928)","v":166},{"$f":"LOOKUP(E174,'Flow Data'!D$6:D$737,'Flow Data'!H$6:H$737)","v":0.41122134793020904},{"$f":"((D174/100)*1000*E174*28.3168)*60*60*24","v":3898856374272}]
["2004-04-06",31699,null,590,{"$f":"LOOKUP(A175,'Flow Data'!A$6:A$2928,'Flow Data'!B$6:B$2928)","v":166},{"$f":"LOOKUP(E175,'Flow Data'!D$6:D$737,'Flow Data'!H$6:H$737)","v":0.41122134793020904},{"$f":"((D175/100)*1000*E175*28.3168)*60*60*24","v":2396172146688}]
["2004-04-06",31699,null,410,{"$f":"LOOKUP(A176,'Flow Data'!A$6:A$2928,'Flow Data'!B$6:B$2928)","v":166},{"$f":"LOOKUP(E176,'Flow Data'!D$6:D$737,'Flow Data'!H$6:H$737)","v":0.41122134793020904},{"$f":"((D176/100)*1000*E176*28.3168)*60*60*24","v":1665136576512.0005}]
["2004-03-04",31699,null,220,{"$f":"LOOKUP(A177,'Flow Data'!A$6:A$2928,'Flow Data'!B$6:B$2928)","v":163},{"$f":"LOOKUP(E177,'Flow Data'!D$6:D$737,'Flow Data'!H$6:H$737)","v":0.41498460485802291},{"$f":"((D177/100)*1000*E177*28.3168)*60*60*24","v":877340547072.00024}]
["2004-03-04",31699,null,500,{"$f":"LOOKUP(A178,'Flow Data'!A$6:A$2928,'Flow Data'!B$6:B$2928)","v":163},{"$f":"LOOKUP(E178,'Flow Data'!D$6:D$737,'Flow Data'!H$6:H$737)","v":0.41498460485802291},{"$f":"((D178/100)*1000*E178*28.3168)*60*60*24","v":1993955788800}]
["2004-03-04",31699,null,1200,{"$f":"LOOKUP(A179,'Flow Data'!A$6:A$2928,'Flow Data'!B$6:B$2928)","v":163},{"$f":"LOOKUP(E179,'Flow Data'!D$6:D$737,'Flow Data'!H$6:H$737)","v":0.41498460485802291},{"$f":"((D179/100)*1000*E179*28.3168)*60*60*24","v":4785493893120.001}]
["2004-03-04",31699,null,560,{"$f":"LOOKUP(A180,'Flow Data'!A$6:A$2928,'Flow Data'!B$6:B$2928)","v":163},{"$f":"LOOKUP(E180,'Flow Data'!D$6:D$737,'Flow Data'!H$6:H$737)","v":0.41498460485802291},{"$f":"((D180/100)*1000*E180*28.3168)*60*60*24","v":2233230483455.9995}]
["2001-08-06",31699,null,594,{"$f":"LOOKUP(A181,'Flow Data'!A$6:A$2928,'Flow Data'!B$6:B$2928)","v":151},{"$f":"LOOKUP(E181,'Flow Data'!D$6:D$737,'Flow Data'!H$6:H$737)","v":0.42798494697228884},{"$f":"((D181/100)*1000*E181*28.3168)*60*60*24","v":2194427859148.7998}]
["2002-04-16",31699,null,700,{"$f":"LOOKUP(A182,'Flow Data'!A$6:A$2928,'Flow Data'!B$6:B$2928)","v":132},{"$f":"LOOKUP(E182,'Flow Data'!D$6:D$737,'Flow Data'!H$6:H$737)","v":0.45466985973315077},{"$f":"((D182/100)*1000*E182*28.3168)*60*60*24","v":2260632084480}]
["2002-04-16",31699,null,690,{"$f":"LOOKUP(A183,'Flow Data'!A$6:A$2928,'Flow Data'!B$6:B$2928)","v":132},{"$f":"LOOKUP(E183,'Flow Data'!D$6:D$737,'Flow Data'!H$6:H$737)","v":0.45466985973315077},{"$f":"((D183/100)*1000*E183*28.3168)*60*60*24","v":2228337340416}]
["2002-03-05",31699,null,440,{"$f":"LOOKUP(A184,'Flow Data'!A$6:A$2928,'Flow Data'!B$6:B$2928)","v":131},{"$f":"LOOKUP(E184,'Flow Data'!D$6:D$737,'Flow Data'!H$6:H$737)","v":0.45672254533014012},{"$f":"((D184/100)*1000*E184*28.3168)*60*60*24","v":1410203824127.9998}]
["2002-03-05",31699,null,270,{"$f":"LOOKUP(A185,'Flow Data'!A$6:A$2928,'Flow Data'!B$6:B$2928)","v":131},{"$f":"LOOKUP(E185,'Flow Data'!D$6:D$737,'Flow Data'!H$6:H$737)","v":0.45672254533014012},{"$f":"((D185/100)*1000*E185*28.3168)*60*60*24","v":865352346624}]
["2002-03-05",31699,null,360,{"$f":"LOOKUP(A186,'Flow Data'!A$6:A$2928,'Flow Data'!B$6:B$2928)","v":131},{"$f":"LOOKUP(E186,'Flow Data'!D$6:D$737,'Flow Data'!H$6:H$737)","v":0.45672254533014012},{"$f":"((D186/100)*1000*E186*28.3168)*60*60*24","v":1153803128832.0002}]
["2002-03-05",31699,null,220,{"$f":"LOOKUP(A187,'Flow Data'!A$6:A$2928,'Flow Data'!B$6:B$2928)","v":131},{"$f":"LOOKUP(E187,'Flow Data'!D$6:D$737,'Flow Data'!H$6:H$737)","v":0.45672254533014012},{"$f":"((D187/100)*1000*E187*28.3168)*60*60*24","v":705101912063.99988}]
["2002-03-05",31699,null,300,{"$f":"LOOKUP(A188,'Flow Data'!A$6:A$2928,'Flow Data'!B$6:B$2928)","v":131},{"$f":"LOOKUP(E188,'Flow Data'!D$6:D$737,'Flow Data'!H$6:H$737)","v":0.45672254533014012},{"$f":"((D188/100)*1000*E188*28.3168)*60*60*24","v":961502607360}]
["2003-01-30",31699,null,2142,{"$f":"LOOKUP(A189,'Flow Data'!A$6:A$2928,'Flow Data'!B$6:B$2928)","v":127},{"$f":"LOOKUP(E189,'Flow Data'!D$6:D$737,'Flow Data'!H$6:H$737)","v":0.46424905918576787},{"$f":"((D189/100)*1000*E189*28.3168)*60*60*24","v":6655506368716.8008}]
["2003-01-30",31699,null,472,{"$f":"LOOKUP(A190,'Flow Data'!A$6:A$2928,'Flow Data'!B$6:B$2928)","v":127},{"$f":"LOOKUP(E190,'Flow Data'!D$6:D$737,'Flow Data'!H$6:H$737)","v":0.46424905918576787},{"$f":"((D190/100)*1000*E190*28.3168)*60*60*24","v":1466572831948.7998}]
["2003-01-30",31699,null,510,{"$f":"LOOKUP(A191,'Flow Data'!A$6:A$2928,'Flow Data'!B$6:B$2928)","v":127},{"$f":"LOOKUP(E191,'Flow Data'!D$6:D$737,'Flow Data'!H$6:H$737)","v":0.46424905918576787},{"$f":"((D191/100)*1000*E191*28.3168)*60*60*24","v":1584644373503.9998}]
["2003-01-30",31699,null,430,{"$f":"LOOKUP(A192,'Flow Data'!A$6:A$2928,'Flow Data'!B$6:B$2928)","v":127},{"$f":"LOOKUP(E192,'Flow Data'!D$6:D$737,'Flow Data'!H$6:H$737)","v":0.46424905918576787},{"$f":"((D192/100)*1000*E192*28.3168)*60*60*24","v":1336072707072.0002}]
["2003-01-30",31699,null,490,{"$f":"LOOKUP(A193,'Flow Data'!A$6:A$2928,'Flow Data'!B$6:B$2928)","v":127},{"$f":"LOOKUP(E193,'Flow Data'!D$6:D$737,'Flow Data'!H$6:H$737)","v":0.46424905918576787},{"$f":"((D193/100)*1000*E193*28.3168)*60*60*24","v":1522501456896.0002}]
["2003-01-30",31699,null,890,{"$f":"LOOKUP(A194,'Flow Data'!A$6:A$2928,'Flow Data'!B$6:B$2928)","v":127},{"$f":"LOOKUP(E194,'Flow Data'!D$6:D$737,'Flow Data'!H$6:H$737)","v":0.46424905918576787},{"$f":"((D194/100)*1000*E194*28.3168)*60*60*24","v":2765359789055.9995}]
["2002-04-01",31699,null,7000,{"$f":"LOOKUP(A195,'Flow Data'!A$6:A$2928,'Flow Data'!B$6:B$2928)","v":123},{"$f":"LOOKUP(E195,'Flow Data'!D$6:D$737,'Flow Data'!H$6:H$737)","v":0.47074923024290094},{"$f":"((D195/100)*1000*E195*28.3168)*60*60*24","v":21064980787200}]
["2002-04-01",31699,null,5100,{"$f":"LOOKUP(A196,'Flow Data'!A$6:A$2928,'Flow Data'!B$6:B$2928)","v":123},{"$f":"LOOKUP(E196,'Flow Data'!D$6:D$737,'Flow Data'!H$6:H$737)","v":0.47074923024290094},{"$f":"((D196/100)*1000*E196*28.3168)*60*60*24","v":15347343144960}]
["2002-04-01",31699,null,5200,{"$f":"LOOKUP(A197,'Flow Data'!A$6:A$2928,'Flow Data'!B$6:B$2928)","v":123},{"$f":"LOOKUP(E197,'Flow Data'!D$6:D$737,'Flow Data'!H$6:H$737)","v":0.47074923024290094},{"$f":"((D197/100)*1000*E197*28.3168)*60*60*24","v":15648271441920}]
["2002-04-01",31699,null,6100,{"$f":"LOOKUP(A198,'Flow Data'!A$6:A$2928,'Flow Data'!B$6:B$2928)","v":123},{"$f":"LOOKUP(E198,'Flow Data'!D$6:D$737,'Flow Data'!H$6:H$737)","v":0.47074923024290094},{"$f":"((D198/100)*1000*E198*28.3168)*60*60*24","v":18356626114560}]
["2002-04-01",31699,null,6000,{"$f":"LOOKUP(A199,'Flow Data'!A$6:A$2928,'Flow Data'!B$6:B$2928)","v":123},{"$f":"LOOKUP(E199,'Flow Data'!D$6:D$737,'Flow Data'!H$6:H$737)","v":0.47074923024290094},{"$f":"((D199/100)*1000*E199*28.3168)*60*60*24","v":18055697817600}]
["2002-03-11",31699,null,420,{"$f":"LOOKUP(A200,'Flow Data'!A$6:A$2928,'Flow Data'!B$6:B$2928)","v":120},{"$f":"LOOKUP(E200,'Flow Data'!D$6:D$737,'Flow Data'!H$6:H$737)","v":0.48067054396168307},{"$f":"((D200/100)*1000*E200*28.3168)*60*60*24","v":1233072046080.0002}]
["2002-03-11",31699,null,450,{"$f":"LOOKUP(A201,'Flow Data'!A$6:A$2928,'Flow Data'!B$6:B$2928)","v":120},{"$f":"LOOKUP(E201,'Flow Data'!D$6:D$737,'Flow Data'!H$6:H$737)","v":0.48067054396168307},{"$f":"((D201/100)*1000*E201*28.3168)*60*60*24","v":1321148620800}]
["2002-03-11",31699,null,380,{"$f":"LOOKUP(A202,'Flow Data'!A$6:A$2928,'Flow Data'!B$6:B$2928)","v":120},{"$f":"LOOKUP(E202,'Flow Data'!D$6:D$737,'Flow Data'!H$6:H$737)","v":0.48067054396168307},{"$f":"((D202/100)*1000*E202*28.3168)*60*60*24","v":1115636613120}]
["2002-03-11",31699,null,190,{"$f":"LOOKUP(A203,'Flow Data'!A$6:A$2928,'Flow Data'!B$6:B$2928)","v":120},{"$f":"LOOKUP(E203,'Flow Data'!D$6:D$737,'Flow Data'!H$6:H$737)","v":0.48067054396168307},{"$f":"((D203/100)*1000*E203*28.3168)*60*60*24","v":557818306560}]
["2003-03-11",31699,null,570,{"$f":"LOOKUP(A204,'Flow Data'!A$6:A$2928,'Flow Data'!B$6:B$2928)","v":119},{"$f":"LOOKUP(E204,'Flow Data'!D$6:D$737,'Flow Data'!H$6:H$737)","v":0.48306534382483735},{"$f":"((D204/100)*1000*E204*28.3168)*60*60*24","v":1659509462016}]
["2003-03-11",31699,null,640,{"$f":"LOOKUP(A205,'Flow Data'!A$6:A$2928,'Flow Data'!B$6:B$2928)","v":119},{"$f":"LOOKUP(E205,'Flow Data'!D$6:D$737,'Flow Data'!H$6:H$737)","v":0.48306534382483735},{"$f":"((D205/100)*1000*E205*28.3168)*60*60*24","v":1863308869632}]
["2003-03-11",31699,null,500,{"$f":"LOOKUP(A206,'Flow Data'!A$6:A$2928,'Flow Data'!B$6:B$2928)","v":119},{"$f":"LOOKUP(E206,'Flow Data'!D$6:D$737,'Flow Data'!H$6:H$737)","v":0.48306534382483735},{"$f":"((D206/100)*1000*E206*28.3168)*60*60*24","v":1455710054400}]
["2003-03-11",31699,null,580,{"$f":"LOOKUP(A207,'Flow Data'!A$6:A$2928,'Flow Data'!B$6:B$2928)","v":119},{"$f":"LOOKUP(E207,'Flow Data'!D$6:D$737,'Flow Data'!H$6:H$737)","v":0.48306534382483735},{"$f":"((D207/100)*1000*E207*28.3168)*60*60*24","v":1688623663104}]
["2003-03-11",31699,null,570,{"$f":"LOOKUP(A208,'Flow Data'!A$6:A$2928,'Flow Data'!B$6:B$2928)","v":119},{"$f":"LOOKUP(E208,'Flow Data'!D$6:D$737,'Flow Data'!H$6:H$737)","v":0.48306534382483735},{"$f":"((D208/100)*1000*E208*28.3168)*60*60*24","v":1659509462016}]
["2004-08-10",31699,null,85,{"$f":"LOOKUP(A209,'Flow Data'!A$6:A$2928,'Flow Data'!B$6:B$2928)","v":119},{"$f":"LOOKUP(E209,'Flow Data'!D$6:D$737,'Flow Data'!H$6:H$737)","v":0.48306534382483735},{"$f":"((D209/100)*1000*E209*28.3168)*60*60*24","v":247470709248}]
["2004-08-10",31699,null,660,{"$f":"LOOKUP(A210,'Flow Data'!A$6:A$2928,'Flow Data'!B$6:B$2928)","v":119},{"$f":"LOOKUP(E210,'Flow Data'!D$6:D$737,'Flow Data'!H$6:H$737)","v":0.48306534382483735},{"$f":"((D210/100)*1000*E210*28.3168)*60*60*24","v":1921537271807.9995}]
["2004-08-10",31699,null,650,{"$f":"LOOKUP(A211,'Flow Data'!A$6:A$2928,'Flow Data'!B$6:B$2928)","v":119},{"$f":"LOOKUP(E211,'Flow Data'!D$6:D$737,'Flow Data'!H$6:H$737)","v":0.48306534382483735},{"$f":"((D211/100)*1000*E211*28.3168)*60*60*24","v":1892423070720}]
["2004-08-10",31699,null,1500,{"$f":"LOOKUP(A212,'Flow Data'!A$6:A$2928,'Flow Data'!B$6:B$2928)","v":119},{"$f":"LOOKUP(E212,'Flow Data'!D$6:D$737,'Flow Data'!H$6:H$737)","v":0.48306534382483735},{"$f":"((D212/100)*1000*E212*28.3168)*60*60*24","v":4367130163200}]
["2003-02-18",31699,null,1000,{"$f":"LOOKUP(A213,'Flow Data'!A$6:A$2928,'Flow Data'!B$6:B$2928)","v":117},{"$f":"LOOKUP(E213,'Flow Data'!D$6:D$737,'Flow Data'!H$6:H$737)","v":0.48717071501881615},{"$f":"((D213/100)*1000*E213*28.3168)*60*60*24","v":2862488678400}]
["2003-02-18",31699,null,930,{"$f":"LOOKUP(A214,'Flow Data'!A$6:A$2928,'Flow Data'!B$6:B$2928)","v":117},{"$f":"LOOKUP(E214,'Flow Data'!D$6:D$737,'Flow Data'!H$6:H$737)","v":0.48717071501881615},{"$f":"((D214/100)*1000*E214*28.3168)*60*60*24","v":2662114470912.0005}]
["2003-02-18",31699,null,1000,{"$f":"LOOKUP(A215,'Flow Data'!A$6:A$2928,'Flow Data'!B$6:B$2928)","v":117},{"$f":"LOOKUP(E215,'Flow Data'!D$6:D$737,'Flow Data'!H$6:H$737)","v":0.48717071501881615},{"$f":"((D215/100)*1000*E215*28.3168)*60*60*24","v":2862488678400}]
["2003-02-18",31699,null,2400,{"$f":"LOOKUP(A216,'Flow Data'!A$6:A$2928,'Flow Data'!B$6:B$2928)","v":117},{"$f":"LOOKUP(E216,'Flow Data'!D$6:D$737,'Flow Data'!H$6:H$737)","v":0.48717071501881615},{"$f":"((D216/100)*1000*E216*28.3168)*60*60*24","v":6869972828160}]
["2003-03-20",31699,null,1700,{"$f":"LOOKUP(A217,'Flow Data'!A$6:A$2928,'Flow Data'!B$6:B$2928)","v":112},{"$f":"LOOKUP(E217,'Flow Data'!D$6:D$737,'Flow Data'!H$6:H$737)","v":0.49674991447143324},{"$f":"((D217/100)*1000*E217*28.3168)*60*60*24","v":4658272174080}]
["2003-03-20",31699,null,1700,{"$f":"LOOKUP(A218,'Flow Data'!A$6:A$2928,'Flow Data'!B$6:B$2928)","v":112},{"$f":"LOOKUP(E218,'Flow Data'!D$6:D$737,'Flow Data'!H$6:H$737)","v":0.49674991447143324},{"$f":"((D218/100)*1000*E218*28.3168)*60*60*24","v":4658272174080}]
["2003-03-20",31699,null,1500,{"$f":"LOOKUP(A219,'Flow Data'!A$6:A$2928,'Flow Data'!B$6:B$2928)","v":112},{"$f":"LOOKUP(E219,'Flow Data'!D$6:D$737,'Flow Data'!H$6:H$737)","v":0.49674991447143324},{"$f":"((D219/100)*1000*E219*28.3168)*60*60*24","v":4110240153600}]
["2003-03-20",31699,null,790,{"$f":"LOOKUP(A220,'Flow Data'!A$6:A$2928,'Flow Data'!B$6:B$2928)","v":112},{"$f":"LOOKUP(E220,'Flow Data'!D$6:D$737,'Flow Data'!H$6:H$737)","v":0.49674991447143324},{"$f":"((D220/100)*1000*E220*28.3168)*60*60*24","v":2164726480896}]
["2004-08-28",31699,null,31000,{"$f":"LOOKUP(A221,'Flow Data'!A$6:A$2928,'Flow Data'!B$6:B$2928)","v":111},{"$f":"LOOKUP(E221,'Flow Data'!D$6:D$737,'Flow Data'!H$6:H$737)","v":0.50119739993157697},{"$f":"((D221/100)*1000*E221*28.3168)*60*60*24","v":84186526003200}]
["2004-08-28",31699,null,7200,{"$f":"LOOKUP(A222,'Flow Data'!A$6:A$2928,'Flow Data'!B$6:B$2928)","v":111},{"$f":"LOOKUP(E222,'Flow Data'!D$6:D$737,'Flow Data'!H$6:H$737)","v":0.50119739993157697},{"$f":"((D222/100)*1000*E222*28.3168)*60*60*24","v":19552999587840}]
["2004-08-28",31699,null,49000,{"$f":"LOOKUP(A223,'Flow Data'!A$6:A$2928,'Flow Data'!B$6:B$2928)","v":111},{"$f":"LOOKUP(E223,'Flow Data'!D$6:D$737,'Flow Data'!H$6:H$737)","v":0.50119739993157697},{"$f":"((D223/100)*1000*E223*28.3168)*60*60*24","v":133069024972800}]
["2004-08-28",31699,null,3100,{"$f":"LOOKUP(A224,'Flow Data'!A$6:A$2928,'Flow Data'!B$6:B$2928)","v":111},{"$f":"LOOKUP(E224,'Flow Data'!D$6:D$737,'Flow Data'!H$6:H$737)","v":0.50119739993157697},{"$f":"((D224/100)*1000*E224*28.3168)*60*60*24","v":8418652600320}]
["2004-08-28",31699,null,24000,{"$f":"LOOKUP(A225,'Flow Data'!A$6:A$2928,'Flow Data'!B$6:B$2928)","v":111},{"$f":"LOOKUP(E225,'Flow Data'!D$6:D$737,'Flow Data'!H$6:H$737)","v":0.50119739993157697},{"$f":"((D225/100)*1000*E225*28.3168)*60*60*24","v":65176665292800}]
["2004-08-28",31699,null,3900,{"$f":"LOOKUP(A226,'Flow Data'!A$6:A$2928,'Flow Data'!B$6:B$2928)","v":111},{"$f":"LOOKUP(E226,'Flow Data'!D$6:D$737,'Flow Data'!H$6:H$737)","v":0.50119739993157697},{"$f":"((D226/100)*1000*E226*28.3168)*60*60*24","v":10591208110080}]
["2004-08-28",31699,null,3100,{"$f":"LOOKUP(A227,'Flow Data'!A$6:A$2928,'Flow Data'!B$6:B$2928)","v":111},{"$f":"LOOKUP(E227,'Flow Data'!D$6:D$737,'Flow Data'!H$6:H$737)","v":0.50119739993157697},{"$f":"((D227/100)*1000*E227*28.3168)*60*60*24","v":8418652600320}]
["2004-08-28",31699,null,82000,{"$f":"LOOKUP(A228,'Flow Data'!A$6:A$2928,'Flow Data'!B$6:B$2928)","v":111},{"$f":"LOOKUP(E228,'Flow Data'!D$6:D$737,'Flow Data'!H$6:H$737)","v":0.50119739993157697},{"$f":"((D228/100)*1000*E228*28.3168)*60*60*24","v":222686939750400}]
["2004-08-28",31699,null,2000,{"$f":"LOOKUP(A229,'Flow Data'!A$6:A$2928,'Flow Data'!B$6:B$2928)","v":111},{"$f":"LOOKUP(E229,'Flow Data'!D$6:D$737,'Flow Data'!H$6:H$737)","v":0.50119739993157697},{"$f":"((D229/100)*1000*E229*28.3168)*60*60*24","v":5431388774400}]
["2002-08-13",31699,null,10,{"$f":"LOOKUP(A230,'Flow Data'!A$6:A$2928,'Flow Data'!B$6:B$2928)","v":110},{"$f":"LOOKUP(E230,'Flow Data'!D$6:D$737,'Flow Data'!H$6:H$737)","v":0.50290797126240139},{"$f":"((D230/100)*1000*E230*28.3168)*60*60*24","v":26912286720}]
["2003-05-01",31699,null,70,{"$f":"LOOKUP(A231,'Flow Data'!A$6:A$2928,'Flow Data'!B$6:B$2928)","v":103},{"$f":"LOOKUP(E231,'Flow Data'!D$6:D$737,'Flow Data'!H$6:H$737)","v":0.52993499828942836},{"$f":"((D231/100)*1000*E231*28.3168)*60*60*24","v":176397806592}]
["2003-05-01",31699,null,340,{"$f":"LOOKUP(A232,'Flow Data'!A$6:A$2928,'Flow Data'!B$6:B$2928)","v":103},{"$f":"LOOKUP(E232,'Flow Data'!D$6:D$737,'Flow Data'!H$6:H$737)","v":0.52993499828942836},{"$f":"((D232/100)*1000*E232*28.3168)*60*60*24","v":856789346303.99976}]
["2003-05-01",31699,null,460,{"$f":"LOOKUP(A233,'Flow Data'!A$6:A$2928,'Flow Data'!B$6:B$2928)","v":103},{"$f":"LOOKUP(E233,'Flow Data'!D$6:D$737,'Flow Data'!H$6:H$737)","v":0.52993499828942836},{"$f":"((D233/100)*1000*E233*28.3168)*60*60*24","v":1159185586176}]
["2003-05-01",31699,null,860,{"$f":"LOOKUP(A234,'Flow Data'!A$6:A$2928,'Flow Data'!B$6:B$2928)","v":103},{"$f":"LOOKUP(E234,'Flow Data'!D$6:D$737,'Flow Data'!H$6:H$737)","v":0.52993499828942836},{"$f":"((D234/100)*1000*E234*28.3168)*60*60*24","v":2167173052416}]
["2003-12-11",31699,null,2500,{"$f":"LOOKUP(A235,'Flow Data'!A$6:A$2928,'Flow Data'!B$6:B$2928)","v":97},{"$f":"LOOKUP(E235,'Flow Data'!D$6:D$737,'Flow Data'!H$6:H$737)","v":0.55422511118713635},{"$f":"((D235/100)*1000*E235*28.3168)*60*60*24","v":5932935936000}]
["2003-12-11",31699,null,3400,{"$f":"LOOKUP(A236,'Flow Data'!A$6:A$2928,'Flow Data'!B$6:B$2928)","v":97},{"$f":"LOOKUP(E236,'Flow Data'!D$6:D$737,'Flow Data'!H$6:H$737)","v":0.55422511118713635},{"$f":"((D236/100)*1000*E236*28.3168)*60*60*24","v":8068792872960}]
["2003-12-11",31699,null,3700,{"$f":"LOOKUP(A237,'Flow Data'!A$6:A$2928,'Flow Data'!B$6:B$2928)","v":97},{"$f":"LOOKUP(E237,'Flow Data'!D$6:D$737,'Flow Data'!H$6:H$737)","v":0.55422511118713635},{"$f":"((D237/100)*1000*E237*28.3168)*60*60*24","v":8780745185280}]
["2003-12-11",31699,null,4900,{"$f":"LOOKUP(A238,'Flow Data'!A$6:A$2928,'Flow Data'!B$6:B$2928)","v":97},{"$f":"LOOKUP(E238,'Flow Data'!D$6:D$737,'Flow Data'!H$6:H$737)","v":0.55422511118713635},{"$f":"((D238/100)*1000*E238*28.3168)*60*60*24","v":11628554434560}]
["2004-08-19",31699,null,490,{"$f":"LOOKUP(A239,'Flow Data'!A$6:A$2928,'Flow Data'!B$6:B$2928)","v":97},{"$f":"LOOKUP(E239,'Flow Data'!D$6:D$737,'Flow Data'!H$6:H$737)","v":0.55422511118713635},{"$f":"((D239/100)*1000*E239*28.3168)*60*60*24","v":1162855443456.0002}]
["2004-08-19",31699,null,69,{"$f":"LOOKUP(A240,'Flow Data'!A$6:A$2928,'Flow Data'!B$6:B$2928)","v":97},{"$f":"LOOKUP(E240,'Flow Data'!D$6:D$737,'Flow Data'!H$6:H$737)","v":0.55422511118713635},{"$f":"((D240/100)*1000*E240*28.3168)*60*60*24","v":163749031833.60001}]
["2004-08-19",31699,null,8500,{"$f":"LOOKUP(A241,'Flow Data'!A$6:A$2928,'Flow Data'!B$6:B$2928)","v":97},{"$f":"LOOKUP(E241,'Flow Data'!D$6:D$737,'Flow Data'!H$6:H$737)","v":0.55422511118713635},{"$f":"((D241/100)*1000*E241*28.3168)*60*60*24","v":20171982182400}]
["2004-08-19",31699,null,4800,{"$f":"LOOKUP(A242,'Flow Data'!A$6:A$2928,'Flow Data'!B$6:B$2928)","v":97},{"$f":"LOOKUP(E242,'Flow Data'!D$6:D$737,'Flow Data'!H$6:H$737)","v":0.55422511118713635},{"$f":"((D242/100)*1000*E242*28.3168)*60*60*24","v":11391236997120}]
["2004-08-19",31699,null,92000,{"$f":"LOOKUP(A243,'Flow Data'!A$6:A$2928,'Flow Data'!B$6:B$2928)","v":97},{"$f":"LOOKUP(E243,'Flow Data'!D$6:D$737,'Flow Data'!H$6:H$737)","v":0.55422511118713635},{"$f":"((D243/100)*1000*E243*28.3168)*60*60*24","v":218332042444800}]
["2004-08-19",31699,null,960,{"$f":"LOOKUP(A244,'Flow Data'!A$6:A$2928,'Flow Data'!B$6:B$2928)","v":97},{"$f":"LOOKUP(E244,'Flow Data'!D$6:D$737,'Flow Data'!H$6:H$737)","v":0.55422511118713635},{"$f":"((D244/100)*1000*E244*28.3168)*60*60*24","v":2278247399424}]
["2004-08-19",31699,null,110000,{"$f":"LOOKUP(A245,'Flow Data'!A$6:A$2928,'Flow Data'!B$6:B$2928)","v":97},{"$f":"LOOKUP(E245,'Flow Data'!D$6:D$737,'Flow Data'!H$6:H$737)","v":0.55422511118713635},{"$f":"((D245/100)*1000*E245*28.3168)*60*60*24","v":261049181184000}]
["2004-08-19",31699,null,1200,{"$f":"LOOKUP(A246,'Flow Data'!A$6:A$2928,'Flow Data'!B$6:B$2928)","v":97},{"$f":"LOOKUP(E246,'Flow Data'!D$6:D$737,'Flow Data'!H$6:H$737)","v":0.55422511118713635},{"$f":"((D246/100)*1000*E246*28.3168)*60*60*24","v":2847809249280}]
["2004-08-19",31699,null,20000,{"$f":"LOOKUP(A247,'Flow Data'!A$6:A$2928,'Flow Data'!B$6:B$2928)","v":97},{"$f":"LOOKUP(E247,'Flow Data'!D$6:D$737,'Flow Data'!H$6:H$737)","v":0.55422511118713635},{"$f":"((D247/100)*1000*E247*28.3168)*60*60*24","v":47463487488000}]
["2004-08-19",31699,null,1100,{"$f":"LOOKUP(A248,'Flow Data'!A$6:A$2928,'Flow Data'!B$6:B$2928)","v":97},{"$f":"LOOKUP(E248,'Flow Data'!D$6:D$737,'Flow Data'!H$6:H$737)","v":0.55422511118713635},{"$f":"((D248/100)*1000*E248*28.3168)*60*60*24","v":2610491811840}]
["2004-10-14",31699,null,1200,{"$f":"LOOKUP(A249,'Flow Data'!A$6:A$2928,'Flow Data'!B$6:B$2928)","v":97},{"$f":"LOOKUP(E249,'Flow Data'!D$6:D$737,'Flow Data'!H$6:H$737)","v":0.55422511118713635},{"$f":"((D249/100)*1000*E249*28.3168)*60*60*24","v":2847809249280}]
["2004-10-14",31699,null,1300,{"$f":"LOOKUP(A250,'Flow Data'!A$6:A$2928,'Flow Data'!B$6:B$2928)","v":97},{"$f":"LOOKUP(E250,'Flow Data'!D$6:D$737,'Flow Data'!H$6:H$737)","v":0.55422511118713635},{"$f":"((D250/100)*1000*E250*28.3168)*60*60*24","v":3085126686720.0005}]
["2004-10-14",31699,null,1800,{"$f":"LOOKUP(A251,'Flow Data'!A$6:A$2928,'Flow Data'!B$6:B$2928)","v":97},{"$f":"LOOKUP(E251,'Flow Data'!D$6:D$737,'Flow Data'!H$6:H$737)","v":0.55422511118713635},{"$f":"((D251/100)*1000*E251*28.3168)*60*60*24","v":4271713873920.001}]
["2004-10-14",31699,null,6600,{"$f":"LOOKUP(A252,'Flow Data'!A$6:A$2928,'Flow Data'!B$6:B$2928)","v":97},{"$f":"LOOKUP(E252,'Flow Data'!D$6:D$737,'Flow Data'!H$6:H$737)","v":0.55422511118713635},{"$f":"((D252/100)*1000*E252*28.3168)*60*60*24","v":15662950871040}]
["2004-08-05",31699,null,720,{"$f":"LOOKUP(A253,'Flow Data'!A$6:A$2928,'Flow Data'!B$6:B$2928)","v":95},{"$f":"LOOKUP(E253,'Flow Data'!D$6:D$737,'Flow Data'!H$6:H$737)","v":0.56277796784125877},{"$f":"((D253/100)*1000*E253*28.3168)*60*60*24","v":1673454919680}]
["2004-08-05",31699,null,410,{"$f":"LOOKUP(A254,'Flow Data'!A$6:A$2928,'Flow Data'!B$6:B$2928)","v":95},{"$f":"LOOKUP(E254,'Flow Data'!D$6:D$737,'Flow Data'!H$6:H$737)","v":0.56277796784125877},{"$f":"((D254/100)*1000*E254*28.3168)*60*60*24","v":952939607040}]
["2004-08-05",31699,null,480,{"$f":"LOOKUP(A255,'Flow Data'!A$6:A$2928,'Flow Data'!B$6:B$2928)","v":95},{"$f":"LOOKUP(E255,'Flow Data'!D$6:D$737,'Flow Data'!H$6:H$737)","v":0.56277796784125877},{"$f":"((D255/100)*1000*E255*28.3168)*60*60*24","v":1115636613120}]
["2004-08-05",31699,null,410,{"$f":"LOOKUP(A256,'Flow Data'!A$6:A$2928,'Flow Data'!B$6:B$2928)","v":95},{"$f":"LOOKUP(E256,'Flow Data'!D$6:D$737,'Flow Data'!H$6:H$737)","v":0.56277796784125877},{"$f":"((D256/100)*1000*E256*28.3168)*60*60*24","v":952939607040}]
["2004-08-05",31699,null,280,{"$f":"LOOKUP(A257,'Flow Data'!A$6:A$2928,'Flow Data'!B$6:B$2928)","v":95},{"$f":"LOOKUP(E257,'Flow Data'!D$6:D$737,'Flow Data'!H$6:H$737)","v":0.56277796784125877},{"$f":"((D257/100)*1000*E257*28.3168)*60*60*24","v":650788024320}]
["2001-05-29",31699,null,780,{"$f":"LOOKUP(A258,'Flow Data'!A$6:A$2928,'Flow Data'!B$6:B$2928)","v":90},{"$f":"LOOKUP(E258,'Flow Data'!D$6:D$737,'Flow Data'!H$6:H$737)","v":0.5877523092712964},{"$f":"((D258/100)*1000*E258*28.3168)*60*60*24","v":1717493207040}]
["2003-04-07",31699,null,1300,{"$f":"LOOKUP(A259,'Flow Data'!A$6:A$2928,'Flow Data'!B$6:B$2928)","v":84},{"$f":"LOOKUP(E259,'Flow Data'!D$6:D$737,'Flow Data'!H$6:H$737)","v":0.61683202189531294},{"$f":"((D259/100)*1000*E259*28.3168)*60*60*24","v":2671656099840}]
["2003-04-07",31699,null,580,{"$f":"LOOKUP(A260,'Flow Data'!A$6:A$2928,'Flow Data'!B$6:B$2928)","v":84},{"$f":"LOOKUP(E260,'Flow Data'!D$6:D$737,'Flow Data'!H$6:H$737)","v":0.61683202189531294},{"$f":"((D260/100)*1000*E260*28.3168)*60*60*24","v":1191969644544}]
["2003-04-07",31699,null,580,{"$f":"LOOKUP(A261,'Flow Data'!A$6:A$2928,'Flow Data'!B$6:B$2928)","v":84},{"$f":"LOOKUP(E261,'Flow Data'!D$6:D$737,'Flow Data'!H$6:H$737)","v":0.61683202189531294},{"$f":"((D261/100)*1000*E261*28.3168)*60*60*24","v":1191969644544}]
["2003-04-07",31699,null,1800,{"$f":"LOOKUP(A262,'Flow Data'!A$6:A$2928,'Flow Data'!B$6:B$2928)","v":84},{"$f":"LOOKUP(E262,'Flow Data'!D$6:D$737,'Flow Data'!H$6:H$737)","v":0.61683202189531294},{"$f":"((D262/100)*1000*E262*28.3168)*60*60*24","v":3699216138240}]
["2003-04-07",31699,null,1600,{"$f":"LOOKUP(A263,'Flow Data'!A$6:A$2928,'Flow Data'!B$6:B$2928)","v":84},{"$f":"LOOKUP(E263,'Flow Data'!D$6:D$737,'Flow Data'!H$6:H$737)","v":0.61683202189531294},{"$f":"((D263/100)*1000*E263*28.3168)*60*60*24","v":3288192122880}]
["2003-06-25",31699,null,340,{"$f":"LOOKUP(A264,'Flow Data'!A$6:A$2928,'Flow Data'!B$6:B$2928)","v":82},{"$f":"LOOKUP(E264,'Flow Data'!D$6:D$737,'Flow Data'!H$6:H$737)","v":0.62709544988025989},{"$f":"((D264/100)*1000*E264*28.3168)*60*60*24","v":682104139776}]
["2003-06-25",31699,null,310,{"$f":"LOOKUP(A265,'Flow Data'!A$6:A$2928,'Flow Data'!B$6:B$2928)","v":82},{"$f":"LOOKUP(E265,'Flow Data'!D$6:D$737,'Flow Data'!H$6:H$737)","v":0.62709544988025989},{"$f":"((D265/100)*1000*E265*28.3168)*60*60*24","v":621918480384}]
["2003-06-25",31699,null,430,{"$f":"LOOKUP(A266,'Flow Data'!A$6:A$2928,'Flow Data'!B$6:B$2928)","v":82},{"$f":"LOOKUP(E266,'Flow Data'!D$6:D$737,'Flow Data'!H$6:H$737)","v":0.62709544988025989},{"$f":"((D266/100)*1000*E266*28.3168)*60*60*24","v":862661117952}]
["2003-06-25",31699,null,460,{"$f":"LOOKUP(A267,'Flow Data'!A$6:A$2928,'Flow Data'!B$6:B$2928)","v":82},{"$f":"LOOKUP(E267,'Flow Data'!D$6:D$737,'Flow Data'!H$6:H$737)","v":0.62709544988025989},{"$f":"((D267/100)*1000*E267*28.3168)*60*60*24","v":922846777344}]
["2003-01-22",31699,null,3900,{"$f":"LOOKUP(A268,'Flow Data'!A$6:A$2928,'Flow Data'!B$6:B$2928)","v":81},{"$f":"LOOKUP(E268,'Flow Data'!D$6:D$737,'Flow Data'!H$6:H$737)","v":0.63256927813889829},{"$f":"((D268/100)*1000*E268*28.3168)*60*60*24","v":7728719431680}]
["2003-01-22",31699,null,460,{"$f":"LOOKUP(A269,'Flow Data'!A$6:A$2928,'Flow Data'!B$6:B$2928)","v":81},{"$f":"LOOKUP(E269,'Flow Data'!D$6:D$737,'Flow Data'!H$6:H$737)","v":0.63256927813889829},{"$f":"((D269/100)*1000*E269*28.3168)*60*60*24","v":911592548352}]
["2003-01-22",31699,null,490,{"$f":"LOOKUP(A270,'Flow Data'!A$6:A$2928,'Flow Data'!B$6:B$2928)","v":81},{"$f":"LOOKUP(E270,'Flow Data'!D$6:D$737,'Flow Data'!H$6:H$737)","v":0.63256927813889829},{"$f":"((D270/100)*1000*E270*28.3168)*60*60*24","v":971044236288}]
["2003-01-22",31699,null,860,{"$f":"LOOKUP(A271,'Flow Data'!A$6:A$2928,'Flow Data'!B$6:B$2928)","v":81},{"$f":"LOOKUP(E271,'Flow Data'!D$6:D$737,'Flow Data'!H$6:H$737)","v":0.63256927813889829},{"$f":"((D271/100)*1000*E271*28.3168)*60*60*24","v":1704281720832}]
["2003-01-22",31699,null,760,{"$f":"LOOKUP(A272,'Flow Data'!A$6:A$2928,'Flow Data'!B$6:B$2928)","v":81},{"$f":"LOOKUP(E272,'Flow Data'!D$6:D$737,'Flow Data'!H$6:H$737)","v":0.63256927813889829},{"$f":"((D272/100)*1000*E272*28.3168)*60*60*24","v":1506109427712.0002}]
["2002-02-20",31699,"<",10,{"$f":"LOOKUP(A273,'Flow Data'!A$6:A$2928,'Flow Data'!B$6:B$2928)","v":79},{"$f":"LOOKUP(E273,'Flow Data'!D$6:D$737,'Flow Data'!H$6:H$737)","v":0.64420116318850484},{"$f":"((D273/100)*1000*E273*28.3168)*60*60*24","v":19327915008}]
["2002-02-20",31699,"<",10,{"$f":"LOOKUP(A274,'Flow Data'!A$6:A$2928,'Flow Data'!B$6:B$2928)","v":79},{"$f":"LOOKUP(E274,'Flow Data'!D$6:D$737,'Flow Data'!H$6:H$737)","v":0.64420116318850484},{"$f":"((D274/100)*1000*E274*28.3168)*60*60*24","v":19327915008}]
["2002-02-20",31699,null,1100,{"$f":"LOOKUP(A275,'Flow Data'!A$6:A$2928,'Flow Data'!B$6:B$2928)","v":79},{"$f":"LOOKUP(E275,'Flow Data'!D$6:D$737,'Flow Data'!H$6:H$737)","v":0.64420116318850484},{"$f":"((D275/100)*1000*E275*28.3168)*60*60*24","v":2126070650880}]
["2002-02-20",31699,null,720,{"$f":"LOOKUP(A276,'Flow Data'!A$6:A$2928,'Flow Data'!B$6:B$2928)","v":79},{"$f":"LOOKUP(E276,'Flow Data'!D$6:D$737,'Flow Data'!H$6:H$737)","v":0.64420116318850484},{"$f":"((D276/100)*1000*E276*28.3168)*60*60*24","v":1391609880576}]
["2004-08-09",31699,null,550,{"$f":"LOOKUP(A277,'Flow Data'!A$6:A$2928,'Flow Data'!B$6:B$2928)","v":76},{"$f":"LOOKUP(E277,'Flow Data'!D$6:D$737,'Flow Data'!H$6:H$737)","v":0.66335956209373925},{"$f":"((D277/100)*1000*E277*28.3168)*60*60*24","v":1022666895360}]
["2004-08-09",31699,null,96,{"$f":"LOOKUP(A278,'Flow Data'!A$6:A$2928,'Flow Data'!B$6:B$2928)","v":76},{"$f":"LOOKUP(E278,'Flow Data'!D$6:D$737,'Flow Data'!H$6:H$737)","v":0.66335956209373925},{"$f":"((D278/100)*1000*E278*28.3168)*60*60*24","v":178501858099.20001}]
["2003-11-03",31699,null,280,{"$f":"LOOKUP(A279,'Flow Data'!A$6:A$2928,'Flow Data'!B$6:B$2928)","v":75},{"$f":"LOOKUP(E279,'Flow Data'!D$6:D$737,'Flow Data'!H$6:H$737)","v":0.66712281902155313},{"$f":"((D279/100)*1000*E279*28.3168)*60*60*24","v":513780019200}]
["2003-11-03",31699,null,520,{"$f":"LOOKUP(A280,'Flow Data'!A$6:A$2928,'Flow Data'!B$6:B$2928)","v":75},{"$f":"LOOKUP(E280,'Flow Data'!D$6:D$737,'Flow Data'!H$6:H$737)","v":0.66712281902155313},{"$f":"((D280/100)*1000*E280*28.3168)*60*60*24","v":954162892800}]
["2003-11-03",31699,null,230,{"$f":"LOOKUP(A281,'Flow Data'!A$6:A$2928,'Flow Data'!B$6:B$2928)","v":75},{"$f":"LOOKUP(E281,'Flow Data'!D$6:D$737,'Flow Data'!H$6:H$737)","v":0.66712281902155313},{"$f":"((D281/100)*1000*E281*28.3168)*60*60*24","v":422033587200}]
["2003-11-03",31699,null,240,{"$f":"LOOKUP(A282,'Flow Data'!A$6:A$2928,'Flow Data'!B$6:B$2928)","v":75},{"$f":"LOOKUP(E282,'Flow Data'!D$6:D$737,'Flow Data'!H$6:H$737)","v":0.66712281902155313},{"$f":"((D282/100)*1000*E282*28.3168)*60*60*24","v":440382873600}]
["2003-11-03",31699,null,290,{"$f":"LOOKUP(A283,'Flow Data'!A$6:A$2928,'Flow Data'!B$6:B$2928)","v":75},{"$f":"LOOKUP(E283,'Flow Data'!D$6:D$737,'Flow Data'!H$6:H$737)","v":0.66712281902155313},{"$f":"((D283/100)*1000*E283*28.3168)*60*60*24","v":532129305600}]
["2002-08-05",31699,null,32000,{"$f":"LOOKUP(A284,'Flow Data'!A$6:A$2928,'Flow Data'!B$6:B$2928)","v":74},{"$f":"LOOKUP(E284,'Flow Data'!D$6:D$737,'Flow Data'!H$6:H$737)","v":0.67670201847417033},{"$f":"((D284/100)*1000*E284*28.3168)*60*60*24","v":57934813593600}]
["2002-08-05",31699,null,15000,{"$f":"LOOKUP(A285,'Flow Data'!A$6:A$2928,'Flow Data'!B$6:B$2928)","v":74},{"$f":"LOOKUP(E285,'Flow Data'!D$6:D$737,'Flow Data'!H$6:H$737)","v":0.67670201847417033},{"$f":"((D285/100)*1000*E285*28.3168)*60*60*24","v":27156943872000}]
["2002-08-05",31699,null,10000,{"$f":"LOOKUP(A286,'Flow Data'!A$6:A$2928,'Flow Data'!B$6:B$2928)","v":74},{"$f":"LOOKUP(E286,'Flow Data'!D$6:D$737,'Flow Data'!H$6:H$737)","v":0.67670201847417033},{"$f":"((D286/100)*1000*E286*28.3168)*60*60*24","v":18104629248000}]
["2002-08-05",31699,null,31000,{"$f":"LOOKUP(A287,'Flow Data'!A$6:A$2928,'Flow Data'!B$6:B$2928)","v":74},{"$f":"LOOKUP(E287,'Flow Data'!D$6:D$737,'Flow Data'!H$6:H$737)","v":0.67670201847417033},{"$f":"((D287/100)*1000*E287*28.3168)*60*60*24","v":56124350668800}]
["2002-08-05",31699,null,16000,{"$f":"LOOKUP(A288,'Flow Data'!A$6:A$2928,'Flow Data'!B$6:B$2928)","v":74},{"$f":"LOOKUP(E288,'Flow Data'!D$6:D$737,'Flow Data'!H$6:H$737)","v":0.67670201847417033},{"$f":"((D288/100)*1000*E288*28.3168)*60*60*24","v":28967406796800}]
["2003-09-03",31699,null,9100,{"$f":"LOOKUP(A289,'Flow Data'!A$6:A$2928,'Flow Data'!B$6:B$2928)","v":71},{"$f":"LOOKUP(E289,'Flow Data'!D$6:D$737,'Flow Data'!H$6:H$737)","v":0.6982552172425589},{"$f":"((D289/100)*1000*E289*28.3168)*60*60*24","v":15807298590720}]
["2003-09-03",31699,null,9100,{"$f":"LOOKUP(A290,'Flow Data'!A$6:A$2928,'Flow Data'!B$6:B$2928)","v":71},{"$f":"LOOKUP(E290,'Flow Data'!D$6:D$737,'Flow Data'!H$6:H$737)","v":0.6982552172425589},{"$f":"((D290/100)*1000*E290*28.3168)*60*60*24","v":15807298590720}]
["2003-09-03",31699,null,5500,{"$f":"LOOKUP(A291,'Flow Data'!A$6:A$2928,'Flow Data'!B$6:B$2928)","v":71},{"$f":"LOOKUP(E291,'Flow Data'!D$6:D$737,'Flow Data'!H$6:H$737)","v":0.6982552172425589},{"$f":"((D291/100)*1000*E291*28.3168)*60*60*24","v":9553861785600}]
["2003-09-03",31699,null,4900,{"$f":"LOOKUP(A292,'Flow Data'!A$6:A$2928,'Flow Data'!B$6:B$2928)","v":71},{"$f":"LOOKUP(E292,'Flow Data'!D$6:D$737,'Flow Data'!H$6:H$737)","v":0.6982552172425589},{"$f":"((D292/100)*1000*E292*28.3168)*60*60*24","v":8511622318080}]
["2003-09-03",31699,null,6800,{"$f":"LOOKUP(A293,'Flow Data'!A$6:A$2928,'Flow Data'!B$6:B$2928)","v":71},{"$f":"LOOKUP(E293,'Flow Data'!D$6:D$737,'Flow Data'!H$6:H$737)","v":0.6982552172425589},{"$f":"((D293/100)*1000*E293*28.3168)*60*60*24","v":11812047298560}]
["2001-07-16",31699,null,909,{"$f":"LOOKUP(A294,'Flow Data'!A$6:A$2928,'Flow Data'!B$6:B$2928)","v":69},{"$f":"LOOKUP(E294,'Flow Data'!D$6:D$737,'Flow Data'!H$6:H$737)","v":0.71193978788915491},{"$f":"((D294/100)*1000*E294*28.3168)*60*60*24","v":1534514123059.2}]
["2003-11-04",31699,null,110,{"$f":"LOOKUP(A295,'Flow Data'!A$6:A$2928,'Flow Data'!B$6:B$2928)","v":68},{"$f":"LOOKUP(E295,'Flow Data'!D$6:D$737,'Flow Data'!H$6:H$737)","v":0.71946630174478265},{"$f":"((D295/100)*1000*E295*28.3168)*60*60*24","v":183003549696}]
["2003-11-04",31699,null,770,{"$f":"LOOKUP(A296,'Flow Data'!A$6:A$2928,'Flow Data'!B$6:B$2928)","v":68},{"$f":"LOOKUP(E296,'Flow Data'!D$6:D$737,'Flow Data'!H$6:H$737)","v":0.71946630174478265},{"$f":"((D296/100)*1000*E296*28.3168)*60*60*24","v":1281024847872.0002}]
["2003-11-04",31699,null,340,{"$f":"LOOKUP(A297,'Flow Data'!A$6:A$2928,'Flow Data'!B$6:B$2928)","v":68},{"$f":"LOOKUP(E297,'Flow Data'!D$6:D$737,'Flow Data'!H$6:H$737)","v":0.71946630174478265},{"$f":"((D297/100)*1000*E297*28.3168)*60*60*24","v":565647335424}]
["2003-11-04",31699,null,300,{"$f":"LOOKUP(A298,'Flow Data'!A$6:A$2928,'Flow Data'!B$6:B$2928)","v":68},{"$f":"LOOKUP(E298,'Flow Data'!D$6:D$737,'Flow Data'!H$6:H$737)","v":0.71946630174478265},{"$f":"((D298/100)*1000*E298*28.3168)*60*60*24","v":499100590080}]
["2004-06-02",31699,null,610,{"$f":"LOOKUP(A299,'Flow Data'!A$6:A$2928,'Flow Data'!B$6:B$2928)","v":64},{"$f":"LOOKUP(E299,'Flow Data'!D$6:D$737,'Flow Data'!H$6:H$737)","v":0.75025658569962372},{"$f":"((D299/100)*1000*E299*28.3168)*60*60*24","v":955141521408}]
["2004-06-02",31699,null,320,{"$f":"LOOKUP(A300,'Flow Data'!A$6:A$2928,'Flow Data'!B$6:B$2928)","v":64},{"$f":"LOOKUP(E300,'Flow Data'!D$6:D$737,'Flow Data'!H$6:H$737)","v":0.75025658569962372},{"$f":"((D300/100)*1000*E300*28.3168)*60*60*24","v":501057847296.00012}]
["2004-06-02",31699,null,260,{"$f":"LOOKUP(A301,'Flow Data'!A$6:A$2928,'Flow Data'!B$6:B$2928)","v":64},{"$f":"LOOKUP(E301,'Flow Data'!D$6:D$737,'Flow Data'!H$6:H$737)","v":0.75025658569962372},{"$f":"((D301/100)*1000*E301*28.3168)*60*60*24","v":407109500928.00012}]
["2004-06-02",31699,null,300,{"$f":"LOOKUP(A302,'Flow Data'!A$6:A$2928,'Flow Data'!B$6:B$2928)","v":64},{"$f":"LOOKUP(E302,'Flow Data'!D$6:D$737,'Flow Data'!H$6:H$737)","v":0.75025658569962372},{"$f":"((D302/100)*1000*E302*28.3168)*60*60*24","v":469741731840.00012}]
["2004-06-02",31699,null,210,{"$f":"LOOKUP(A303,'Flow Data'!A$6:A$2928,'Flow Data'!B$6:B$2928)","v":64},{"$f":"LOOKUP(E303,'Flow Data'!D$6:D$737,'Flow Data'!H$6:H$737)","v":0.75025658569962372},{"$f":"((D303/100)*1000*E303*28.3168)*60*60*24","v":328819212288}]
["2001-02-13",31699,null,335,{"$f":"LOOKUP(A304,'Flow Data'!A$6:A$2928,'Flow Data'!B$6:B$2928)","v":61},{"$f":"LOOKUP(E304,'Flow Data'!D$6:D$737,'Flow Data'!H$6:H$737)","v":0.77352035579883682},{"$f":"((D304/100)*1000*E304*28.3168)*60*60*24","v":499956890112}]
["2001-02-13",31699,null,3873,{"$f":"LOOKUP(A305,'Flow Data'!A$6:A$2928,'Flow Data'!B$6:B$2928)","v":61},{"$f":"LOOKUP(E305,'Flow Data'!D$6:D$737,'Flow Data'!H$6:H$737)","v":0.77352035579883682},{"$f":"((D305/100)*1000*E305*28.3168)*60*60*24","v":5780098613145.6006}]
["2003-02-04",31699,null,1200,{"$f":"LOOKUP(A306,'Flow Data'!A$6:A$2928,'Flow Data'!B$6:B$2928)","v":61},{"$f":"LOOKUP(E306,'Flow Data'!D$6:D$737,'Flow Data'!H$6:H$737)","v":0.77352035579883682},{"$f":"((D306/100)*1000*E306*28.3168)*60*60*24","v":1790890352640}]
["2003-02-04",31699,null,1000,{"$f":"LOOKUP(A307,'Flow Data'!A$6:A$2928,'Flow Data'!B$6:B$2928)","v":61},{"$f":"LOOKUP(E307,'Flow Data'!D$6:D$737,'Flow Data'!H$6:H$737)","v":0.77352035579883682},{"$f":"((D307/100)*1000*E307*28.3168)*60*60*24","v":1492408627200}]
["2003-02-04",31699,null,570,{"$f":"LOOKUP(A308,'Flow Data'!A$6:A$2928,'Flow Data'!B$6:B$2928)","v":61},{"$f":"LOOKUP(E308,'Flow Data'!D$6:D$737,'Flow Data'!H$6:H$737)","v":0.77352035579883682},{"$f":"((D308/100)*1000*E308*28.3168)*60*60*24","v":850672917503.99976}]
["2003-02-04",31699,null,1700,{"$f":"LOOKUP(A309,'Flow Data'!A$6:A$2928,'Flow Data'!B$6:B$2928)","v":61},{"$f":"LOOKUP(E309,'Flow Data'!D$6:D$737,'Flow Data'!H$6:H$737)","v":0.77352035579883682},{"$f":"((D309/100)*1000*E309*28.3168)*60*60*24","v":2537094666240}]
["2003-02-04",31699,null,2000,{"$f":"LOOKUP(A310,'Flow Data'!A$6:A$2928,'Flow Data'!B$6:B$2928)","v":61},{"$f":"LOOKUP(E310,'Flow Data'!D$6:D$737,'Flow Data'!H$6:H$737)","v":0.77352035579883682},{"$f":"((D310/100)*1000*E310*28.3168)*60*60*24","v":2984817254400}]
["2002-10-03",31699,null,930,{"$f":"LOOKUP(A311,'Flow Data'!A$6:A$2928,'Flow Data'!B$6:B$2928)","v":60},{"$f":"LOOKUP(E311,'Flow Data'!D$6:D$737,'Flow Data'!H$6:H$737)","v":0.78241532671912417},{"$f":"((D311/100)*1000*E311*28.3168)*60*60*24","v":1365186908160}]
["2002-10-03",31699,null,420,{"$f":"LOOKUP(A312,'Flow Data'!A$6:A$2928,'Flow Data'!B$6:B$2928)","v":60},{"$f":"LOOKUP(E312,'Flow Data'!D$6:D$737,'Flow Data'!H$6:H$737)","v":0.78241532671912417},{"$f":"((D312/100)*1000*E312*28.3168)*60*60*24","v":616536023040.00012}]
["2002-10-03",31699,null,2100,{"$f":"LOOKUP(A313,'Flow Data'!A$6:A$2928,'Flow Data'!B$6:B$2928)","v":60},{"$f":"LOOKUP(E313,'Flow Data'!D$6:D$737,'Flow Data'!H$6:H$737)","v":0.78241532671912417},{"$f":"((D313/100)*1000*E313*28.3168)*60*60*24","v":3082680115200}]
["2002-10-03",31699,null,1800,{"$f":"LOOKUP(A314,'Flow Data'!A$6:A$2928,'Flow Data'!B$6:B$2928)","v":60},{"$f":"LOOKUP(E314,'Flow Data'!D$6:D$737,'Flow Data'!H$6:H$737)","v":0.78241532671912417},{"$f":"((D314/100)*1000*E314*28.3168)*60*60*24","v":2642297241600}]
["2002-10-03",31699,null,150,{"$f":"LOOKUP(A315,'Flow Data'!A$6:A$2928,'Flow Data'!B$6:B$2928)","v":60},{"$f":"LOOKUP(E315,'Flow Data'!D$6:D$737,'Flow Data'!H$6:H$737)","v":0.78241532671912417},{"$f":"((D315/100)*1000*E315*28.3168)*60*60*24","v":220191436800}]
["2003-08-04",31699,null,520,{"$f":"LOOKUP(A316,'Flow Data'!A$6:A$2928,'Flow Data'!B$6:B$2928)","v":59},{"$f":"LOOKUP(E316,'Flow Data'!D$6:D$737,'Flow Data'!H$6:H$737)","v":0.79028395484091685},{"$f":"((D316/100)*1000*E316*28.3168)*60*60*24","v":750608142336.00012}]
["2003-08-04",31699,null,560,{"$f":"LOOKUP(A317,'Flow Data'!A$6:A$2928,'Flow Data'!B$6:B$2928)","v":59},{"$f":"LOOKUP(E317,'Flow Data'!D$6:D$737,'Flow Data'!H$6:H$737)","v":0.79028395484091685},{"$f":"((D317/100)*1000*E317*28.3168)*60*60*24","v":808347230208.00012}]
["2003-08-04",31699,null,460,{"$f":"LOOKUP(A318,'Flow Data'!A$6:A$2928,'Flow Data'!B$6:B$2928)","v":59},{"$f":"LOOKUP(E318,'Flow Data'!D$6:D$737,'Flow Data'!H$6:H$737)","v":0.79028395484091685},{"$f":"((D318/100)*1000*E318*28.3168)*60*60*24","v":663999510528.00012}]
["2003-08-04",31699,null,250,{"$f":"LOOKUP(A319,'Flow Data'!A$6:A$2928,'Flow Data'!B$6:B$2928)","v":59},{"$f":"LOOKUP(E319,'Flow Data'!D$6:D$737,'Flow Data'!H$6:H$737)","v":0.79028395484091685},{"$f":"((D319/100)*1000*E319*28.3168)*60*60*24","v":360869299200}]
["2003-08-04",31699,null,290,{"$f":"LOOKUP(A320,'Flow Data'!A$6:A$2928,'Flow Data'!B$6:B$2928)","v":59},{"$f":"LOOKUP(E320,'Flow Data'!D$6:D$737,'Flow Data'!H$6:H$737)","v":0.79028395484091685},{"$f":"((D320/100)*1000*E320*28.3168)*60*60*24","v":418608387072}]
["2004-08-27",31699,null,530,{"$f":"LOOKUP(A321,'Flow Data'!A$6:A$2928,'Flow Data'!B$6:B$2928)","v":59},{"$f":"LOOKUP(E321,'Flow Data'!D$6:D$737,'Flow Data'!H$6:H$737)","v":0.79028395484091685},{"$f":"((D321/100)*1000*E321*28.3168)*60*60*24","v":765042914303.99988}]
["2004-08-27",31699,null,590,{"$f":"LOOKUP(A322,'Flow Data'!A$6:A$2928,'Flow Data'!B$6:B$2928)","v":59},{"$f":"LOOKUP(E322,'Flow Data'!D$6:D$737,'Flow Data'!H$6:H$737)","v":0.79028395484091685},{"$f":"((D322/100)*1000*E322*28.3168)*60*60*24","v":851651546112}]
["2002-09-03",31699,null,220,{"$f":"LOOKUP(A323,'Flow Data'!A$6:A$2928,'Flow Data'!B$6:B$2928)","v":58},{"$f":"LOOKUP(E323,'Flow Data'!D$6:D$737,'Flow Data'!H$6:H$737)","v":0.79781046869654459},{"$f":"((D323/100)*1000*E323*28.3168)*60*60*24","v":312182525952}]
["2002-09-03",31699,null,360,{"$f":"LOOKUP(A324,'Flow Data'!A$6:A$2928,'Flow Data'!B$6:B$2928)","v":58},{"$f":"LOOKUP(E324,'Flow Data'!D$6:D$737,'Flow Data'!H$6:H$737)","v":0.79781046869654459},{"$f":"((D324/100)*1000*E324*28.3168)*60*60*24","v":510844133376}]
["2002-09-03",31699,null,500,{"$f":"LOOKUP(A325,'Flow Data'!A$6:A$2928,'Flow Data'!B$6:B$2928)","v":58},{"$f":"LOOKUP(E325,'Flow Data'!D$6:D$737,'Flow Data'!H$6:H$737)","v":0.79781046869654459},{"$f":"((D325/100)*1000*E325*28.3168)*60*60*24","v":709505740800}]
["2002-09-03",31699,null,320,{"$f":"LOOKUP(A326,'Flow Data'!A$6:A$2928,'Flow Data'!B$6:B$2928)","v":58},{"$f":"LOOKUP(E326,'Flow Data'!D$6:D$737,'Flow Data'!H$6:H$737)","v":0.79781046869654459},{"$f":"((D326/100)*1000*E326*28.3168)*60*60*24","v":454083674112}]
["2002-09-03",31699,null,410,{"$f":"LOOKUP(A327,'Flow Data'!A$6:A$2928,'Flow Data'!B$6:B$2928)","v":58},{"$f":"LOOKUP(E327,'Flow Data'!D$6:D$737,'Flow Data'!H$6:H$737)","v":0.79781046869654459},{"$f":"((D327/100)*1000*E327*28.3168)*60*60*24","v":581794707456}]
["2003-05-06",31699,null,280,{"$f":"LOOKUP(A328,'Flow Data'!A$6:A$2928,'Flow Data'!B$6:B$2928)","v":57},{"$f":"LOOKUP(E328,'Flow Data'!D$6:D$737,'Flow Data'!H$6:H$737)","v":0.8060212110845022},{"$f":"((D328/100)*1000*E328*28.3168)*60*60*24","v":390472814592}]
["2003-05-06",31699,null,340,{"$f":"LOOKUP(A329,'Flow Data'!A$6:A$2928,'Flow Data'!B$6:B$2928)","v":57},{"$f":"LOOKUP(E329,'Flow Data'!D$6:D$737,'Flow Data'!H$6:H$737)","v":0.8060212110845022},{"$f":"((D329/100)*1000*E329*28.3168)*60*60*24","v":474145560576}]
["2003-05-06",31699,null,520,{"$f":"LOOKUP(A330,'Flow Data'!A$6:A$2928,'Flow Data'!B$6:B$2928)","v":57},{"$f":"LOOKUP(E330,'Flow Data'!D$6:D$737,'Flow Data'!H$6:H$737)","v":0.8060212110845022},{"$f":"((D330/100)*1000*E330*28.3168)*60*60*24","v":725163798528}]
["2003-05-06",31699,null,350,{"$f":"LOOKUP(A331,'Flow Data'!A$6:A$2928,'Flow Data'!B$6:B$2928)","v":57},{"$f":"LOOKUP(E331,'Flow Data'!D$6:D$737,'Flow Data'!H$6:H$737)","v":0.8060212110845022},{"$f":"((D331/100)*1000*E331*28.3168)*60*60*24","v":488091018240.00012}]
["2003-05-06",31699,null,360,{"$f":"LOOKUP(A332,'Flow Data'!A$6:A$2928,'Flow Data'!B$6:B$2928)","v":57},{"$f":"LOOKUP(E332,'Flow Data'!D$6:D$737,'Flow Data'!H$6:H$737)","v":0.8060212110845022},{"$f":"((D332/100)*1000*E332*28.3168)*60*60*24","v":502036475904}]
["2003-05-07",31699,null,631,{"$f":"LOOKUP(A333,'Flow Data'!A$6:A$2928,'Flow Data'!B$6:B$2928)","v":56},{"$f":"LOOKUP(E333,'Flow Data'!D$6:D$737,'Flow Data'!H$6:H$737)","v":0.8128634964078002},{"$f":"((D333/100)*1000*E333*28.3168)*60*60*24","v":864520512307.20007}]
["2003-05-07",31699,null,74,{"$f":"LOOKUP(A334,'Flow Data'!A$6:A$2928,'Flow Data'!B$6:B$2928)","v":56},{"$f":"LOOKUP(E334,'Flow Data'!D$6:D$737,'Flow Data'!H$6:H$737)","v":0.8128634964078002},{"$f":"((D334/100)*1000*E334*28.3168)*60*60*24","v":101385923788.79999}]
["2003-07-31",31699,null,262,{"$f":"LOOKUP(A335,'Flow Data'!A$6:A$2928,'Flow Data'!B$6:B$2928)","v":56},{"$f":"LOOKUP(E335,'Flow Data'!D$6:D$737,'Flow Data'!H$6:H$737)","v":0.8128634964078002},{"$f":"((D335/100)*1000*E335*28.3168)*60*60*24","v":358960973414.40002}]
["2003-07-31",31699,null,209,{"$f":"LOOKUP(A336,'Flow Data'!A$6:A$2928,'Flow Data'!B$6:B$2928)","v":56},{"$f":"LOOKUP(E336,'Flow Data'!D$6:D$737,'Flow Data'!H$6:H$737)","v":0.8128634964078002},{"$f":"((D336/100)*1000*E336*28.3168)*60*60*24","v":286346730700.79999}]
["2004-01-07",31699,null,560,{"$f":"LOOKUP(A337,'Flow Data'!A$6:A$2928,'Flow Data'!B$6:B$2928)","v":56},{"$f":"LOOKUP(E337,'Flow Data'!D$6:D$737,'Flow Data'!H$6:H$737)","v":0.8128634964078002},{"$f":"((D337/100)*1000*E337*28.3168)*60*60*24","v":767244828672}]
["2004-01-07",31699,null,500,{"$f":"LOOKUP(A338,'Flow Data'!A$6:A$2928,'Flow Data'!B$6:B$2928)","v":56},{"$f":"LOOKUP(E338,'Flow Data'!D$6:D$737,'Flow Data'!H$6:H$737)","v":0.8128634964078002},{"$f":"((D338/100)*1000*E338*28.3168)*60*60*24","v":685040025600}]
["2004-01-07",31699,null,460,{"$f":"LOOKUP(A339,'Flow Data'!A$6:A$2928,'Flow Data'!B$6:B$2928)","v":56},{"$f":"LOOKUP(E339,'Flow Data'!D$6:D$737,'Flow Data'!H$6:H$737)","v":0.8128634964078002},{"$f":"((D339/100)*1000*E339*28.3168)*60*60*24","v":630236823551.99988}]
["2004-01-07",31699,null,460,{"$f":"LOOKUP(A340,'Flow Data'!A$6:A$2928,'Flow Data'!B$6:B$2928)","v":56},{"$f":"LOOKUP(E340,'Flow Data'!D$6:D$737,'Flow Data'!H$6:H$737)","v":0.8128634964078002},{"$f":"((D340/100)*1000*E340*28.3168)*60*60*24","v":630236823551.99988}]
["2004-01-07",31699,null,430,{"$f":"LOOKUP(A341,'Flow Data'!A$6:A$2928,'Flow Data'!B$6:B$2928)","v":56},{"$f":"LOOKUP(E341,'Flow Data'!D$6:D$737,'Flow Data'!H$6:H$737)","v":0.8128634964078002},{"$f":"((D341/100)*1000*E341*28.3168)*60*60*24","v":589134422016.00012}]
["2002-01-23",31699,null,450,{"$f":"LOOKUP(A342,'Flow Data'!A$6:A$2928,'Flow Data'!B$6:B$2928)","v":55},{"$f":"LOOKUP(E342,'Flow Data'!D$6:D$737,'Flow Data'!H$6:H$737)","v":0.82483749572357168},{"$f":"((D342/100)*1000*E342*28.3168)*60*60*24","v":605526451200}]
["2002-01-23",31699,null,190,{"$f":"LOOKUP(A343,'Flow Data'!A$6:A$2928,'Flow Data'!B$6:B$2928)","v":55},{"$f":"LOOKUP(E343,'Flow Data'!D$6:D$737,'Flow Data'!H$6:H$737)","v":0.82483749572357168},{"$f":"((D343/100)*1000*E343*28.3168)*60*60*24","v":255666723840}]
["2002-01-23",31699,null,110,{"$f":"LOOKUP(A344,'Flow Data'!A$6:A$2928,'Flow Data'!B$6:B$2928)","v":55},{"$f":"LOOKUP(E344,'Flow Data'!D$6:D$737,'Flow Data'!H$6:H$737)","v":0.82483749572357168},{"$f":"((D344/100)*1000*E344*28.3168)*60*60*24","v":148017576960.00003}]
["2002-01-23",31699,null,200,{"$f":"LOOKUP(A345,'Flow Data'!A$6:A$2928,'Flow Data'!B$6:B$2928)","v":55},{"$f":"LOOKUP(E345,'Flow Data'!D$6:D$737,'Flow Data'!H$6:H$737)","v":0.82483749572357168},{"$f":"((D345/100)*1000*E345*28.3168)*60*60*24","v":269122867200}]
["2002-05-23",31699,null,457,{"$f":"LOOKUP(A346,'Flow Data'!A$6:A$2928,'Flow Data'!B$6:B$2928)","v":55},{"$f":"LOOKUP(E346,'Flow Data'!D$6:D$737,'Flow Data'!H$6:H$737)","v":0.82483749572357168},{"$f":"((D346/100)*1000*E346*28.3168)*60*60*24","v":614945751551.99988}]
["2002-05-23",31699,null,331,{"$f":"LOOKUP(A347,'Flow Data'!A$6:A$2928,'Flow Data'!B$6:B$2928)","v":55},{"$f":"LOOKUP(E347,'Flow Data'!D$6:D$737,'Flow Data'!H$6:H$737)","v":0.82483749572357168},{"$f":"((D347/100)*1000*E347*28.3168)*60*60*24","v":445398345216.00012}]
["2002-02-13",31699,null,121,{"$f":"LOOKUP(A348,'Flow Data'!A$6:A$2928,'Flow Data'!B$6:B$2928)","v":53},{"$f":"LOOKUP(E348,'Flow Data'!D$6:D$737,'Flow Data'!H$6:H$737)","v":0.8457064659596305},{"$f":"((D348/100)*1000*E348*28.3168)*60*60*24","v":156898631577.60001}]
["2002-02-13",31699,null,1137,{"$f":"LOOKUP(A349,'Flow Data'!A$6:A$2928,'Flow Data'!B$6:B$2928)","v":53},{"$f":"LOOKUP(E349,'Flow Data'!D$6:D$737,'Flow Data'!H$6:H$737)","v":0.8457064659596305},{"$f":"((D349/100)*1000*E349*28.3168)*60*60*24","v":1474328463667.2002}]
["2002-02-13",31699,null,1100,{"$f":"LOOKUP(A350,'Flow Data'!A$6:A$2928,'Flow Data'!B$6:B$2928)","v":53},{"$f":"LOOKUP(E350,'Flow Data'!D$6:D$737,'Flow Data'!H$6:H$737)","v":0.8457064659596305},{"$f":"((D350/100)*1000*E350*28.3168)*60*60*24","v":1426351196160}]
["2002-02-13",31699,null,880,{"$f":"LOOKUP(A351,'Flow Data'!A$6:A$2928,'Flow Data'!B$6:B$2928)","v":53},{"$f":"LOOKUP(E351,'Flow Data'!D$6:D$737,'Flow Data'!H$6:H$737)","v":0.8457064659596305},{"$f":"((D351/100)*1000*E351*28.3168)*60*60*24","v":1141080956927.9998}]
["2002-02-13",31699,null,300,{"$f":"LOOKUP(A352,'Flow Data'!A$6:A$2928,'Flow Data'!B$6:B$2928)","v":53},{"$f":"LOOKUP(E352,'Flow Data'!D$6:D$737,'Flow Data'!H$6:H$737)","v":0.8457064659596305},{"$f":"((D352/100)*1000*E352*28.3168)*60*60*24","v":389004871680}]
["2002-02-13",31699,null,1600,{"$f":"LOOKUP(A353,'Flow Data'!A$6:A$2928,'Flow Data'!B$6:B$2928)","v":53},{"$f":"LOOKUP(E353,'Flow Data'!D$6:D$737,'Flow Data'!H$6:H$737)","v":0.8457064659596305},{"$f":"((D353/100)*1000*E353*28.3168)*60*60*24","v":2074692648960.0005}]
["2002-02-13",31699,null,430,{"$f":"LOOKUP(A354,'Flow Data'!A$6:A$2928,'Flow Data'!B$6:B$2928)","v":53},{"$f":"LOOKUP(E354,'Flow Data'!D$6:D$737,'Flow Data'!H$6:H$737)","v":0.8457064659596305},{"$f":"((D354/100)*1000*E354*28.3168)*60*60*24","v":557573649408}]
["2002-06-12",31699,null,840,{"$f":"LOOKUP(A355,'Flow Data'!A$6:A$2928,'Flow Data'!B$6:B$2928)","v":53},{"$f":"LOOKUP(E355,'Flow Data'!D$6:D$737,'Flow Data'!H$6:H$737)","v":0.8457064659596305},{"$f":"((D355/100)*1000*E355*28.3168)*60*60*24","v":1089213640703.9998}]
["2002-06-12",31699,null,560,{"$f":"LOOKUP(A356,'Flow Data'!A$6:A$2928,'Flow Data'!B$6:B$2928)","v":53},{"$f":"LOOKUP(E356,'Flow Data'!D$6:D$737,'Flow Data'!H$6:H$737)","v":0.8457064659596305},{"$f":"((D356/100)*1000*E356*28.3168)*60*60*24","v":726142427136.00012}]
["2002-06-12",31699,null,430,{"$f":"LOOKUP(A357,'Flow Data'!A$6:A$2928,'Flow Data'!B$6:B$2928)","v":53},{"$f":"LOOKUP(E357,'Flow Data'!D$6:D$737,'Flow Data'!H$6:H$737)","v":0.8457064659596305},{"$f":"((D357/100)*1000*E357*28.3168)*60*60*24","v":557573649408}]
["2002-06-12",31699,null,190,{"$f":"LOOKUP(A358,'Flow Data'!A$6:A$2928,'Flow Data'!B$6:B$2928)","v":53},{"$f":"LOOKUP(E358,'Flow Data'!D$6:D$737,'Flow Data'!H$6:H$737)","v":0.8457064659596305},{"$f":"((D358/100)*1000*E358*28.3168)*60*60*24","v":246369752064.00006}]
["2001-11-06",31699,null,228,{"$f":"LOOKUP(A359,'Flow Data'!A$6:A$2928,'Flow Data'!B$6:B$2928)","v":52},{"$f":"LOOKUP(E359,'Flow Data'!D$6:D$737,'Flow Data'!H$6:H$737)","v":0.85802257954156691},{"$f":"((D359/100)*1000*E359*28.3168)*60*60*24","v":290065519411.20001}]
["2001-11-06",31699,null,52,{"$f":"LOOKUP(A360,'Flow Data'!A$6:A$2928,'Flow Data'!B$6:B$2928)","v":52},{"$f":"LOOKUP(E360,'Flow Data'!D$6:D$737,'Flow Data'!H$6:H$737)","v":0.85802257954156691},{"$f":"((D360/100)*1000*E360*28.3168)*60*60*24","v":66155293900.799995}]
["2004-09-02",31699,null,440,{"$f":"LOOKUP(A361,'Flow Data'!A$6:A$2928,'Flow Data'!B$6:B$2928)","v":52},{"$f":"LOOKUP(E361,'Flow Data'!D$6:D$737,'Flow Data'!H$6:H$737)","v":0.85802257954156691},{"$f":"((D361/100)*1000*E361*28.3168)*60*60*24","v":559775563776}]
["2004-09-02",31699,null,530,{"$f":"LOOKUP(A362,'Flow Data'!A$6:A$2928,'Flow Data'!B$6:B$2928)","v":52},{"$f":"LOOKUP(E362,'Flow Data'!D$6:D$737,'Flow Data'!H$6:H$737)","v":0.85802257954156691},{"$f":"((D362/100)*1000*E362*28.3168)*60*60*24","v":674275110912}]
["2004-09-02",31699,null,2000,{"$f":"LOOKUP(A363,'Flow Data'!A$6:A$2928,'Flow Data'!B$6:B$2928)","v":52},{"$f":"LOOKUP(E363,'Flow Data'!D$6:D$737,'Flow Data'!H$6:H$737)","v":0.85802257954156691},{"$f":"((D363/100)*1000*E363*28.3168)*60*60*24","v":2544434380800}]
["2004-09-02",31699,null,3100,{"$f":"LOOKUP(A364,'Flow Data'!A$6:A$2928,'Flow Data'!B$6:B$2928)","v":52},{"$f":"LOOKUP(E364,'Flow Data'!D$6:D$737,'Flow Data'!H$6:H$737)","v":0.85802257954156691},{"$f":"((D364/100)*1000*E364*28.3168)*60*60*24","v":3943873290240}]
["2004-09-02",31699,null,3300,{"$f":"LOOKUP(A365,'Flow Data'!A$6:A$2928,'Flow Data'!B$6:B$2928)","v":52},{"$f":"LOOKUP(E365,'Flow Data'!D$6:D$737,'Flow Data'!H$6:H$737)","v":0.85802257954156691},{"$f":"((D365/100)*1000*E365*28.3168)*60*60*24","v":4198316728320.001}]
["2002-07-09",31699,null,430,{"$f":"LOOKUP(A366,'Flow Data'!A$6:A$2928,'Flow Data'!B$6:B$2928)","v":51},{"$f":"LOOKUP(E366,'Flow Data'!D$6:D$737,'Flow Data'!H$6:H$737)","v":0.86999657885733839},{"$f":"((D366/100)*1000*E366*28.3168)*60*60*24","v":536533134336.00012}]
["2002-07-09",31699,null,410,{"$f":"LOOKUP(A367,'Flow Data'!A$6:A$2928,'Flow Data'!B$6:B$2928)","v":51},{"$f":"LOOKUP(E367,'Flow Data'!D$6:D$737,'Flow Data'!H$6:H$737)","v":0.86999657885733839},{"$f":"((D367/100)*1000*E367*28.3168)*60*60*24","v":511578104832}]
["2002-07-09",31699,null,350,{"$f":"LOOKUP(A368,'Flow Data'!A$6:A$2928,'Flow Data'!B$6:B$2928)","v":51},{"$f":"LOOKUP(E368,'Flow Data'!D$6:D$737,'Flow Data'!H$6:H$737)","v":0.86999657885733839},{"$f":"((D368/100)*1000*E368*28.3168)*60*60*24","v":436713016320}]
["2002-07-09",31699,null,140,{"$f":"LOOKUP(A369,'Flow Data'!A$6:A$2928,'Flow Data'!B$6:B$2928)","v":51},{"$f":"LOOKUP(E369,'Flow Data'!D$6:D$737,'Flow Data'!H$6:H$737)","v":0.86999657885733839},{"$f":"((D369/100)*1000*E369*28.3168)*60*60*24","v":174685206528}]
["2003-04-01",31699,null,370,{"$f":"LOOKUP(A370,'Flow Data'!A$6:A$2928,'Flow Data'!B$6:B$2928)","v":51},{"$f":"LOOKUP(E370,'Flow Data'!D$6:D$737,'Flow Data'!H$6:H$737)","v":0.86999657885733839},{"$f":"((D370/100)*1000*E370*28.3168)*60*60*24","v":461668045824}]
["2003-04-01",31699,null,200,{"$f":"LOOKUP(A371,'Flow Data'!A$6:A$2928,'Flow Data'!B$6:B$2928)","v":51},{"$f":"LOOKUP(E371,'Flow Data'!D$6:D$737,'Flow Data'!H$6:H$737)","v":0.86999657885733839},{"$f":"((D371/100)*1000*E371*28.3168)*60*60*24","v":249550295040}]
["2003-04-01",31699,null,450,{"$f":"LOOKUP(A372,'Flow Data'!A$6:A$2928,'Flow Data'!B$6:B$2928)","v":51},{"$f":"LOOKUP(E372,'Flow Data'!D$6:D$737,'Flow Data'!H$6:H$737)","v":0.86999657885733839},{"$f":"((D372/100)*1000*E372*28.3168)*60*60*24","v":561488163840.00012}]
["2003-04-01",31699,null,310,{"$f":"LOOKUP(A373,'Flow Data'!A$6:A$2928,'Flow Data'!B$6:B$2928)","v":51},{"$f":"LOOKUP(E373,'Flow Data'!D$6:D$737,'Flow Data'!H$6:H$737)","v":0.86999657885733839},{"$f":"((D373/100)*1000*E373*28.3168)*60*60*24","v":386802957312}]
["2004-08-18",31699,null,220,{"$f":"LOOKUP(A374,'Flow Data'!A$6:A$2928,'Flow Data'!B$6:B$2928)","v":51},{"$f":"LOOKUP(E374,'Flow Data'!D$6:D$737,'Flow Data'!H$6:H$737)","v":0.86999657885733839},{"$f":"((D374/100)*1000*E374*28.3168)*60*60*24","v":274505324544}]
["2004-08-18",31699,null,200,{"$f":"LOOKUP(A375,'Flow Data'!A$6:A$2928,'Flow Data'!B$6:B$2928)","v":51},{"$f":"LOOKUP(E375,'Flow Data'!D$6:D$737,'Flow Data'!H$6:H$737)","v":0.86999657885733839},{"$f":"((D375/100)*1000*E375*28.3168)*60*60*24","v":249550295040}]
["2003-06-03",31699,null,590,{"$f":"LOOKUP(A376,'Flow Data'!A$6:A$2928,'Flow Data'!B$6:B$2928)","v":50},{"$f":"LOOKUP(E376,'Flow Data'!D$6:D$737,'Flow Data'!H$6:H$737)","v":0.88060212110845026},{"$f":"((D376/100)*1000*E376*28.3168)*60*60*24","v":721738598400}]
["2003-06-03",31699,null,420,{"$f":"LOOKUP(A377,'Flow Data'!A$6:A$2928,'Flow Data'!B$6:B$2928)","v":50},{"$f":"LOOKUP(E377,'Flow Data'!D$6:D$737,'Flow Data'!H$6:H$737)","v":0.88060212110845026},{"$f":"((D377/100)*1000*E377*28.3168)*60*60*24","v":513780019200}]
["2003-06-03",31699,null,600,{"$f":"LOOKUP(A378,'Flow Data'!A$6:A$2928,'Flow Data'!B$6:B$2928)","v":50},{"$f":"LOOKUP(E378,'Flow Data'!D$6:D$737,'Flow Data'!H$6:H$737)","v":0.88060212110845026},{"$f":"((D378/100)*1000*E378*28.3168)*60*60*24","v":733971456000}]
["2003-06-03",31699,null,980,{"$f":"LOOKUP(A379,'Flow Data'!A$6:A$2928,'Flow Data'!B$6:B$2928)","v":50},{"$f":"LOOKUP(E379,'Flow Data'!D$6:D$737,'Flow Data'!H$6:H$737)","v":0.88060212110845026},{"$f":"((D379/100)*1000*E379*28.3168)*60*60*24","v":1198820044800}]
["2003-06-03",31699,null,390,{"$f":"LOOKUP(A380,'Flow Data'!A$6:A$2928,'Flow Data'!B$6:B$2928)","v":50},{"$f":"LOOKUP(E380,'Flow Data'!D$6:D$737,'Flow Data'!H$6:H$737)","v":0.88060212110845026},{"$f":"((D380/100)*1000*E380*28.3168)*60*60*24","v":477081446400}]
["2001-06-04",31699,null,341,{"$f":"LOOKUP(A381,'Flow Data'!A$6:A$2928,'Flow Data'!B$6:B$2928)","v":49},{"$f":"LOOKUP(E381,'Flow Data'!D$6:D$737,'Flow Data'!H$6:H$737)","v":0.89018132056106736},{"$f":"((D381/100)*1000*E381*28.3168)*60*60*24","v":408797635276.79999}]
["2001-07-23",31699,null,495,{"$f":"LOOKUP(A382,'Flow Data'!A$6:A$2928,'Flow Data'!B$6:B$2928)","v":49},{"$f":"LOOKUP(E382,'Flow Data'!D$6:D$737,'Flow Data'!H$6:H$737)","v":0.89018132056106736},{"$f":"((D382/100)*1000*E382*28.3168)*60*60*24","v":593415922176}]
["2004-08-29",31699,null,30000,{"$f":"LOOKUP(A383,'Flow Data'!A$6:A$2928,'Flow Data'!B$6:B$2928)","v":49},{"$f":"LOOKUP(E383,'Flow Data'!D$6:D$737,'Flow Data'!H$6:H$737)","v":0.89018132056106736},{"$f":"((D383/100)*1000*E383*28.3168)*60*60*24","v":35964601344000}]
["2002-06-04",31699,null,260,{"$f":"LOOKUP(A384,'Flow Data'!A$6:A$2928,'Flow Data'!B$6:B$2928)","v":47},{"$f":"LOOKUP(E384,'Flow Data'!D$6:D$737,'Flow Data'!H$6:H$737)","v":0.90831337666780709},{"$f":"((D384/100)*1000*E384*28.3168)*60*60*24","v":298971039744}]
["2002-06-04",31699,null,450,{"$f":"LOOKUP(A385,'Flow Data'!A$6:A$2928,'Flow Data'!B$6:B$2928)","v":47},{"$f":"LOOKUP(E385,'Flow Data'!D$6:D$737,'Flow Data'!H$6:H$737)","v":0.90831337666780709},{"$f":"((D385/100)*1000*E385*28.3168)*60*60*24","v":517449876480}]
["2002-06-04",31699,null,830,{"$f":"LOOKUP(A386,'Flow Data'!A$6:A$2928,'Flow Data'!B$6:B$2928)","v":47},{"$f":"LOOKUP(E386,'Flow Data'!D$6:D$737,'Flow Data'!H$6:H$737)","v":0.90831337666780709},{"$f":"((D386/100)*1000*E386*28.3168)*60*60*24","v":954407549952}]
["2002-06-04",31699,null,590,{"$f":"LOOKUP(A387,'Flow Data'!A$6:A$2928,'Flow Data'!B$6:B$2928)","v":47},{"$f":"LOOKUP(E387,'Flow Data'!D$6:D$737,'Flow Data'!H$6:H$737)","v":0.90831337666780709},{"$f":"((D387/100)*1000*E387*28.3168)*60*60*24","v":678434282496.00012}]
["2002-06-04",31699,null,460,{"$f":"LOOKUP(A388,'Flow Data'!A$6:A$2928,'Flow Data'!B$6:B$2928)","v":47},{"$f":"LOOKUP(E388,'Flow Data'!D$6:D$737,'Flow Data'!H$6:H$737)","v":0.90831337666780709},{"$f":"((D388/100)*1000*E388*28.3168)*60*60*24","v":528948762624}]
["2001-05-23",31699,null,158,{"$f":"LOOKUP(A389,'Flow Data'!A$6:A$2928,'Flow Data'!B$6:B$2928)","v":45},{"$f":"LOOKUP(E389,'Flow Data'!D$6:D$737,'Flow Data'!H$6:H$737)","v":0.92849811837153617},{"$f":"((D389/100)*1000*E389*28.3168)*60*60*24","v":173951235072}]
["2001-05-23",31699,null,238,{"$f":"LOOKUP(A390,'Flow Data'!A$6:A$2928,'Flow Data'!B$6:B$2928)","v":45},{"$f":"LOOKUP(E390,'Flow Data'!D$6:D$737,'Flow Data'!H$6:H$737)","v":0.92849811837153617},{"$f":"((D390/100)*1000*E390*28.3168)*60*60*24","v":262027809792}]
["2001-05-23",31699,null,700,{"$f":"LOOKUP(A391,'Flow Data'!A$6:A$2928,'Flow Data'!B$6:B$2928)","v":45},{"$f":"LOOKUP(E391,'Flow Data'!D$6:D$737,'Flow Data'!H$6:H$737)","v":0.92849811837153617},{"$f":"((D391/100)*1000*E391*28.3168)*60*60*24","v":770670028800}]
["2002-05-15",31699,null,320,{"$f":"LOOKUP(A392,'Flow Data'!A$6:A$2928,'Flow Data'!B$6:B$2928)","v":45},{"$f":"LOOKUP(E392,'Flow Data'!D$6:D$737,'Flow Data'!H$6:H$737)","v":0.92849811837153617},{"$f":"((D392/100)*1000*E392*28.3168)*60*60*24","v":352306298880}]
["2002-05-15",31699,null,460,{"$f":"LOOKUP(A393,'Flow Data'!A$6:A$2928,'Flow Data'!B$6:B$2928)","v":45},{"$f":"LOOKUP(E393,'Flow Data'!D$6:D$737,'Flow Data'!H$6:H$737)","v":0.92849811837153617},{"$f":"((D393/100)*1000*E393*28.3168)*60*60*24","v":506440304640.00012}]
["2002-05-15",31699,null,150,{"$f":"LOOKUP(A394,'Flow Data'!A$6:A$2928,'Flow Data'!B$6:B$2928)","v":45},{"$f":"LOOKUP(E394,'Flow Data'!D$6:D$737,'Flow Data'!H$6:H$737)","v":0.92849811837153617},{"$f":"((D394/100)*1000*E394*28.3168)*60*60*24","v":165143577600}]
["2002-05-15",31699,null,160,{"$f":"LOOKUP(A395,'Flow Data'!A$6:A$2928,'Flow Data'!B$6:B$2928)","v":45},{"$f":"LOOKUP(E395,'Flow Data'!D$6:D$737,'Flow Data'!H$6:H$737)","v":0.92849811837153617},{"$f":"((D395/100)*1000*E395*28.3168)*60*60*24","v":176153149440}]
["2001-08-14",31699,null,309,{"$f":"LOOKUP(A396,'Flow Data'!A$6:A$2928,'Flow Data'!B$6:B$2928)","v":43},{"$f":"LOOKUP(E396,'Flow Data'!D$6:D$737,'Flow Data'!H$6:H$737)","v":0.94218268901813207},{"$f":"((D396/100)*1000*E396*28.3168)*60*60*24","v":325075957862.40002}]
["2001-08-14",31699,null,368,{"$f":"LOOKUP(A397,'Flow Data'!A$6:A$2928,'Flow Data'!B$6:B$2928)","v":43},{"$f":"LOOKUP(E397,'Flow Data'!D$6:D$737,'Flow Data'!H$6:H$737)","v":0.94218268901813207},{"$f":"((D397/100)*1000*E397*28.3168)*60*60*24","v":387145477324.80005}]
["2001-08-14",31699,null,588,{"$f":"LOOKUP(A398,'Flow Data'!A$6:A$2928,'Flow Data'!B$6:B$2928)","v":43},{"$f":"LOOKUP(E398,'Flow Data'!D$6:D$737,'Flow Data'!H$6:H$737)","v":0.94218268901813207},{"$f":"((D398/100)*1000*E398*28.3168)*60*60*24","v":618591143116.80005}]
["2004-09-29",31699,null,87,{"$f":"LOOKUP(A399,'Flow Data'!A$6:A$2928,'Flow Data'!B$6:B$2928)","v":42},{"$f":"LOOKUP(E399,'Flow Data'!D$6:D$737,'Flow Data'!H$6:H$737)","v":0.94560383167978102},{"$f":"((D399/100)*1000*E399*28.3168)*60*60*24","v":89397723340.799988}]
["2004-09-29",31699,null,170,{"$f":"LOOKUP(A400,'Flow Data'!A$6:A$2928,'Flow Data'!B$6:B$2928)","v":42},{"$f":"LOOKUP(E400,'Flow Data'!D$6:D$737,'Flow Data'!H$6:H$737)","v":0.94560383167978102},{"$f":"((D400/100)*1000*E400*28.3168)*60*60*24","v":174685206528}]
["2004-09-29",31699,null,310,{"$f":"LOOKUP(A401,'Flow Data'!A$6:A$2928,'Flow Data'!B$6:B$2928)","v":42},{"$f":"LOOKUP(E401,'Flow Data'!D$6:D$737,'Flow Data'!H$6:H$737)","v":0.94560383167978102},{"$f":"((D401/100)*1000*E401*28.3168)*60*60*24","v":318543611904}]
["2004-09-29",31699,null,240,{"$f":"LOOKUP(A402,'Flow Data'!A$6:A$2928,'Flow Data'!B$6:B$2928)","v":42},{"$f":"LOOKUP(E402,'Flow Data'!D$6:D$737,'Flow Data'!H$6:H$737)","v":0.94560383167978102},{"$f":"((D402/100)*1000*E402*28.3168)*60*60*24","v":246614409216}]
["2002-05-02",31699,null,1100,{"$f":"LOOKUP(A403,'Flow Data'!A$6:A$2928,'Flow Data'!B$6:B$2928)","v":16},{"$f":"LOOKUP(E403,'Flow Data'!D$6:D$737,'Flow Data'!H$6:H$737)","v":0.9945261717413616},{"$f":"((D403/100)*1000*E403*28.3168)*60*60*24","v":430596587520}]
["2002-05-02",31699,null,350,{"$f":"LOOKUP(A404,'Flow Data'!A$6:A$2928,'Flow Data'!B$6:B$2928)","v":16},{"$f":"LOOKUP(E404,'Flow Data'!D$6:D$737,'Flow Data'!H$6:H$737)","v":0.9945261717413616},{"$f":"((D404/100)*1000*E404*28.3168)*60*60*24","v":137008005120}]
["2002-05-02",31699,null,960,{"$f":"LOOKUP(A405,'Flow Data'!A$6:A$2928,'Flow Data'!B$6:B$2928)","v":16},{"$f":"LOOKUP(E405,'Flow Data'!D$6:D$737,'Flow Data'!H$6:H$737)","v":0.9945261717413616},{"$f":"((D405/100)*1000*E405*28.3168)*60*60*24","v":375793385472}]
["2002-05-02",31699,null,690,{"$f":"LOOKUP(A406,'Flow Data'!A$6:A$2928,'Flow Data'!B$6:B$2928)","v":16},{"$f":"LOOKUP(E406,'Flow Data'!D$6:D$737,'Flow Data'!H$6:H$737)","v":0.9945261717413616},{"$f":"((D406/100)*1000*E406*28.3168)*60*60*24","v":270101495808.00006}]
["2002-05-02",31699,null,670,{"$f":"LOOKUP(A407,'Flow Data'!A$6:A$2928,'Flow Data'!B$6:B$2928)","v":16},{"$f":"LOOKUP(E407,'Flow Data'!D$6:D$737,'Flow Data'!H$6:H$737)","v":0.9945261717413616},{"$f":"((D407/100)*1000*E407*28.3168)*60*60*24","v":262272466944}]
["2004-11-03",31699,null,3900,{"$f":"LOOKUP(A408,'Flow Data'!A$6:A$2928,'Flow Data'!B$6:B$2928)","v":1170},{"$f":"LOOKUP(E408,'Flow Data'!D$6:D$737,'Flow Data'!H$6:H$737)","v":0.12350325008552976},{"$f":"((D408/100)*1000*E408*28.3168)*60*60*24","v":111637058457600}]
["2004-11-03",31699,null,3100,{"$f":"LOOKUP(A409,'Flow Data'!A$6:A$2928,'Flow Data'!B$6:B$2928)","v":1170},{"$f":"LOOKUP(E409,'Flow Data'!D$6:D$737,'Flow Data'!H$6:H$737)","v":0.12350325008552976},88737149030400]
["2004-11-03",31699,null,3300,{"$f":"LOOKUP(A410,'Flow Data'!A$6:A$2928,'Flow Data'!B$6:B$2928)","v":1170},{"$f":"LOOKUP(E410,'Flow Data'!D$6:D$737,'Flow Data'!H$6:H$737)","v":0.12350325008552976},94462126387200]
["2004-11-03",31699,null,2600,{"$f":"LOOKUP(A411,'Flow Data'!A$6:A$2928,'Flow Data'!B$6:B$2928)","v":1170},{"$f":"LOOKUP(E411,'Flow Data'!D$6:D$737,'Flow Data'!H$6:H$737)","v":0.12350325008552976},74424705638400]
["2004-11-03",31699,null,3000,{"$f":"LOOKUP(A412,'Flow Data'!A$6:A$2928,'Flow Data'!B$6:B$2928)","v":1170},{"$f":"LOOKUP(E412,'Flow Data'!D$6:D$737,'Flow Data'!H$6:H$737)","v":0.12350325008552976},85874660352000]
["2004-11-10",31699,null,370,{"$f":"LOOKUP(A413,'Flow Data'!A$6:A$2928,'Flow Data'!B$6:B$2928)","v":80},{"$f":"LOOKUP(E413,'Flow Data'!D$6:D$737,'Flow Data'!H$6:H$737)","v":0.63770099213137177},724185169920]
["2004-11-10",31699,null,280,{"$f":"LOOKUP(A414,'Flow Data'!A$6:A$2928,'Flow Data'!B$6:B$2928)","v":80},{"$f":"LOOKUP(E414,'Flow Data'!D$6:D$737,'Flow Data'!H$6:H$737)","v":0.63770099213137177},548032020480]
["2004-11-10",31699,null,180,{"$f":"LOOKUP(A415,'Flow Data'!A$6:A$2928,'Flow Data'!B$6:B$2928)","v":80},{"$f":"LOOKUP(E415,'Flow Data'!D$6:D$737,'Flow Data'!H$6:H$737)","v":0.63770099213137177},352306298880]
["2004-11-10",31699,null,230,{"$f":"LOOKUP(A416,'Flow Data'!A$6:A$2928,'Flow Data'!B$6:B$2928)","v":80},{"$f":"LOOKUP(E416,'Flow Data'!D$6:D$737,'Flow Data'!H$6:H$737)","v":0.63770099213137177},450169159680]
["2004-12-01",31699,null,70,{"$f":"LOOKUP(A417,'Flow Data'!A$6:A$2928,'Flow Data'!B$6:B$2928)","v":1890},{"$f":"LOOKUP(E417,'Flow Data'!D$6:D$737,'Flow Data'!H$6:H$737)","v":3.1474512487172368E-2},3236814120960]
["2004-12-01",31699,null,97,{"$f":"LOOKUP(A418,'Flow Data'!A$6:A$2928,'Flow Data'!B$6:B$2928)","v":1890},{"$f":"LOOKUP(E418,'Flow Data'!D$6:D$737,'Flow Data'!H$6:H$737)","v":3.1474512487172368E-2},4485299567615.999]
["2004-12-01",31699,null,140,{"$f":"LOOKUP(A419,'Flow Data'!A$6:A$2928,'Flow Data'!B$6:B$2928)","v":1890},{"$f":"LOOKUP(E419,'Flow Data'!D$6:D$737,'Flow Data'!H$6:H$737)","v":3.1474512487172368E-2},6473628241920]
["2004-12-01",31699,null,140,{"$f":"LOOKUP(A420,'Flow Data'!A$6:A$2928,'Flow Data'!B$6:B$2928)","v":1890},{"$f":"LOOKUP(E420,'Flow Data'!D$6:D$737,'Flow Data'!H$6:H$737)","v":3.1474512487172368E-2},6473628241920]
["2004-12-02",31699,null,150,{"$f":"LOOKUP(A421,'Flow Data'!A$6:A$2928,'Flow Data'!B$6:B$2928)","v":2130},{"$f":"LOOKUP(E421,'Flow Data'!D$6:D$737,'Flow Data'!H$6:H$737)","v":5.8159425248051067E-3},7816796006400]
["2004-12-02",31699,null,100,{"$f":"LOOKUP(A422,'Flow Data'!A$6:A$2928,'Flow Data'!B$6:B$2928)","v":2130},{"$f":"LOOKUP(E422,'Flow Data'!D$6:D$737,'Flow Data'!H$6:H$737)","v":5.8159425248051067E-3},5211197337600]
["2004-12-02",31699,null,74,{"$f":"LOOKUP(A423,'Flow Data'!A$6:A$2928,'Flow Data'!B$6:B$2928)","v":2130},{"$f":"LOOKUP(E423,'Flow Data'!D$6:D$737,'Flow Data'!H$6:H$737)","v":5.8159425248051067E-3},3856286029824.001]
["2004-12-02",31699,null,140,{"$f":"LOOKUP(A424,'Flow Data'!A$6:A$2928,'Flow Data'!B$6:B$2928)","v":2130},{"$f":"LOOKUP(E424,'Flow Data'!D$6:D$737,'Flow Data'!H$6:H$737)","v":5.8159425248051067E-3},7295676272640.002]
["2004-12-02",31699,null,100,{"$f":"LOOKUP(A425,'Flow Data'!A$6:A$2928,'Flow Data'!B$6:B$2928)","v":2130},{"$f":"LOOKUP(E425,'Flow Data'!D$6:D$737,'Flow Data'!H$6:H$737)","v":5.8159425248051067E-3},5211197337600]
["2005-01-05",31699,null,440,{"$f":"LOOKUP(A426,'Flow Data'!A$6:A$2928,'Flow Data'!B$6:B$2928)","v":85},{"$f":"LOOKUP(E426,'Flow Data'!D$6:D$737,'Flow Data'!H$6:H$737)","v":0.61272665070133403},915017748480.00024]
["2005-01-05",31699,null,280,{"$f":"LOOKUP(A427,'Flow Data'!A$6:A$2928,'Flow Data'!B$6:B$2928)","v":85},{"$f":"LOOKUP(E427,'Flow Data'!D$6:D$737,'Flow Data'!H$6:H$737)","v":0.61272665070133403},582284021760]
["2005-01-05",31699,null,200,{"$f":"LOOKUP(A428,'Flow Data'!A$6:A$2928,'Flow Data'!B$6:B$2928)","v":85},{"$f":"LOOKUP(E428,'Flow Data'!D$6:D$737,'Flow Data'!H$6:H$737)","v":0.61272665070133403},415917158400]
["2005-01-05",31699,null,220,{"$f":"LOOKUP(A429,'Flow Data'!A$6:A$2928,'Flow Data'!B$6:B$2928)","v":85},{"$f":"LOOKUP(E429,'Flow Data'!D$6:D$737,'Flow Data'!H$6:H$737)","v":0.61272665070133403},457508874240.00012]
["2005-01-11",31699,null,2600,{"$f":"LOOKUP(A430,'Flow Data'!A$6:A$2928,'Flow Data'!B$6:B$2928)","v":81},{"$f":"LOOKUP(E430,'Flow Data'!D$6:D$737,'Flow Data'!H$6:H$737)","v":0.63256927813889829},5152479621120.001]
["2005-01-11",31699,null,4300,{"$f":"LOOKUP(A431,'Flow Data'!A$6:A$2928,'Flow Data'!B$6:B$2928)","v":81},{"$f":"LOOKUP(E431,'Flow Data'!D$6:D$737,'Flow Data'!H$6:H$737)","v":0.63256927813889829},8521408604160]
["2005-01-11",31699,null,1200,{"$f":"LOOKUP(A432,'Flow Data'!A$6:A$2928,'Flow Data'!B$6:B$2928)","v":81},{"$f":"LOOKUP(E432,'Flow Data'!D$6:D$737,'Flow Data'!H$6:H$737)","v":0.63256927813889829},2378067517440]
["2005-01-11",31699,null,930,{"$f":"LOOKUP(A433,'Flow Data'!A$6:A$2928,'Flow Data'!B$6:B$2928)","v":81},{"$f":"LOOKUP(E433,'Flow Data'!D$6:D$737,'Flow Data'!H$6:H$737)","v":0.63256927813889829},1843002326016]
["2005-01-11",31699,null,750,{"$f":"LOOKUP(A434,'Flow Data'!A$6:A$2928,'Flow Data'!B$6:B$2928)","v":81},{"$f":"LOOKUP(E434,'Flow Data'!D$6:D$737,'Flow Data'!H$6:H$737)","v":0.63256927813889829},1486292198400]
["2005-02-03",31699,null,9900,{"$f":"LOOKUP(A435,'Flow Data'!A$6:A$2928,'Flow Data'!B$6:B$2928)","v":2020},{"$f":"LOOKUP(E435,'Flow Data'!D$6:D$737,'Flow Data'!H$6:H$737)","v":1.3684570646597782E-2},489265372569600]
["2005-02-03",31699,null,9100,{"$f":"LOOKUP(A436,'Flow Data'!A$6:A$2928,'Flow Data'!B$6:B$2928)","v":2020},{"$f":"LOOKUP(E436,'Flow Data'!D$6:D$737,'Flow Data'!H$6:H$737)","v":1.3684570646597782E-2},449728776806400]
["2005-02-03",31699,null,9900,{"$f":"LOOKUP(A437,'Flow Data'!A$6:A$2928,'Flow Data'!B$6:B$2928)","v":2020},{"$f":"LOOKUP(E437,'Flow Data'!D$6:D$737,'Flow Data'!H$6:H$737)","v":1.3684570646597782E-2},489265372569600]
["2005-02-03",31699,null,9100,{"$f":"LOOKUP(A438,'Flow Data'!A$6:A$2928,'Flow Data'!B$6:B$2928)","v":2020},{"$f":"LOOKUP(E438,'Flow Data'!D$6:D$737,'Flow Data'!H$6:H$737)","v":1.3684570646597782E-2},449728776806400]
["2005-02-03",31699,null,6700,{"$f":"LOOKUP(A439,'Flow Data'!A$6:A$2928,'Flow Data'!B$6:B$2928)","v":2020},{"$f":"LOOKUP(E439,'Flow Data'!D$6:D$737,'Flow Data'!H$6:H$737)","v":1.3684570646597782E-2},331118989516800]
["2005-02-09",31699,null,17329,{"$f":"LOOKUP(A440,'Flow Data'!A$6:A$2928,'Flow Data'!B$6:B$2928)","v":1290},{"$f":"LOOKUP(E440,'Flow Data'!D$6:D$737,'Flow Data'!H$6:H$737)","v":0.10947656517276894},546916628524032]
["2005-02-09",31699,null,7270,{"$f":"LOOKUP(A441,'Flow Data'!A$6:A$2928,'Flow Data'!B$6:B$2928)","v":1290},{"$f":"LOOKUP(E441,'Flow Data'!D$6:D$737,'Flow Data'!H$6:H$737)","v":0.10947656517276894},229446816860160]
["2005-02-21",31699,null,880,{"$f":"LOOKUP(A442,'Flow Data'!A$6:A$2928,'Flow Data'!B$6:B$2928)","v":458},{"$f":"LOOKUP(E442,'Flow Data'!D$6:D$737,'Flow Data'!H$6:H$737)","v":0.25761204242217106},9860661854208]
["2005-02-21",31699,null,780,{"$f":"LOOKUP(A443,'Flow Data'!A$6:A$2928,'Flow Data'!B$6:B$2928)","v":458},{"$f":"LOOKUP(E443,'Flow Data'!D$6:D$737,'Flow Data'!H$6:H$737)","v":0.25761204242217106},8740132098048.002]
["2005-02-21",31699,null,630,{"$f":"LOOKUP(A444,'Flow Data'!A$6:A$2928,'Flow Data'!B$6:B$2928)","v":458},{"$f":"LOOKUP(E444,'Flow Data'!D$6:D$737,'Flow Data'!H$6:H$737)","v":0.25761204242217106},7059337463808]
["2005-02-21",31699,null,710,{"$f":"LOOKUP(A445,'Flow Data'!A$6:A$2928,'Flow Data'!B$6:B$2928)","v":458},{"$f":"LOOKUP(E445,'Flow Data'!D$6:D$737,'Flow Data'!H$6:H$737)","v":0.25761204242217106},7955761268736]
["2005-03-03",31699,null,2600,{"$f":"LOOKUP(A446,'Flow Data'!A$6:A$2928,'Flow Data'!B$6:B$2928)","v":1530},{"$f":"LOOKUP(E446,'Flow Data'!D$6:D$737,'Flow Data'!H$6:H$737)","v":8.587068080739102E-2},97324615065600]
["2005-03-03",31699,null,4000,{"$f":"LOOKUP(A447,'Flow Data'!A$6:A$2928,'Flow Data'!B$6:B$2928)","v":1530},{"$f":"LOOKUP(E447,'Flow Data'!D$6:D$737,'Flow Data'!H$6:H$737)","v":8.587068080739102E-2},149730177024000]
["2005-03-03",31699,null,2800,{"$f":"LOOKUP(A448,'Flow Data'!A$6:A$2928,'Flow Data'!B$6:B$2928)","v":1530},{"$f":"LOOKUP(E448,'Flow Data'!D$6:D$737,'Flow Data'!H$6:H$737)","v":8.587068080739102E-2},104811123916800]
["2005-03-03",31699,null,3100,{"$f":"LOOKUP(A449,'Flow Data'!A$6:A$2928,'Flow Data'!B$6:B$2928)","v":1530},{"$f":"LOOKUP(E449,'Flow Data'!D$6:D$737,'Flow Data'!H$6:H$737)","v":8.587068080739102E-2},116040887193600]
["2005-03-03",31699,null,1600,{"$f":"LOOKUP(A450,'Flow Data'!A$6:A$2928,'Flow Data'!B$6:B$2928)","v":1530},{"$f":"LOOKUP(E450,'Flow Data'!D$6:D$737,'Flow Data'!H$6:H$737)","v":8.587068080739102E-2},59892070809600]
["2005-03-21",31699,null,1400,{"$f":"LOOKUP(A451,'Flow Data'!A$6:A$2928,'Flow Data'!B$6:B$2928)","v":244},{"$f":"LOOKUP(E451,'Flow Data'!D$6:D$737,'Flow Data'!H$6:H$737)","v":0.34724598015737407},8357488312320]
["2005-03-21",31699,null,1700,{"$f":"LOOKUP(A452,'Flow Data'!A$6:A$2928,'Flow Data'!B$6:B$2928)","v":244},{"$f":"LOOKUP(E452,'Flow Data'!D$6:D$737,'Flow Data'!H$6:H$737)","v":0.34724598015737407},{"$f":"((D452/100)*1000*E452*28.3168)*60*60*24","v":10148378664960}]
["2005-03-21",31699,null,1100,{"$f":"LOOKUP(A453,'Flow Data'!A$6:A$2928,'Flow Data'!B$6:B$2928)","v":244},{"$f":"LOOKUP(E453,'Flow Data'!D$6:D$737,'Flow Data'!H$6:H$737)","v":0.34724598015737407},6566597959680]
["2005-03-21",31699,null,1200,{"$f":"LOOKUP(A454,'Flow Data'!A$6:A$2928,'Flow Data'!B$6:B$2928)","v":244},{"$f":"LOOKUP(E454,'Flow Data'!D$6:D$737,'Flow Data'!H$6:H$737)","v":0.34724598015737407},7163561410560]
["2005-04-18",31699,null,480,{"$f":"LOOKUP(A455,'Flow Data'!A$6:A$2928,'Flow Data'!B$6:B$2928)","v":104},{"$f":"LOOKUP(E455,'Flow Data'!D$6:D$737,'Flow Data'!H$6:H$737)","v":0.52719808416010916},1221328502784]
["2005-04-18",31699,null,500,{"$f":"LOOKUP(A456,'Flow Data'!A$6:A$2928,'Flow Data'!B$6:B$2928)","v":104},{"$f":"LOOKUP(E456,'Flow Data'!D$6:D$737,'Flow Data'!H$6:H$737)","v":0.52719808416010916},1272217190400]
["2005-04-18",31699,null,860,{"$f":"LOOKUP(A457,'Flow Data'!A$6:A$2928,'Flow Data'!B$6:B$2928)","v":104},{"$f":"LOOKUP(E457,'Flow Data'!D$6:D$737,'Flow Data'!H$6:H$737)","v":0.52719808416010916},2188213567488]
["2005-04-18",31699,null,430,{"$f":"LOOKUP(A458,'Flow Data'!A$6:A$2928,'Flow Data'!B$6:B$2928)","v":104},{"$f":"LOOKUP(E458,'Flow Data'!D$6:D$737,'Flow Data'!H$6:H$737)","v":0.52719808416010916},1094106783744]
["2005-04-18",31699,null,480,{"$f":"LOOKUP(A459,'Flow Data'!A$6:A$2928,'Flow Data'!B$6:B$2928)","v":104},{"$f":"LOOKUP(E459,'Flow Data'!D$6:D$737,'Flow Data'!H$6:H$737)","v":0.52719808416010916},1221328502784]
["2005-04-27",31699,null,400,{"$f":"LOOKUP(A460,'Flow Data'!A$6:A$2928,'Flow Data'!B$6:B$2928)","v":113},{"$f":"LOOKUP(E460,'Flow Data'!D$6:D$737,'Flow Data'!H$6:H$737)","v":0.49401300034211404},1105850327040]
["2005-04-27",31699,null,200,{"$f":"LOOKUP(A461,'Flow Data'!A$6:A$2928,'Flow Data'!B$6:B$2928)","v":113},{"$f":"LOOKUP(E461,'Flow Data'!D$6:D$737,'Flow Data'!H$6:H$737)","v":0.49401300034211404},552925163520]
["2005-04-27",31699,null,190,{"$f":"LOOKUP(A462,'Flow Data'!A$6:A$2928,'Flow Data'!B$6:B$2928)","v":113},{"$f":"LOOKUP(E462,'Flow Data'!D$6:D$737,'Flow Data'!H$6:H$737)","v":0.49401300034211404},525278905344]
["2005-04-27",31699,null,360,{"$f":"LOOKUP(A463,'Flow Data'!A$6:A$2928,'Flow Data'!B$6:B$2928)","v":113},{"$f":"LOOKUP(E463,'Flow Data'!D$6:D$737,'Flow Data'!H$6:H$737)","v":0.49401300034211404},995265294336]
["2005-05-04",31699,null,190,{"$f":"LOOKUP(A464,'Flow Data'!A$6:A$2928,'Flow Data'!B$6:B$2928)","v":92},{"$f":"LOOKUP(E464,'Flow Data'!D$6:D$737,'Flow Data'!H$6:H$737)","v":0.5795415668833388},427660701696]
["2005-05-04",31699,null,1100,{"$f":"LOOKUP(A465,'Flow Data'!A$6:A$2928,'Flow Data'!B$6:B$2928)","v":92},{"$f":"LOOKUP(E465,'Flow Data'!D$6:D$737,'Flow Data'!H$6:H$737)","v":0.5795415668833388},2475930378240]
["2005-05-04",31699,null,4500,{"$f":"LOOKUP(A466,'Flow Data'!A$6:A$2928,'Flow Data'!B$6:B$2928)","v":92},{"$f":"LOOKUP(E466,'Flow Data'!D$6:D$737,'Flow Data'!H$6:H$737)","v":0.5795415668833388},10128806092800]
["2005-05-04",31699,null,700,{"$f":"LOOKUP(A467,'Flow Data'!A$6:A$2928,'Flow Data'!B$6:B$2928)","v":92},{"$f":"LOOKUP(E467,'Flow Data'!D$6:D$737,'Flow Data'!H$6:H$737)","v":0.5795415668833388},1575592058880]
["2005-05-09",31699,null,15000,{"$f":"LOOKUP(A468,'Flow Data'!A$6:A$2928,'Flow Data'!B$6:B$2928)","v":925},{"$f":"LOOKUP(E468,'Flow Data'!D$6:D$737,'Flow Data'!H$6:H$737)","v":0.15874101950051456},339461798400000]
["2005-05-09",31699,null,18000,{"$f":"LOOKUP(A469,'Flow Data'!A$6:A$2928,'Flow Data'!B$6:B$2928)","v":925},{"$f":"LOOKUP(E469,'Flow Data'!D$6:D$737,'Flow Data'!H$6:H$737)","v":0.15874101950051456},407354158080000]
["2005-05-09",31699,null,11000,{"$f":"LOOKUP(A470,'Flow Data'!A$6:A$2928,'Flow Data'!B$6:B$2928)","v":925},{"$f":"LOOKUP(E470,'Flow Data'!D$6:D$737,'Flow Data'!H$6:H$737)","v":0.15874101950051456},248938652160000]
["2005-05-09",31699,null,37000,{"$f":"LOOKUP(A471,'Flow Data'!A$6:A$2928,'Flow Data'!B$6:B$2928)","v":925},{"$f":"LOOKUP(E471,'Flow Data'!D$6:D$737,'Flow Data'!H$6:H$737)","v":0.15874101950051456},837339102720000]
["2005-05-09",31699,null,18000,{"$f":"LOOKUP(A472,'Flow Data'!A$6:A$2928,'Flow Data'!B$6:B$2928)","v":925},{"$f":"LOOKUP(E472,'Flow Data'!D$6:D$737,'Flow Data'!H$6:H$737)","v":0.15874101950051456},407354158080000]
["2005-05-17",31699,null,223,{"$f":"LOOKUP(A473,'Flow Data'!A$6:A$2928,'Flow Data'!B$6:B$2928)","v":119},{"$f":"LOOKUP(E473,'Flow Data'!D$6:D$737,'Flow Data'!H$6:H$737)","v":0.48306534382483735},649246684262.3999]
["2005-05-17",31699,null,487,{"$f":"LOOKUP(A474,'Flow Data'!A$6:A$2928,'Flow Data'!B$6:B$2928)","v":119},{"$f":"LOOKUP(E474,'Flow Data'!D$6:D$737,'Flow Data'!H$6:H$737)","v":0.48306534382483735},1417861592985.6001]
["2005-08-10",31699,null,4400,{"$f":"LOOKUP(A475,'Flow Data'!A$6:A$2928,'Flow Data'!B$6:B$2928)","v":209},{"$f":"LOOKUP(E475,'Flow Data'!D$6:D$737,'Flow Data'!H$6:H$737)","v":0.36948340745809194},22498671697920]
["2005-08-10",31699,null,1400,{"$f":"LOOKUP(A476,'Flow Data'!A$6:A$2928,'Flow Data'!B$6:B$2928)","v":209},{"$f":"LOOKUP(E476,'Flow Data'!D$6:D$737,'Flow Data'!H$6:H$737)","v":0.36948340745809194},7158668267520]
["2005-09-27",31699,null,230,{"$f":"LOOKUP(A477,'Flow Data'!A$6:A$2928,'Flow Data'!B$6:B$2928)","v":61},{"$f":"LOOKUP(E477,'Flow Data'!D$6:D$737,'Flow Data'!H$6:H$737)","v":0.77352035579883682},343253984256]
["2005-09-27",31699,null,710,{"$f":"LOOKUP(A478,'Flow Data'!A$6:A$2928,'Flow Data'!B$6:B$2928)","v":61},{"$f":"LOOKUP(E478,'Flow Data'!D$6:D$737,'Flow Data'!H$6:H$737)","v":0.77352035579883682},1059610125312]
["2005-09-27",31699,null,440,{"$f":"LOOKUP(A479,'Flow Data'!A$6:A$2928,'Flow Data'!B$6:B$2928)","v":61},{"$f":"LOOKUP(E479,'Flow Data'!D$6:D$737,'Flow Data'!H$6:H$737)","v":0.77352035579883682},656659795968]
["2005-09-27",31699,null,1400,{"$f":"LOOKUP(A480,'Flow Data'!A$6:A$2928,'Flow Data'!B$6:B$2928)","v":61},{"$f":"LOOKUP(E480,'Flow Data'!D$6:D$737,'Flow Data'!H$6:H$737)","v":0.77352035579883682},2089372078080]
["2005-09-28",31699,null,300,{"$f":"LOOKUP(A481,'Flow Data'!A$6:A$2928,'Flow Data'!B$6:B$2928)","v":57},{"$f":"LOOKUP(E481,'Flow Data'!D$6:D$737,'Flow Data'!H$6:H$737)","v":0.8060212110845022},418363729920]
["2005-09-28",31699,null,360,{"$f":"LOOKUP(A482,'Flow Data'!A$6:A$2928,'Flow Data'!B$6:B$2928)","v":57},{"$f":"LOOKUP(E482,'Flow Data'!D$6:D$737,'Flow Data'!H$6:H$737)","v":0.8060212110845022},502036475904]
["2005-09-28",31699,null,340,{"$f":"LOOKUP(A483,'Flow Data'!A$6:A$2928,'Flow Data'!B$6:B$2928)","v":57},{"$f":"LOOKUP(E483,'Flow Data'!D$6:D$737,'Flow Data'!H$6:H$737)","v":0.8060212110845022},474145560576]
["2005-09-28",31699,null,520,{"$f":"LOOKUP(A484,'Flow Data'!A$6:A$2928,'Flow Data'!B$6:B$2928)","v":57},{"$f":"LOOKUP(E484,'Flow Data'!D$6:D$737,'Flow Data'!H$6:H$737)","v":0.8060212110845022},725163798528]
["2005-09-28",31699,null,1200,{"$f":"LOOKUP(A485,'Flow Data'!A$6:A$2928,'Flow Data'!B$6:B$2928)","v":57},{"$f":"LOOKUP(E485,'Flow Data'!D$6:D$737,'Flow Data'!H$6:H$737)","v":0.8060212110845022},1673454919680]
["2005-10-11",31699,null,1400,{"$f":"LOOKUP(A486,'Flow Data'!A$6:A$2928,'Flow Data'!B$6:B$2928)","v":30},{"$f":"LOOKUP(E486,'Flow Data'!D$6:D$737,'Flow Data'!H$6:H$737)","v":0.9794731440301061},1027560038400]
["2005-10-11",31699,null,2100,{"$f":"LOOKUP(A487,'Flow Data'!A$6:A$2928,'Flow Data'!B$6:B$2928)","v":30},{"$f":"LOOKUP(E487,'Flow Data'!D$6:D$737,'Flow Data'!H$6:H$737)","v":0.9794731440301061},1541340057600]
["2005-10-11",31699,null,3400,{"$f":"LOOKUP(A488,'Flow Data'!A$6:A$2928,'Flow Data'!B$6:B$2928)","v":30},{"$f":"LOOKUP(E488,'Flow Data'!D$6:D$737,'Flow Data'!H$6:H$737)","v":0.9794731440301061},2495502950400]
["2005-10-11",31699,null,17000,{"$f":"LOOKUP(A489,'Flow Data'!A$6:A$2928,'Flow Data'!B$6:B$2928)","v":30},{"$f":"LOOKUP(E489,'Flow Data'!D$6:D$737,'Flow Data'!H$6:H$737)","v":0.9794731440301061},12477514752000]
["2005-10-24",31699,null,220,{"$f":"LOOKUP(A490,'Flow Data'!A$6:A$2928,'Flow Data'!B$6:B$2928)","v":54},{"$f":"LOOKUP(E490,'Flow Data'!D$6:D$737,'Flow Data'!H$6:H$737)","v":0.83715360930550808},290652696575.99994]
["2005-10-24",31699,null,160,{"$f":"LOOKUP(A491,'Flow Data'!A$6:A$2928,'Flow Data'!B$6:B$2928)","v":54},{"$f":"LOOKUP(E491,'Flow Data'!D$6:D$737,'Flow Data'!H$6:H$737)","v":0.83715360930550808},211383779328]
["2005-10-24",31699,null,390,{"$f":"LOOKUP(A492,'Flow Data'!A$6:A$2928,'Flow Data'!B$6:B$2928)","v":54},{"$f":"LOOKUP(E492,'Flow Data'!D$6:D$737,'Flow Data'!H$6:H$737)","v":0.83715360930550808},515247962112]
["2005-10-24",31699,null,440,{"$f":"LOOKUP(A493,'Flow Data'!A$6:A$2928,'Flow Data'!B$6:B$2928)","v":54},{"$f":"LOOKUP(E493,'Flow Data'!D$6:D$737,'Flow Data'!H$6:H$737)","v":0.83715360930550808},581305393151.99988]
["2005-10-24",31699,null,2100,{"$f":"LOOKUP(A494,'Flow Data'!A$6:A$2928,'Flow Data'!B$6:B$2928)","v":54},{"$f":"LOOKUP(E494,'Flow Data'!D$6:D$737,'Flow Data'!H$6:H$737)","v":0.83715360930550808},2774412103680]
["2005-11-16",31699,null,14136,{"$f":"LOOKUP(A495,'Flow Data'!A$6:A$2928,'Flow Data'!B$6:B$2928)","v":40},{"$f":"LOOKUP(E495,'Flow Data'!D$6:D$737,'Flow Data'!H$6:H$737)","v":0.95449880260006847},13833894002688]
["2005-11-16",31699,null,3076,{"$f":"LOOKUP(A496,'Flow Data'!A$6:A$2928,'Flow Data'!B$6:B$2928)","v":40},{"$f":"LOOKUP(E496,'Flow Data'!D$6:D$737,'Flow Data'!H$6:H$737)","v":0.95449880260006847},3010261598207.9995]
["2005-11-23",31699,null,530,{"$f":"LOOKUP(A497,'Flow Data'!A$6:A$2928,'Flow Data'!B$6:B$2928)","v":61},{"$f":"LOOKUP(E497,'Flow Data'!D$6:D$737,'Flow Data'!H$6:H$737)","v":0.77352035579883682},790976572416]
["2005-11-23",31699,null,230,{"$f":"LOOKUP(A498,'Flow Data'!A$6:A$2928,'Flow Data'!B$6:B$2928)","v":61},{"$f":"LOOKUP(E498,'Flow Data'!D$6:D$737,'Flow Data'!H$6:H$737)","v":0.77352035579883682},343253984256]
["2005-11-23",31699,null,790,{"$f":"LOOKUP(A499,'Flow Data'!A$6:A$2928,'Flow Data'!B$6:B$2928)","v":61},{"$f":"LOOKUP(E499,'Flow Data'!D$6:D$737,'Flow Data'!H$6:H$737)","v":0.77352035579883682},1179002815488]
["2005-11-23",31699,null,1200,{"$f":"LOOKUP(A500,'Flow Data'!A$6:A$2928,'Flow Data'!B$6:B$2928)","v":61},{"$f":"LOOKUP(E500,'Flow Data'!D$6:D$737,'Flow Data'!H$6:H$737)","v":0.77352035579883682},1790890352640]
["2005-11-28",31699,null,990,{"$f":"LOOKUP(A501,'Flow Data'!A$6:A$2928,'Flow Data'!B$6:B$2928)","v":301},{"$f":"LOOKUP(E501,'Flow Data'!D$6:D$737,'Flow Data'!H$6:H$737)","v":0.31885049606568794},7290538472448.002]
["2005-11-28",31699,null,1500,{"$f":"LOOKUP(A502,'Flow Data'!A$6:A$2928,'Flow Data'!B$6:B$2928)","v":301},{"$f":"LOOKUP(E502,'Flow Data'!D$6:D$737,'Flow Data'!H$6:H$737)","v":0.31885049606568794},11046270412800]
["2005-11-28",31699,null,1400,{"$f":"LOOKUP(A503,'Flow Data'!A$6:A$2928,'Flow Data'!B$6:B$2928)","v":301},{"$f":"LOOKUP(E503,'Flow Data'!D$6:D$737,'Flow Data'!H$6:H$737)","v":0.31885049606568794},10309852385280]
["2005-11-28",31699,null,2000,{"$f":"LOOKUP(A504,'Flow Data'!A$6:A$2928,'Flow Data'!B$6:B$2928)","v":301},{"$f":"LOOKUP(E504,'Flow Data'!D$6:D$737,'Flow Data'!H$6:H$737)","v":0.31885049606568794},14728360550400]
["2005-11-28",31699,null,1200,{"$f":"LOOKUP(A505,'Flow Data'!A$6:A$2928,'Flow Data'!B$6:B$2928)","v":301},{"$f":"LOOKUP(E505,'Flow Data'!D$6:D$737,'Flow Data'!H$6:H$737)","v":0.31885049606568794},8837016330240.002]
["2005-12-16",31699,null,7400,{"$f":"LOOKUP(A506,'Flow Data'!A$6:A$2928,'Flow Data'!B$6:B$2928)","v":750},{"$f":"LOOKUP(E506,'Flow Data'!D$6:D$737,'Flow Data'!H$6:H$737)","v":0.18816284639069614},135784719360000]
["2005-12-16",31699,null,11000,{"$f":"LOOKUP(A507,'Flow Data'!A$6:A$2928,'Flow Data'!B$6:B$2928)","v":750},{"$f":"LOOKUP(E507,'Flow Data'!D$6:D$737,'Flow Data'!H$6:H$737)","v":0.18816284639069614},201842150400000]
["2005-12-16",31699,null,9900,{"$f":"LOOKUP(A508,'Flow Data'!A$6:A$2928,'Flow Data'!B$6:B$2928)","v":750},{"$f":"LOOKUP(E508,'Flow Data'!D$6:D$737,'Flow Data'!H$6:H$737)","v":0.18816284639069614},181657935360000]
["2005-12-16",31699,null,8800,{"$f":"LOOKUP(A509,'Flow Data'!A$6:A$2928,'Flow Data'!B$6:B$2928)","v":750},{"$f":"LOOKUP(E509,'Flow Data'!D$6:D$737,'Flow Data'!H$6:H$737)","v":0.18816284639069614},161473720320000]
["2005-12-19",31699,null,750,{"$f":"LOOKUP(A510,'Flow Data'!A$6:A$2928,'Flow Data'!B$6:B$2928)","v":1090},{"$f":"LOOKUP(E510,'Flow Data'!D$6:D$737,'Flow Data'!H$6:H$737)","v":0.13479302086897138},20000722176000]
["2005-12-19",31699,null,860,{"$f":"LOOKUP(A511,'Flow Data'!A$6:A$2928,'Flow Data'!B$6:B$2928)","v":1090},{"$f":"LOOKUP(E511,'Flow Data'!D$6:D$737,'Flow Data'!H$6:H$737)","v":0.13479302086897138},22934161428480.004]
["2005-12-19",31699,null,960,{"$f":"LOOKUP(A512,'Flow Data'!A$6:A$2928,'Flow Data'!B$6:B$2928)","v":1090},{"$f":"LOOKUP(E512,'Flow Data'!D$6:D$737,'Flow Data'!H$6:H$737)","v":0.13479302086897138},25600924385280]
["2005-12-19",31699,null,610,{"$f":"LOOKUP(A513,'Flow Data'!A$6:A$2928,'Flow Data'!B$6:B$2928)","v":1090},{"$f":"LOOKUP(E513,'Flow Data'!D$6:D$737,'Flow Data'!H$6:H$737)","v":0.13479302086897138},16267254036480.004]
["2005-12-19",31699,null,860,{"$f":"LOOKUP(A514,'Flow Data'!A$6:A$2928,'Flow Data'!B$6:B$2928)","v":1090},{"$f":"LOOKUP(E514,'Flow Data'!D$6:D$737,'Flow Data'!H$6:H$737)","v":0.13479302086897138},22934161428480.004]
["2006-01-04",31699,null,1200,{"$f":"LOOKUP(A515,'Flow Data'!A$6:A$2928,'Flow Data'!B$6:B$2928)","v":72},{"$f":"LOOKUP(E515,'Flow Data'!D$6:D$737,'Flow Data'!H$6:H$737)","v":0.6900444748546013},2113837793280]
["2006-01-04",31699,null,130,{"$f":"LOOKUP(A516,'Flow Data'!A$6:A$2928,'Flow Data'!B$6:B$2928)","v":72},{"$f":"LOOKUP(E516,'Flow Data'!D$6:D$737,'Flow Data'!H$6:H$737)","v":0.6900444748546013},{"$f":"((D516/100)*1000*E516*28.3168)*60*60*24","v":228999094272}]
["2006-01-04",31699,null,120,{"$f":"LOOKUP(A517,'Flow Data'!A$6:A$2928,'Flow Data'!B$6:B$2928)","v":72},{"$f":"LOOKUP(E517,'Flow Data'!D$6:D$737,'Flow Data'!H$6:H$737)","v":0.6900444748546013},211383779328]
["2006-01-04",31699,null,52,{"$f":"LOOKUP(A518,'Flow Data'!A$6:A$2928,'Flow Data'!B$6:B$2928)","v":72},{"$f":"LOOKUP(E518,'Flow Data'!D$6:D$737,'Flow Data'!H$6:H$737)","v":0.6900444748546013},91599637708.800003]
["2006-01-12",31699,null,460,{"$f":"LOOKUP(A519,'Flow Data'!A$6:A$2928,'Flow Data'!B$6:B$2928)","v":78},{"$f":"LOOKUP(E519,'Flow Data'!D$6:D$737,'Flow Data'!H$6:H$737)","v":0.65035921997947299},877829861376]
["2006-01-12",31699,null,640,{"$f":"LOOKUP(A520,'Flow Data'!A$6:A$2928,'Flow Data'!B$6:B$2928)","v":78},{"$f":"LOOKUP(E520,'Flow Data'!D$6:D$737,'Flow Data'!H$6:H$737)","v":0.65035921997947299},1221328502784]
["2006-01-12",31699,null,590,{"$f":"LOOKUP(A521,'Flow Data'!A$6:A$2928,'Flow Data'!B$6:B$2928)","v":78},{"$f":"LOOKUP(E521,'Flow Data'!D$6:D$737,'Flow Data'!H$6:H$737)","v":0.65035921997947299},1125912213503.9998]
["2006-01-12",31699,null,500,{"$f":"LOOKUP(A522,'Flow Data'!A$6:A$2928,'Flow Data'!B$6:B$2928)","v":78},{"$f":"LOOKUP(E522,'Flow Data'!D$6:D$737,'Flow Data'!H$6:H$737)","v":0.65035921997947299},954162892800]
["2006-01-12",31699,null,880,{"$f":"LOOKUP(A523,'Flow Data'!A$6:A$2928,'Flow Data'!B$6:B$2928)","v":78},{"$f":"LOOKUP(E523,'Flow Data'!D$6:D$737,'Flow Data'!H$6:H$737)","v":0.65035921997947299},1679326691328]
["2006-02-08",31699,null,201,{"$f":"LOOKUP(A524,'Flow Data'!A$6:A$2928,'Flow Data'!B$6:B$2928)","v":41},{"$f":"LOOKUP(E524,'Flow Data'!D$6:D$737,'Flow Data'!H$6:H$737)","v":0.95107765993841942},201621958963.19995]
["2006-02-08",31699,null,146,{"$f":"LOOKUP(A525,'Flow Data'!A$6:A$2928,'Flow Data'!B$6:B$2928)","v":41},{"$f":"LOOKUP(E525,'Flow Data'!D$6:D$737,'Flow Data'!H$6:H$737)","v":0.95107765993841942},146451771187.19998]
["2006-02-14",31699,null,1200,{"$f":"LOOKUP(A526,'Flow Data'!A$6:A$2928,'Flow Data'!B$6:B$2928)","v":86},{"$f":"LOOKUP(E526,'Flow Data'!D$6:D$737,'Flow Data'!H$6:H$737)","v":0.60554225111187121},2524861808640]
["2006-02-14",31699,null,1000,{"$f":"LOOKUP(A527,'Flow Data'!A$6:A$2928,'Flow Data'!B$6:B$2928)","v":86},{"$f":"LOOKUP(E527,'Flow Data'!D$6:D$737,'Flow Data'!H$6:H$737)","v":0.60554225111187121},2104051507200]
["2006-02-14",31699,null,860,{"$f":"LOOKUP(A528,'Flow Data'!A$6:A$2928,'Flow Data'!B$6:B$2928)","v":86},{"$f":"LOOKUP(E528,'Flow Data'!D$6:D$737,'Flow Data'!H$6:H$737)","v":0.60554225111187121},1809484296192.0005]
["2006-02-14",31699,null,1600,{"$f":"LOOKUP(A529,'Flow Data'!A$6:A$2928,'Flow Data'!B$6:B$2928)","v":86},{"$f":"LOOKUP(E529,'Flow Data'!D$6:D$737,'Flow Data'!H$6:H$737)","v":0.60554225111187121},3366482411520.001]
["2006-02-28",31699,null,530,{"$f":"LOOKUP(A530,'Flow Data'!A$6:A$2928,'Flow Data'!B$6:B$2928)","v":94},{"$f":"LOOKUP(E530,'Flow Data'!D$6:D$737,'Flow Data'!H$6:H$737)","v":0.5672254533014025},1218881931264]
["2006-02-28",31699,null,880,{"$f":"LOOKUP(A531,'Flow Data'!A$6:A$2928,'Flow Data'!B$6:B$2928)","v":94},{"$f":"LOOKUP(E531,'Flow Data'!D$6:D$737,'Flow Data'!H$6:H$737)","v":0.5672254533014025},2023803961344.0005]
["2006-02-28",31699,null,320,{"$f":"LOOKUP(A532,'Flow Data'!A$6:A$2928,'Flow Data'!B$6:B$2928)","v":94},{"$f":"LOOKUP(E532,'Flow Data'!D$6:D$737,'Flow Data'!H$6:H$737)","v":0.5672254533014025},735928713216]
["2006-02-28",31699,null,310,{"$f":"LOOKUP(A533,'Flow Data'!A$6:A$2928,'Flow Data'!B$6:B$2928)","v":94},{"$f":"LOOKUP(E533,'Flow Data'!D$6:D$737,'Flow Data'!H$6:H$737)","v":0.5672254533014025},712930940928.00012]
["2006-02-28",31699,null,230,{"$f":"LOOKUP(A534,'Flow Data'!A$6:A$2928,'Flow Data'!B$6:B$2928)","v":94},{"$f":"LOOKUP(E534,'Flow Data'!D$6:D$737,'Flow Data'!H$6:H$737)","v":0.5672254533014025},528948762624]
["2006-03-15",31699,null,86,{"$f":"LOOKUP(A535,'Flow Data'!A$6:A$2928,'Flow Data'!B$6:B$2928)","v":46},{"$f":"LOOKUP(E535,'Flow Data'!D$6:D$737,'Flow Data'!H$6:H$737)","v":0.91755046185425937},96786369331.200012]
["2006-03-15",31699,null,98,{"$f":"LOOKUP(A536,'Flow Data'!A$6:A$2928,'Flow Data'!B$6:B$2928)","v":46},{"$f":"LOOKUP(E536,'Flow Data'!D$6:D$737,'Flow Data'!H$6:H$737)","v":0.91755046185425937},110291444121.59999]
["2006-03-15",31699,null,100,{"$f":"LOOKUP(A537,'Flow Data'!A$6:A$2928,'Flow Data'!B$6:B$2928)","v":46},{"$f":"LOOKUP(E537,'Flow Data'!D$6:D$737,'Flow Data'!H$6:H$737)","v":0.91755046185425937},112542289920]
["2006-03-15",31699,null,170,{"$f":"LOOKUP(A538,'Flow Data'!A$6:A$2928,'Flow Data'!B$6:B$2928)","v":46},{"$f":"LOOKUP(E538,'Flow Data'!D$6:D$737,'Flow Data'!H$6:H$737)","v":0.91755046185425937},191321892864.00003]
["2006-03-22",31699,null,970,{"$f":"LOOKUP(A539,'Flow Data'!A$6:A$2928,'Flow Data'!B$6:B$2928)","v":87},{"$f":"LOOKUP(E539,'Flow Data'!D$6:D$737,'Flow Data'!H$6:H$737)","v":0.60075265138556255},2064661705728]
["2006-03-22",31699,null,650,{"$f":"LOOKUP(A540,'Flow Data'!A$6:A$2928,'Flow Data'!B$6:B$2928)","v":87},{"$f":"LOOKUP(E540,'Flow Data'!D$6:D$737,'Flow Data'!H$6:H$737)","v":0.60075265138556255},1383536194560]
["2006-03-22",31699,null,1200,{"$f":"LOOKUP(A541,'Flow Data'!A$6:A$2928,'Flow Data'!B$6:B$2928)","v":87},{"$f":"LOOKUP(E541,'Flow Data'!D$6:D$737,'Flow Data'!H$6:H$737)","v":0.60075265138556255},2554220666880]
["2006-03-22",31699,null,460,{"$f":"LOOKUP(A542,'Flow Data'!A$6:A$2928,'Flow Data'!B$6:B$2928)","v":87},{"$f":"LOOKUP(E542,'Flow Data'!D$6:D$737,'Flow Data'!H$6:H$737)","v":0.60075265138556255},979117922303.99976]
["2006-03-22",31699,null,960,{"$f":"LOOKUP(A543,'Flow Data'!A$6:A$2928,'Flow Data'!B$6:B$2928)","v":87},{"$f":"LOOKUP(E543,'Flow Data'!D$6:D$737,'Flow Data'!H$6:H$737)","v":0.60075265138556255},2043376533504]
["2006-04-05",31699,null,300,{"$f":"LOOKUP(A544,'Flow Data'!A$6:A$2928,'Flow Data'!B$6:B$2928)","v":68},{"$f":"LOOKUP(E544,'Flow Data'!D$6:D$737,'Flow Data'!H$6:H$737)","v":0.71946630174478265},499100590080]
["2006-04-05",31699,null,220,{"$f":"LOOKUP(A545,'Flow Data'!A$6:A$2928,'Flow Data'!B$6:B$2928)","v":68},{"$f":"LOOKUP(E545,'Flow Data'!D$6:D$737,'Flow Data'!H$6:H$737)","v":0.71946630174478265},366007099392]
["2006-04-05",31699,null,240,{"$f":"LOOKUP(A546,'Flow Data'!A$6:A$2928,'Flow Data'!B$6:B$2928)","v":68},{"$f":"LOOKUP(E546,'Flow Data'!D$6:D$737,'Flow Data'!H$6:H$737)","v":0.71946630174478265},399280472063.99994]
["2006-04-05",31699,null,140,{"$f":"LOOKUP(A547,'Flow Data'!A$6:A$2928,'Flow Data'!B$6:B$2928)","v":68},{"$f":"LOOKUP(E547,'Flow Data'!D$6:D$737,'Flow Data'!H$6:H$737)","v":0.71946630174478265},232913608704]
["2006-04-05",31699,null,440,{"$f":"LOOKUP(A548,'Flow Data'!A$6:A$2928,'Flow Data'!B$6:B$2928)","v":68},{"$f":"LOOKUP(E548,'Flow Data'!D$6:D$737,'Flow Data'!H$6:H$737)","v":0.71946630174478265},732014198784]
["2006-04-19",31699,null,190,{"$f":"LOOKUP(A549,'Flow Data'!A$6:A$2928,'Flow Data'!B$6:B$2928)","v":50},{"$f":"LOOKUP(E549,'Flow Data'!D$6:D$737,'Flow Data'!H$6:H$737)","v":0.88060212110845026},232424294400]
["2006-04-19",31699,null,63,{"$f":"LOOKUP(A550,'Flow Data'!A$6:A$2928,'Flow Data'!B$6:B$2928)","v":50},{"$f":"LOOKUP(E550,'Flow Data'!D$6:D$737,'Flow Data'!H$6:H$737)","v":0.88060212110845026},77067002880.000015]
["2006-04-19",31699,null,340,{"$f":"LOOKUP(A551,'Flow Data'!A$6:A$2928,'Flow Data'!B$6:B$2928)","v":50},{"$f":"LOOKUP(E551,'Flow Data'!D$6:D$737,'Flow Data'!H$6:H$737)","v":0.88060212110845026},415917158400]
["2006-04-19",31699,null,290,{"$f":"LOOKUP(A552,'Flow Data'!A$6:A$2928,'Flow Data'!B$6:B$2928)","v":50},{"$f":"LOOKUP(E552,'Flow Data'!D$6:D$737,'Flow Data'!H$6:H$737)","v":0.88060212110845026},354752870400]
["2006-05-02",31699,null,740,{"$f":"LOOKUP(A553,'Flow Data'!A$6:A$2928,'Flow Data'!B$6:B$2928)","v":787},{"$f":"LOOKUP(E553,'Flow Data'!D$6:D$737,'Flow Data'!H$6:H$737)","v":0.18200478959972788},14248343218176]
["2006-05-02",31699,null,640,{"$f":"LOOKUP(A554,'Flow Data'!A$6:A$2928,'Flow Data'!B$6:B$2928)","v":787},{"$f":"LOOKUP(E554,'Flow Data'!D$6:D$737,'Flow Data'!H$6:H$737)","v":0.18200478959972788},12322891431936.002]
["2006-05-02",31699,null,550,{"$f":"LOOKUP(A555,'Flow Data'!A$6:A$2928,'Flow Data'!B$6:B$2928)","v":787},{"$f":"LOOKUP(E555,'Flow Data'!D$6:D$737,'Flow Data'!H$6:H$737)","v":0.18200478959972788},10589984824320]
["2006-05-02",31699,null,660,{"$f":"LOOKUP(A556,'Flow Data'!A$6:A$2928,'Flow Data'!B$6:B$2928)","v":787},{"$f":"LOOKUP(E556,'Flow Data'!D$6:D$737,'Flow Data'!H$6:H$737)","v":0.18200478959972788},12707981789184]
["2006-05-02",31699,null,860,{"$f":"LOOKUP(A557,'Flow Data'!A$6:A$2928,'Flow Data'!B$6:B$2928)","v":787},{"$f":"LOOKUP(E557,'Flow Data'!D$6:D$737,'Flow Data'!H$6:H$737)","v":0.18200478959972788},16558885361663.996]
["2006-05-04",31699,null,470,{"$f":"LOOKUP(A558,'Flow Data'!A$6:A$2928,'Flow Data'!B$6:B$2928)","v":99},{"$f":"LOOKUP(E558,'Flow Data'!D$6:D$737,'Flow Data'!H$6:H$737)","v":0.5453301402668489},1138389728256.0002]
["2006-05-04",31699,null,990,{"$f":"LOOKUP(A559,'Flow Data'!A$6:A$2928,'Flow Data'!B$6:B$2928)","v":99},{"$f":"LOOKUP(E559,'Flow Data'!D$6:D$737,'Flow Data'!H$6:H$737)","v":0.5453301402668489},2397884746752]
["2006-05-04",31699,null,380,{"$f":"LOOKUP(A560,'Flow Data'!A$6:A$2928,'Flow Data'!B$6:B$2928)","v":99},{"$f":"LOOKUP(E560,'Flow Data'!D$6:D$737,'Flow Data'!H$6:H$737)","v":0.5453301402668489},920400205824]
["2006-05-04",31699,null,620,{"$f":"LOOKUP(A561,'Flow Data'!A$6:A$2928,'Flow Data'!B$6:B$2928)","v":99},{"$f":"LOOKUP(E561,'Flow Data'!D$6:D$737,'Flow Data'!H$6:H$737)","v":0.5453301402668489},1501705598976]
["2006-05-09",31699,null,540,{"$f":"LOOKUP(A562,'Flow Data'!A$6:A$2928,'Flow Data'!B$6:B$2928)","v":423},{"$f":"LOOKUP(E562,'Flow Data'!D$6:D$737,'Flow Data'!H$6:H$737)","v":0.26992815600410736},5588458665984.001]
["2006-05-09",31699,null,440,{"$f":"LOOKUP(A563,'Flow Data'!A$6:A$2928,'Flow Data'!B$6:B$2928)","v":423},{"$f":"LOOKUP(E563,'Flow Data'!D$6:D$737,'Flow Data'!H$6:H$737)","v":0.26992815600410736},4553558913024.001]
["2006-06-01",31699,null,1400,{"$f":"LOOKUP(A564,'Flow Data'!A$6:A$2928,'Flow Data'!B$6:B$2928)","v":166},{"$f":"LOOKUP(E564,'Flow Data'!D$6:D$737,'Flow Data'!H$6:H$737)","v":0.41122134793020904},5685832212480]
["2006-06-01",31699,null,1400,{"$f":"LOOKUP(A565,'Flow Data'!A$6:A$2928,'Flow Data'!B$6:B$2928)","v":166},{"$f":"LOOKUP(E565,'Flow Data'!D$6:D$737,'Flow Data'!H$6:H$737)","v":0.41122134793020904},5685832212480]
["2006-06-01",31699,null,1100,{"$f":"LOOKUP(A566,'Flow Data'!A$6:A$2928,'Flow Data'!B$6:B$2928)","v":166},{"$f":"LOOKUP(E566,'Flow Data'!D$6:D$737,'Flow Data'!H$6:H$737)","v":0.41122134793020904},4467439595520.001]
["2006-06-01",31699,null,650,{"$f":"LOOKUP(A567,'Flow Data'!A$6:A$2928,'Flow Data'!B$6:B$2928)","v":166},{"$f":"LOOKUP(E567,'Flow Data'!D$6:D$737,'Flow Data'!H$6:H$737)","v":0.41122134793020904},2639850670080]
["2006-06-21",31699,null,1900,{"$f":"LOOKUP(A568,'Flow Data'!A$6:A$2928,'Flow Data'!B$6:B$2928)","v":674},{"$f":"LOOKUP(E568,'Flow Data'!D$6:D$737,'Flow Data'!H$6:H$737)","v":0.20492644543277616},31330794885120]
["2006-06-21",31699,null,1200,{"$f":"LOOKUP(A569,'Flow Data'!A$6:A$2928,'Flow Data'!B$6:B$2928)","v":674},{"$f":"LOOKUP(E569,'Flow Data'!D$6:D$737,'Flow Data'!H$6:H$737)","v":0.20492644543277616},19787870453760]
["2006-06-21",31699,null,1100,{"$f":"LOOKUP(A570,'Flow Data'!A$6:A$2928,'Flow Data'!B$6:B$2928)","v":674},{"$f":"LOOKUP(E570,'Flow Data'!D$6:D$737,'Flow Data'!H$6:H$737)","v":0.20492644543277616},18138881249280.004]
["2006-06-21",31699,null,1800,{"$f":"LOOKUP(A571,'Flow Data'!A$6:A$2928,'Flow Data'!B$6:B$2928)","v":674},{"$f":"LOOKUP(E571,'Flow Data'!D$6:D$737,'Flow Data'!H$6:H$737)","v":0.20492644543277616},29681805680640]
["2006-06-21",31699,null,2900,{"$f":"LOOKUP(A572,'Flow Data'!A$6:A$2928,'Flow Data'!B$6:B$2928)","v":674},{"$f":"LOOKUP(E572,'Flow Data'!D$6:D$737,'Flow Data'!H$6:H$737)","v":0.20492644543277616},47820686929920.008]
["2006-07-10",31699,null,63,{"$f":"LOOKUP(A573,'Flow Data'!A$6:A$2928,'Flow Data'!B$6:B$2928)","v":1160},{"$f":"LOOKUP(E573,'Flow Data'!D$6:D$737,'Flow Data'!H$6:H$737)","v":0.1255559356825191},1787954466816]
["2006-07-10",31699,null,110,{"$f":"LOOKUP(A574,'Flow Data'!A$6:A$2928,'Flow Data'!B$6:B$2928)","v":1160},{"$f":"LOOKUP(E574,'Flow Data'!D$6:D$737,'Flow Data'!H$6:H$737)","v":0.1255559356825191},3121825259520.001]
["2006-07-10",31699,null,340,{"$f":"LOOKUP(A575,'Flow Data'!A$6:A$2928,'Flow Data'!B$6:B$2928)","v":1160},{"$f":"LOOKUP(E575,'Flow Data'!D$6:D$737,'Flow Data'!H$6:H$737)","v":0.1255559356825191},9649278074880]
["2006-07-10",31699,null,550,{"$f":"LOOKUP(A576,'Flow Data'!A$6:A$2928,'Flow Data'!B$6:B$2928)","v":1160},{"$f":"LOOKUP(E576,'Flow Data'!D$6:D$737,'Flow Data'!H$6:H$737)","v":0.1255559356825191},15609126297600]
["2006-07-20",31699,null,660,{"$f":"LOOKUP(A577,'Flow Data'!A$6:A$2928,'Flow Data'!B$6:B$2928)","v":112},{"$f":"LOOKUP(E577,'Flow Data'!D$6:D$737,'Flow Data'!H$6:H$737)","v":0.49674991447143324},1808505667584]
["2006-07-20",31699,null,1000,{"$f":"LOOKUP(A578,'Flow Data'!A$6:A$2928,'Flow Data'!B$6:B$2928)","v":112},{"$f":"LOOKUP(E578,'Flow Data'!D$6:D$737,'Flow Data'!H$6:H$737)","v":0.49674991447143324},2740160102400]
["2006-07-20",31699,null,1500,{"$f":"LOOKUP(A579,'Flow Data'!A$6:A$2928,'Flow Data'!B$6:B$2928)","v":112},{"$f":"LOOKUP(E579,'Flow Data'!D$6:D$737,'Flow Data'!H$6:H$737)","v":0.49674991447143324},4110240153600]
["2006-07-20",31699,null,2000,{"$f":"LOOKUP(A580,'Flow Data'!A$6:A$2928,'Flow Data'!B$6:B$2928)","v":112},{"$f":"LOOKUP(E580,'Flow Data'!D$6:D$737,'Flow Data'!H$6:H$737)","v":0.49674991447143324},{"$f":"((D580/100)*1000*E580*28.3168)*60*60*24","v":5480320204800}]
["2006-07-20",31699,null,1800,{"$f":"LOOKUP(A581,'Flow Data'!A$6:A$2928,'Flow Data'!B$6:B$2928)","v":112},{"$f":"LOOKUP(E581,'Flow Data'!D$6:D$737,'Flow Data'!H$6:H$737)","v":0.49674991447143324},4932288184320.001]
["2006-08-07",31699,null,380,{"$f":"LOOKUP(A582,'Flow Data'!A$6:A$2928,'Flow Data'!B$6:B$2928)","v":82},{"$f":"LOOKUP(E582,'Flow Data'!D$6:D$737,'Flow Data'!H$6:H$737)","v":0.62709544988025989},762351685632.00012]
["2006-08-07",31699,null,780,{"$f":"LOOKUP(A583,'Flow Data'!A$6:A$2928,'Flow Data'!B$6:B$2928)","v":82},{"$f":"LOOKUP(E583,'Flow Data'!D$6:D$737,'Flow Data'!H$6:H$737)","v":0.62709544988025989},1564827144192.0005]
["2006-08-07",31699,null,710,{"$f":"LOOKUP(A584,'Flow Data'!A$6:A$2928,'Flow Data'!B$6:B$2928)","v":82},{"$f":"LOOKUP(E584,'Flow Data'!D$6:D$737,'Flow Data'!H$6:H$737)","v":0.62709544988025989},1424393938944]
["2006-08-07",31699,null,480,{"$f":"LOOKUP(A585,'Flow Data'!A$6:A$2928,'Flow Data'!B$6:B$2928)","v":82},{"$f":"LOOKUP(E585,'Flow Data'!D$6:D$737,'Flow Data'!H$6:H$737)","v":0.62709544988025989},962970550272.00024]
["2006-08-14",31699,null,370,{"$f":"LOOKUP(A586,'Flow Data'!A$6:A$2928,'Flow Data'!B$6:B$2928)","v":101},{"$f":"LOOKUP(E586,'Flow Data'!D$6:D$737,'Flow Data'!H$6:H$737)","v":0.53848785494355089},914283777024]
["2006-08-14",31699,null,1100,{"$f":"LOOKUP(A587,'Flow Data'!A$6:A$2928,'Flow Data'!B$6:B$2928)","v":101},{"$f":"LOOKUP(E587,'Flow Data'!D$6:D$737,'Flow Data'!H$6:H$737)","v":0.53848785494355089},2718140958720]
["2006-08-14",31699,null,240,{"$f":"LOOKUP(A588,'Flow Data'!A$6:A$2928,'Flow Data'!B$6:B$2928)","v":101},{"$f":"LOOKUP(E588,'Flow Data'!D$6:D$737,'Flow Data'!H$6:H$737)","v":0.53848785494355089},593048936448.00012]
["2006-08-14",31699,null,210,{"$f":"LOOKUP(A589,'Flow Data'!A$6:A$2928,'Flow Data'!B$6:B$2928)","v":101},{"$f":"LOOKUP(E589,'Flow Data'!D$6:D$737,'Flow Data'!H$6:H$737)","v":0.53848785494355089},518917819392]
["2006-08-14",31699,null,230,{"$f":"LOOKUP(A590,'Flow Data'!A$6:A$2928,'Flow Data'!B$6:B$2928)","v":101},{"$f":"LOOKUP(E590,'Flow Data'!D$6:D$737,'Flow Data'!H$6:H$737)","v":0.53848785494355089},568338564096.00012]
["2006-08-29",31699,null,4884,{"$f":"LOOKUP(A591,'Flow Data'!A$6:A$2928,'Flow Data'!B$6:B$2928)","v":88},{"$f":"LOOKUP(E591,'Flow Data'!D$6:D$737,'Flow Data'!H$6:H$737)","v":0.59527882312692415},10515168667238.4]
["2006-08-29",31699,null,295,{"$f":"LOOKUP(A592,'Flow Data'!A$6:A$2928,'Flow Data'!B$6:B$2928)","v":88},{"$f":"LOOKUP(E592,'Flow Data'!D$6:D$737,'Flow Data'!H$6:H$737)","v":0.59527882312692415},635129966592]
["2006-09-19",31699,null,2300,{"$f":"LOOKUP(A593,'Flow Data'!A$6:A$2928,'Flow Data'!B$6:B$2928)","v":423},{"$f":"LOOKUP(E593,'Flow Data'!D$6:D$737,'Flow Data'!H$6:H$737)","v":0.26992815600410736},23802694318080]
["2006-09-19",31699,null,3000,{"$f":"LOOKUP(A594,'Flow Data'!A$6:A$2928,'Flow Data'!B$6:B$2928)","v":423},{"$f":"LOOKUP(E594,'Flow Data'!D$6:D$737,'Flow Data'!H$6:H$737)","v":0.26992815600410736},31046992588800]
["2006-09-19",31699,null,950,{"$f":"LOOKUP(A595,'Flow Data'!A$6:A$2928,'Flow Data'!B$6:B$2928)","v":423},{"$f":"LOOKUP(E595,'Flow Data'!D$6:D$737,'Flow Data'!H$6:H$737)","v":0.26992815600410736},9831547653120]
["2006-09-19",31699,null,2200,{"$f":"LOOKUP(A596,'Flow Data'!A$6:A$2928,'Flow Data'!B$6:B$2928)","v":423},{"$f":"LOOKUP(E596,'Flow Data'!D$6:D$737,'Flow Data'!H$6:H$737)","v":0.26992815600410736},22767794565120]
["2006-09-19",31699,null,1600,{"$f":"LOOKUP(A597,'Flow Data'!A$6:A$2928,'Flow Data'!B$6:B$2928)","v":423},{"$f":"LOOKUP(E597,'Flow Data'!D$6:D$737,'Flow Data'!H$6:H$737)","v":0.26992815600410736},16558396047360]
["2006-09-26",31699,null,640,{"$f":"LOOKUP(A598,'Flow Data'!A$6:A$2928,'Flow Data'!B$6:B$2928)","v":927},{"$f":"LOOKUP(E598,'Flow Data'!D$6:D$737,'Flow Data'!H$6:H$737)","v":0.1580567909681847},14515019513856]
["2006-09-26",31699,null,550,{"$f":"LOOKUP(A599,'Flow Data'!A$6:A$2928,'Flow Data'!B$6:B$2928)","v":927},{"$f":"LOOKUP(E599,'Flow Data'!D$6:D$737,'Flow Data'!H$6:H$737)","v":0.1580567909681847},12473844894720]
["2006-09-26",31699,null,600,{"$f":"LOOKUP(A600,'Flow Data'!A$6:A$2928,'Flow Data'!B$6:B$2928)","v":927},{"$f":"LOOKUP(E600,'Flow Data'!D$6:D$737,'Flow Data'!H$6:H$737)","v":0.1580567909681847},13607830794240]
["2006-09-26",31699,null,620,{"$f":"LOOKUP(A601,'Flow Data'!A$6:A$2928,'Flow Data'!B$6:B$2928)","v":927},{"$f":"LOOKUP(E601,'Flow Data'!D$6:D$737,'Flow Data'!H$6:H$737)","v":0.1580567909681847},14061425154047.996]
["2006-10-05",31699,null,120,{"$f":"LOOKUP(A602,'Flow Data'!A$6:A$2928,'Flow Data'!B$6:B$2928)","v":65},{"$f":"LOOKUP(E602,'Flow Data'!D$6:D$737,'Flow Data'!H$6:H$737)","v":0.74204584331166612},190832578560]
["2006-10-05",31699,null,220,{"$f":"LOOKUP(A603,'Flow Data'!A$6:A$2928,'Flow Data'!B$6:B$2928)","v":65},{"$f":"LOOKUP(E603,'Flow Data'!D$6:D$737,'Flow Data'!H$6:H$737)","v":0.74204584331166612},349859727360]
["2006-10-05",31699,null,250,{"$f":"LOOKUP(A604,'Flow Data'!A$6:A$2928,'Flow Data'!B$6:B$2928)","v":65},{"$f":"LOOKUP(E604,'Flow Data'!D$6:D$737,'Flow Data'!H$6:H$737)","v":0.74204584331166612},397567872000]
["2006-10-05",31699,null,120,{"$f":"LOOKUP(A605,'Flow Data'!A$6:A$2928,'Flow Data'!B$6:B$2928)","v":65},{"$f":"LOOKUP(E605,'Flow Data'!D$6:D$737,'Flow Data'!H$6:H$737)","v":0.74204584331166612},190832578560]
["2006-10-19",31699,null,3600,{"$f":"LOOKUP(A606,'Flow Data'!A$6:A$2928,'Flow Data'!B$6:B$2928)","v":1120},{"$f":"LOOKUP(E606,'Flow Data'!D$6:D$737,'Flow Data'!H$6:H$737)","v":0.13000342114266283},98645763686400]
["2006-10-19",31699,null,2200,{"$f":"LOOKUP(A607,'Flow Data'!A$6:A$2928,'Flow Data'!B$6:B$2928)","v":1120},{"$f":"LOOKUP(E607,'Flow Data'!D$6:D$737,'Flow Data'!H$6:H$737)","v":0.13000342114266283},60283522252800]
["2006-10-19",31699,null,3100,{"$f":"LOOKUP(A608,'Flow Data'!A$6:A$2928,'Flow Data'!B$6:B$2928)","v":1120},{"$f":"LOOKUP(E608,'Flow Data'!D$6:D$737,'Flow Data'!H$6:H$737)","v":0.13000342114266283},84944963174400]
["2006-10-19",31699,null,5700,{"$f":"LOOKUP(A609,'Flow Data'!A$6:A$2928,'Flow Data'!B$6:B$2928)","v":1120},{"$f":"LOOKUP(E609,'Flow Data'!D$6:D$737,'Flow Data'!H$6:H$737)","v":0.13000342114266283},156189125836800]
["2006-10-19",31699,null,6000,{"$f":"LOOKUP(A610,'Flow Data'!A$6:A$2928,'Flow Data'!B$6:B$2928)","v":1120},{"$f":"LOOKUP(E610,'Flow Data'!D$6:D$737,'Flow Data'!H$6:H$737)","v":0.13000342114266283},164409606144000]
["2006-11-07",31699,null,4600,{"$f":"LOOKUP(A611,'Flow Data'!A$6:A$2928,'Flow Data'!B$6:B$2928)","v":248},{"$f":"LOOKUP(E611,'Flow Data'!D$6:D$737,'Flow Data'!H$6:H$737)","v":0.34519329456038472},27910487900160.008]
["2006-11-07",31699,null,960,{"$f":"LOOKUP(A612,'Flow Data'!A$6:A$2928,'Flow Data'!B$6:B$2928)","v":248},{"$f":"LOOKUP(E612,'Flow Data'!D$6:D$737,'Flow Data'!H$6:H$737)","v":0.34519329456038472},5824797474815.999]
["2006-11-20",31699,null,540,{"$f":"LOOKUP(A613,'Flow Data'!A$6:A$2928,'Flow Data'!B$6:B$2928)","v":56},{"$f":"LOOKUP(E613,'Flow Data'!D$6:D$737,'Flow Data'!H$6:H$737)","v":0.8128634964078002},739843227648.00012]
["2006-11-20",31699,null,360,{"$f":"LOOKUP(A614,'Flow Data'!A$6:A$2928,'Flow Data'!B$6:B$2928)","v":56},{"$f":"LOOKUP(E614,'Flow Data'!D$6:D$737,'Flow Data'!H$6:H$737)","v":0.8128634964078002},493228818432]
["2006-11-20",31699,null,270,{"$f":"LOOKUP(A615,'Flow Data'!A$6:A$2928,'Flow Data'!B$6:B$2928)","v":56},{"$f":"LOOKUP(E615,'Flow Data'!D$6:D$737,'Flow Data'!H$6:H$737)","v":0.8128634964078002},369921613824.00006]
["2006-11-20",31699,null,1600,{"$f":"LOOKUP(A616,'Flow Data'!A$6:A$2928,'Flow Data'!B$6:B$2928)","v":56},{"$f":"LOOKUP(E616,'Flow Data'!D$6:D$737,'Flow Data'!H$6:H$737)","v":0.8128634964078002},2192128081920]
["2006-11-20",31699,null,1100,{"$f":"LOOKUP(A617,'Flow Data'!A$6:A$2928,'Flow Data'!B$6:B$2928)","v":56},{"$f":"LOOKUP(E617,'Flow Data'!D$6:D$737,'Flow Data'!H$6:H$737)","v":0.8128634964078002},1507088056320]
["2006-11-29",31699,null,210,{"$f":"LOOKUP(A618,'Flow Data'!A$6:A$2928,'Flow Data'!B$6:B$2928)","v":122},{"$f":"LOOKUP(E618,'Flow Data'!D$6:D$737,'Flow Data'!H$6:H$737)","v":0.47519671570304467},626811623424]
["2006-11-29",31699,null,3000,{"$f":"LOOKUP(A619,'Flow Data'!A$6:A$2928,'Flow Data'!B$6:B$2928)","v":122},{"$f":"LOOKUP(E619,'Flow Data'!D$6:D$737,'Flow Data'!H$6:H$737)","v":0.47519671570304467},8954451763200]
["2006-11-29",31699,null,3400,{"$f":"LOOKUP(A620,'Flow Data'!A$6:A$2928,'Flow Data'!B$6:B$2928)","v":122},{"$f":"LOOKUP(E620,'Flow Data'!D$6:D$737,'Flow Data'!H$6:H$737)","v":0.47519671570304467},10148378664960]
["2006-11-29",31699,null,4100,{"$f":"LOOKUP(A621,'Flow Data'!A$6:A$2928,'Flow Data'!B$6:B$2928)","v":122},{"$f":"LOOKUP(E621,'Flow Data'!D$6:D$737,'Flow Data'!H$6:H$737)","v":0.47519671570304467},12237750743040]
["2006-12-07",31699,null,740,{"$f":"LOOKUP(A622,'Flow Data'!A$6:A$2928,'Flow Data'!B$6:B$2928)","v":48},{"$f":"LOOKUP(E622,'Flow Data'!D$6:D$737,'Flow Data'!H$6:H$737)","v":0.89839206294902496},869022203903.99976]
["2006-12-07",31699,null,1100,{"$f":"LOOKUP(A623,'Flow Data'!A$6:A$2928,'Flow Data'!B$6:B$2928)","v":48},{"$f":"LOOKUP(E623,'Flow Data'!D$6:D$737,'Flow Data'!H$6:H$737)","v":0.89839206294902496},1291789762560]
["2006-12-07",31699,null,1900,{"$f":"LOOKUP(A624,'Flow Data'!A$6:A$2928,'Flow Data'!B$6:B$2928)","v":48},{"$f":"LOOKUP(E624,'Flow Data'!D$6:D$737,'Flow Data'!H$6:H$737)","v":0.89839206294902496},2231273226240]
["2006-12-07",31699,null,740,{"$f":"LOOKUP(A625,'Flow Data'!A$6:A$2928,'Flow Data'!B$6:B$2928)","v":48},{"$f":"LOOKUP(E625,'Flow Data'!D$6:D$737,'Flow Data'!H$6:H$737)","v":0.89839206294902496},869022203903.99976]
["2006-12-07",31699,null,840,{"$f":"LOOKUP(A626,'Flow Data'!A$6:A$2928,'Flow Data'!B$6:B$2928)","v":48},{"$f":"LOOKUP(E626,'Flow Data'!D$6:D$737,'Flow Data'!H$6:H$737)","v":0.89839206294902496},986457636864]
["2006-12-11",31699,null,2100,{"$f":"LOOKUP(A627,'Flow Data'!A$6:A$2928,'Flow Data'!B$6:B$2928)","v":253},{"$f":"LOOKUP(E627,'Flow Data'!D$6:D$737,'Flow Data'!H$6:H$737)","v":0.34314060896339538},12998634485760]
["2006-12-11",31699,null,3200,{"$f":"LOOKUP(A628,'Flow Data'!A$6:A$2928,'Flow Data'!B$6:B$2928)","v":253},{"$f":"LOOKUP(E628,'Flow Data'!D$6:D$737,'Flow Data'!H$6:H$737)","v":0.34314060896339538},19807443025920]
["2006-12-11",31699,null,4400,{"$f":"LOOKUP(A629,'Flow Data'!A$6:A$2928,'Flow Data'!B$6:B$2928)","v":253},{"$f":"LOOKUP(E629,'Flow Data'!D$6:D$737,'Flow Data'!H$6:H$737)","v":0.34314060896339538},27235234160640]
["2006-12-11",31699,null,2000,{"$f":"LOOKUP(A630,'Flow Data'!A$6:A$2928,'Flow Data'!B$6:B$2928)","v":253},{"$f":"LOOKUP(E630,'Flow Data'!D$6:D$737,'Flow Data'!H$6:H$737)","v":0.34314060896339538},12379651891200]
["2007-01-23",31699,null,1600,{"$f":"LOOKUP(A631,'Flow Data'!A$6:A$2928,'Flow Data'!B$6:B$2928)","v":73},{"$f":"LOOKUP(E631,'Flow Data'!D$6:D$737,'Flow Data'!H$6:H$737)","v":0.68388641806363315},2857595535360.0005]
["2007-01-23",31699,null,430,{"$f":"LOOKUP(A632,'Flow Data'!A$6:A$2928,'Flow Data'!B$6:B$2928)","v":73},{"$f":"LOOKUP(E632,'Flow Data'!D$6:D$737,'Flow Data'!H$6:H$737)","v":0.68388641806363315},767978800128]
["2007-01-23",31699,null,500,{"$f":"LOOKUP(A633,'Flow Data'!A$6:A$2928,'Flow Data'!B$6:B$2928)","v":73},{"$f":"LOOKUP(E633,'Flow Data'!D$6:D$737,'Flow Data'!H$6:H$737)","v":0.68388641806363315},892998604800]
["2007-01-23",31699,null,1200,{"$f":"LOOKUP(A634,'Flow Data'!A$6:A$2928,'Flow Data'!B$6:B$2928)","v":73},{"$f":"LOOKUP(E634,'Flow Data'!D$6:D$737,'Flow Data'!H$6:H$737)","v":0.68388641806363315},2143196651520]
["2007-01-23",31699,null,890,{"$f":"LOOKUP(A635,'Flow Data'!A$6:A$2928,'Flow Data'!B$6:B$2928)","v":73},{"$f":"LOOKUP(E635,'Flow Data'!D$6:D$737,'Flow Data'!H$6:H$737)","v":0.68388641806363315},1589537516544.0002]
["2007-01-29",31699,null,460,{"$f":"LOOKUP(A636,'Flow Data'!A$6:A$2928,'Flow Data'!B$6:B$2928)","v":1630},{"$f":"LOOKUP(E636,'Flow Data'!D$6:D$737,'Flow Data'!H$6:H$737)","v":7.1843995894630197E-2},18344393256960]
["2007-01-29",31699,null,460,{"$f":"LOOKUP(A637,'Flow Data'!A$6:A$2928,'Flow Data'!B$6:B$2928)","v":1630},{"$f":"LOOKUP(E637,'Flow Data'!D$6:D$737,'Flow Data'!H$6:H$737)","v":7.1843995894630197E-2},18344393256960]
["2007-01-29",31699,null,480,{"$f":"LOOKUP(A638,'Flow Data'!A$6:A$2928,'Flow Data'!B$6:B$2928)","v":1630},{"$f":"LOOKUP(E638,'Flow Data'!D$6:D$737,'Flow Data'!H$6:H$737)","v":7.1843995894630197E-2},19141975572480.004]
["2007-01-29",31699,null,370,{"$f":"LOOKUP(A639,'Flow Data'!A$6:A$2928,'Flow Data'!B$6:B$2928)","v":1630},{"$f":"LOOKUP(E639,'Flow Data'!D$6:D$737,'Flow Data'!H$6:H$737)","v":7.1843995894630197E-2},14755272837120]
["2007-02-15",31699,null,776,{"$f":"LOOKUP(A640,'Flow Data'!A$6:A$2928,'Flow Data'!B$6:B$2928)","v":106},{"$f":"LOOKUP(E640,'Flow Data'!D$6:D$737,'Flow Data'!H$6:H$737)","v":0.51967157030448141},2012451869491.2002]
["2007-02-15",31699,null,155,{"$f":"LOOKUP(A641,'Flow Data'!A$6:A$2928,'Flow Data'!B$6:B$2928)","v":106},{"$f":"LOOKUP(E641,'Flow Data'!D$6:D$737,'Flow Data'!H$6:H$737)","v":0.51967157030448141},401971700736.00006]
["2007-02-22",31699,null,230,{"$f":"LOOKUP(A642,'Flow Data'!A$6:A$2928,'Flow Data'!B$6:B$2928)","v":107},{"$f":"LOOKUP(E642,'Flow Data'!D$6:D$737,'Flow Data'!H$6:H$737)","v":0.51590831337666754},602101251072]
["2007-02-22",31699,null,170,{"$f":"LOOKUP(A643,'Flow Data'!A$6:A$2928,'Flow Data'!B$6:B$2928)","v":107},{"$f":"LOOKUP(E643,'Flow Data'!D$6:D$737,'Flow Data'!H$6:H$737)","v":0.51590831337666754},445031359488]
["2007-02-22",31699,null,200,{"$f":"LOOKUP(A644,'Flow Data'!A$6:A$2928,'Flow Data'!B$6:B$2928)","v":107},{"$f":"LOOKUP(E644,'Flow Data'!D$6:D$737,'Flow Data'!H$6:H$737)","v":0.51590831337666754},{"$f":"((D644/100)*1000*E644*28.3168)*60*60*24","v":523566305280}]
["2007-02-22",31699,null,160,{"$f":"LOOKUP(A645,'Flow Data'!A$6:A$2928,'Flow Data'!B$6:B$2928)","v":107},{"$f":"LOOKUP(E645,'Flow Data'!D$6:D$737,'Flow Data'!H$6:H$737)","v":0.51590831337666754},418853044224]
["2007-02-28",31699,null,130,{"$f":"LOOKUP(A646,'Flow Data'!A$6:A$2928,'Flow Data'!B$6:B$2928)","v":77},{"$f":"LOOKUP(E646,'Flow Data'!D$6:D$737,'Flow Data'!H$6:H$737)","v":0.65720150530277111},244901809152]
["2007-02-28",31699,null,330,{"$f":"LOOKUP(A647,'Flow Data'!A$6:A$2928,'Flow Data'!B$6:B$2928)","v":77},{"$f":"LOOKUP(E647,'Flow Data'!D$6:D$737,'Flow Data'!H$6:H$737)","v":0.65720150530277111},621673823232]
["2007-02-28",31699,null,130,{"$f":"LOOKUP(A648,'Flow Data'!A$6:A$2928,'Flow Data'!B$6:B$2928)","v":77},{"$f":"LOOKUP(E648,'Flow Data'!D$6:D$737,'Flow Data'!H$6:H$737)","v":0.65720150530277111},244901809152]
["2007-02-28",31699,null,260,{"$f":"LOOKUP(A649,'Flow Data'!A$6:A$2928,'Flow Data'!B$6:B$2928)","v":77},{"$f":"LOOKUP(E649,'Flow Data'!D$6:D$737,'Flow Data'!H$6:H$737)","v":0.65720150530277111},489803618304]
["2007-02-28",31699,null,200,{"$f":"LOOKUP(A650,'Flow Data'!A$6:A$2928,'Flow Data'!B$6:B$2928)","v":77},{"$f":"LOOKUP(E650,'Flow Data'!D$6:D$737,'Flow Data'!H$6:H$737)","v":0.65720150530277111},376772014080]
["2007-03-12",31699,null,18000,{"$f":"LOOKUP(A651,'Flow Data'!A$6:A$2928,'Flow Data'!B$6:B$2928)","v":302},{"$f":"LOOKUP(E651,'Flow Data'!D$6:D$737,'Flow Data'!H$6:H$737)","v":0.31850838179952301},132995627827200]
["2007-03-12",31699,null,20000,{"$f":"LOOKUP(A652,'Flow Data'!A$6:A$2928,'Flow Data'!B$6:B$2928)","v":302},{"$f":"LOOKUP(E652,'Flow Data'!D$6:D$737,'Flow Data'!H$6:H$737)","v":0.31850838179952301},147772919808000]
["2007-03-12",31699,null,5800,{"$f":"LOOKUP(A653,'Flow Data'!A$6:A$2928,'Flow Data'!B$6:B$2928)","v":302},{"$f":"LOOKUP(E653,'Flow Data'!D$6:D$737,'Flow Data'!H$6:H$737)","v":0.31850838179952301},42854146744320]
["2007-03-12",31699,null,16000,{"$f":"LOOKUP(A654,'Flow Data'!A$6:A$2928,'Flow Data'!B$6:B$2928)","v":302},{"$f":"LOOKUP(E654,'Flow Data'!D$6:D$737,'Flow Data'!H$6:H$737)","v":0.31850838179952301},118218335846400]
["2007-03-15",31699,null,17000,{"$f":"LOOKUP(A655,'Flow Data'!A$6:A$2928,'Flow Data'!B$6:B$2928)","v":1260},{"$f":"LOOKUP(E655,'Flow Data'!D$6:D$737,'Flow Data'!H$6:H$737)","v":0.11084502223742843},524055619584000]
["2007-03-15",31699,null,17000,{"$f":"LOOKUP(A656,'Flow Data'!A$6:A$2928,'Flow Data'!B$6:B$2928)","v":1260},{"$f":"LOOKUP(E656,'Flow Data'!D$6:D$737,'Flow Data'!H$6:H$737)","v":0.11084502223742843},524055619584000]
["2007-03-15",31699,null,11000,{"$f":"LOOKUP(A657,'Flow Data'!A$6:A$2928,'Flow Data'!B$6:B$2928)","v":1260},{"$f":"LOOKUP(E657,'Flow Data'!D$6:D$737,'Flow Data'!H$6:H$737)","v":0.11084502223742843},339094812672000]
["2007-03-15",31699,null,25000,{"$f":"LOOKUP(A658,'Flow Data'!A$6:A$2928,'Flow Data'!B$6:B$2928)","v":1260},{"$f":"LOOKUP(E658,'Flow Data'!D$6:D$737,'Flow Data'!H$6:H$737)","v":0.11084502223742843},770670028800000]
["2007-03-15",31699,null,17000,{"$f":"LOOKUP(A659,'Flow Data'!A$6:A$2928,'Flow Data'!B$6:B$2928)","v":1260},{"$f":"LOOKUP(E659,'Flow Data'!D$6:D$737,'Flow Data'!H$6:H$737)","v":0.11084502223742843},524055619584000]
["2007-04-16",31699,null,290,{"$f":"LOOKUP(A660,'Flow Data'!A$6:A$2928,'Flow Data'!B$6:B$2928)","v":74},{"$f":"LOOKUP(E660,'Flow Data'!D$6:D$737,'Flow Data'!H$6:H$737)","v":0.67670201847417033},525034248192]
["2007-04-16",31699,null,280,{"$f":"LOOKUP(A661,'Flow Data'!A$6:A$2928,'Flow Data'!B$6:B$2928)","v":74},{"$f":"LOOKUP(E661,'Flow Data'!D$6:D$737,'Flow Data'!H$6:H$737)","v":0.67670201847417033},506929618944]
["2007-04-16",31699,null,300,{"$f":"LOOKUP(A662,'Flow Data'!A$6:A$2928,'Flow Data'!B$6:B$2928)","v":74},{"$f":"LOOKUP(E662,'Flow Data'!D$6:D$737,'Flow Data'!H$6:H$737)","v":0.67670201847417033},543138877440.00012]
["2007-04-16",31699,null,400,{"$f":"LOOKUP(A663,'Flow Data'!A$6:A$2928,'Flow Data'!B$6:B$2928)","v":74},{"$f":"LOOKUP(E663,'Flow Data'!D$6:D$737,'Flow Data'!H$6:H$737)","v":0.67670201847417033},724185169920]
["2007-04-19",31699,null,11000,{"$f":"LOOKUP(A664,'Flow Data'!A$6:A$2928,'Flow Data'!B$6:B$2928)","v":218},{"$f":"LOOKUP(E664,'Flow Data'!D$6:D$737,'Flow Data'!H$6:H$737)","v":0.36229900786862934},58668785049600]
["2007-04-19",31699,null,8400,{"$f":"LOOKUP(A665,'Flow Data'!A$6:A$2928,'Flow Data'!B$6:B$2928)","v":218},{"$f":"LOOKUP(E665,'Flow Data'!D$6:D$737,'Flow Data'!H$6:H$737)","v":0.36229900786862934},44801617674240]
["2007-04-19",31699,null,9600,{"$f":"LOOKUP(A666,'Flow Data'!A$6:A$2928,'Flow Data'!B$6:B$2928)","v":218},{"$f":"LOOKUP(E666,'Flow Data'!D$6:D$737,'Flow Data'!H$6:H$737)","v":0.36229900786862934},51201848770560]
["2007-04-19",31699,null,8500,{"$f":"LOOKUP(A667,'Flow Data'!A$6:A$2928,'Flow Data'!B$6:B$2928)","v":218},{"$f":"LOOKUP(E667,'Flow Data'!D$6:D$737,'Flow Data'!H$6:H$737)","v":0.36229900786862934},45334970265600]
["2007-05-15",31699,null,440,{"$f":"LOOKUP(A668,'Flow Data'!A$6:A$2928,'Flow Data'!B$6:B$2928)","v":846},{"$f":"LOOKUP(E668,'Flow Data'!D$6:D$737,'Flow Data'!H$6:H$737)","v":0.17379404721177028},9107117826048.002]
["2007-05-15",31699,null,210,{"$f":"LOOKUP(A669,'Flow Data'!A$6:A$2928,'Flow Data'!B$6:B$2928)","v":846},{"$f":"LOOKUP(E669,'Flow Data'!D$6:D$737,'Flow Data'!H$6:H$737)","v":0.17379404721177028},4346578962432]
["2007-05-15",31699,null,170,{"$f":"LOOKUP(A670,'Flow Data'!A$6:A$2928,'Flow Data'!B$6:B$2928)","v":846},{"$f":"LOOKUP(E670,'Flow Data'!D$6:D$737,'Flow Data'!H$6:H$737)","v":0.17379404721177028},3518659160064]
["2007-05-15",31699,null,140,{"$f":"LOOKUP(A671,'Flow Data'!A$6:A$2928,'Flow Data'!B$6:B$2928)","v":846},{"$f":"LOOKUP(E671,'Flow Data'!D$6:D$737,'Flow Data'!H$6:H$737)","v":0.17379404721177028},2897719308288]
["2007-05-21",31699,null,9600,{"$f":"LOOKUP(A672,'Flow Data'!A$6:A$2928,'Flow Data'!B$6:B$2928)","v":72},{"$f":"LOOKUP(E672,'Flow Data'!D$6:D$737,'Flow Data'!H$6:H$737)","v":0.6900444748546013},16910702346240]
["2007-05-21",31699,null,290,{"$f":"LOOKUP(A673,'Flow Data'!A$6:A$2928,'Flow Data'!B$6:B$2928)","v":72},{"$f":"LOOKUP(E673,'Flow Data'!D$6:D$737,'Flow Data'!H$6:H$737)","v":0.6900444748546013},510844133376]
["2007-05-21",31699,null,380,{"$f":"LOOKUP(A674,'Flow Data'!A$6:A$2928,'Flow Data'!B$6:B$2928)","v":72},{"$f":"LOOKUP(E674,'Flow Data'!D$6:D$737,'Flow Data'!H$6:H$737)","v":0.6900444748546013},669381967872]
["2007-05-21",31699,null,26000,{"$f":"LOOKUP(A675,'Flow Data'!A$6:A$2928,'Flow Data'!B$6:B$2928)","v":72},{"$f":"LOOKUP(E675,'Flow Data'!D$6:D$737,'Flow Data'!H$6:H$737)","v":0.6900444748546013},45799818854400]
["2007-05-21",31699,null,480,{"$f":"LOOKUP(A676,'Flow Data'!A$6:A$2928,'Flow Data'!B$6:B$2928)","v":72},{"$f":"LOOKUP(E676,'Flow Data'!D$6:D$737,'Flow Data'!H$6:H$737)","v":0.6900444748546013},845535117312]
["2007-06-04",31699,null,12997,{"$f":"LOOKUP(A677,'Flow Data'!A$6:A$2928,'Flow Data'!B$6:B$2928)","v":473},{"$f":"LOOKUP(E677,'Flow Data'!D$6:D$737,'Flow Data'!H$6:H$737)","v":0.25316455696202722},150404965914931.19]
["2007-06-04",31699,null,314,{"$f":"LOOKUP(A678,'Flow Data'!A$6:A$2928,'Flow Data'!B$6:B$2928)","v":473},{"$f":"LOOKUP(E678,'Flow Data'!D$6:D$737,'Flow Data'!H$6:H$737)","v":0.25316455696202722},3633696952934.4004]
["2007-06-11",31699,null,480,{"$f":"LOOKUP(A679,'Flow Data'!A$6:A$2928,'Flow Data'!B$6:B$2928)","v":67},{"$f":"LOOKUP(E679,'Flow Data'!D$6:D$737,'Flow Data'!H$6:H$737)","v":0.72767704413274026},786817400832.00012]
["2007-06-11",31699,null,370,{"$f":"LOOKUP(A680,'Flow Data'!A$6:A$2928,'Flow Data'!B$6:B$2928)","v":67},{"$f":"LOOKUP(E680,'Flow Data'!D$6:D$737,'Flow Data'!H$6:H$737)","v":0.72767704413274026},606505079808]
["2007-06-11",31699,null,600,{"$f":"LOOKUP(A681,'Flow Data'!A$6:A$2928,'Flow Data'!B$6:B$2928)","v":67},{"$f":"LOOKUP(E681,'Flow Data'!D$6:D$737,'Flow Data'!H$6:H$737)","v":0.72767704413274026},983521751040]
["2007-06-11",31699,null,190,{"$f":"LOOKUP(A682,'Flow Data'!A$6:A$2928,'Flow Data'!B$6:B$2928)","v":67},{"$f":"LOOKUP(E682,'Flow Data'!D$6:D$737,'Flow Data'!H$6:H$737)","v":0.72767704413274026},311448554496]
["2007-06-18",31699,null,5000,{"$f":"LOOKUP(A683,'Flow Data'!A$6:A$2928,'Flow Data'!B$6:B$2928)","v":472},{"$f":"LOOKUP(E683,'Flow Data'!D$6:D$737,'Flow Data'!H$6:H$737)","v":0.25453301402668682},57739087872000]
["2007-06-18",31699,null,3400,{"$f":"LOOKUP(A684,'Flow Data'!A$6:A$2928,'Flow Data'!B$6:B$2928)","v":472},{"$f":"LOOKUP(E684,'Flow Data'!D$6:D$737,'Flow Data'!H$6:H$737)","v":0.25453301402668682},39262579752960.008]
["2007-06-18",31699,null,2100,{"$f":"LOOKUP(A685,'Flow Data'!A$6:A$2928,'Flow Data'!B$6:B$2928)","v":472},{"$f":"LOOKUP(E685,'Flow Data'!D$6:D$737,'Flow Data'!H$6:H$737)","v":0.25453301402668682},24250416906240.004]
["2007-06-18",31699,null,3900,{"$f":"LOOKUP(A686,'Flow Data'!A$6:A$2928,'Flow Data'!B$6:B$2928)","v":472},{"$f":"LOOKUP(E686,'Flow Data'!D$6:D$737,'Flow Data'!H$6:H$737)","v":0.25453301402668682},45036488540160.008]
["2007-06-18",31699,null,2500,{"$f":"LOOKUP(A687,'Flow Data'!A$6:A$2928,'Flow Data'!B$6:B$2928)","v":472},{"$f":"LOOKUP(E687,'Flow Data'!D$6:D$737,'Flow Data'!H$6:H$737)","v":0.25453301402668682},28869543936000]
["2007-07-10",31699,null,180,{"$f":"LOOKUP(A688,'Flow Data'!A$6:A$2928,'Flow Data'!B$6:B$2928)","v":2180},{"$f":"LOOKUP(E688,'Flow Data'!D$6:D$737,'Flow Data'!H$6:H$737)","v":3.7632569278157613E-3},9600346644480]
["2007-07-10",31699,null,220,{"$f":"LOOKUP(A689,'Flow Data'!A$6:A$2928,'Flow Data'!B$6:B$2928)","v":2180},{"$f":"LOOKUP(E689,'Flow Data'!D$6:D$737,'Flow Data'!H$6:H$737)","v":3.7632569278157613E-3},11733757009920.002]
["2007-07-10",31699,null,80,{"$f":"LOOKUP(A690,'Flow Data'!A$6:A$2928,'Flow Data'!B$6:B$2928)","v":2180},{"$f":"LOOKUP(E690,'Flow Data'!D$6:D$737,'Flow Data'!H$6:H$737)","v":3.7632569278157613E-3},4266820730880]
["2007-07-10",31699,null,10,{"$f":"LOOKUP(A691,'Flow Data'!A$6:A$2928,'Flow Data'!B$6:B$2928)","v":2180},{"$f":"LOOKUP(E691,'Flow Data'!D$6:D$737,'Flow Data'!H$6:H$737)","v":3.7632569278157613E-3},533352591360]
["2007-07-24",31699,null,210,{"$f":"LOOKUP(A692,'Flow Data'!A$6:A$2928,'Flow Data'!B$6:B$2928)","v":2280},{"$f":"LOOKUP(E692,'Flow Data'!D$6:D$737,'Flow Data'!H$6:H$737)","v":1.0263427984965601E-3},11714184437760]
["2007-07-24",31699,null,240,{"$f":"LOOKUP(A693,'Flow Data'!A$6:A$2928,'Flow Data'!B$6:B$2928)","v":2280},{"$f":"LOOKUP(E693,'Flow Data'!D$6:D$737,'Flow Data'!H$6:H$737)","v":1.0263427984965601E-3},13387639357440]
["2007-07-24",31699,null,100,{"$f":"LOOKUP(A694,'Flow Data'!A$6:A$2928,'Flow Data'!B$6:B$2928)","v":2280},{"$f":"LOOKUP(E694,'Flow Data'!D$6:D$737,'Flow Data'!H$6:H$737)","v":1.0263427984965601E-3},5578183065600]
["2007-07-24",31699,null,10,{"$f":"LOOKUP(A695,'Flow Data'!A$6:A$2928,'Flow Data'!B$6:B$2928)","v":2280},{"$f":"LOOKUP(E695,'Flow Data'!D$6:D$737,'Flow Data'!H$6:H$737)","v":1.0263427984965601E-3},557818306560]
["2007-07-24",31699,null,170,{"$f":"LOOKUP(A696,'Flow Data'!A$6:A$2928,'Flow Data'!B$6:B$2928)","v":2280},{"$f":"LOOKUP(E696,'Flow Data'!D$6:D$737,'Flow Data'!H$6:H$737)","v":1.0263427984965601E-3},9482911211520]
["2007-08-13",31699,null,41,{"$f":"LOOKUP(A697,'Flow Data'!A$6:A$2928,'Flow Data'!B$6:B$2928)","v":2010},{"$f":"LOOKUP(E697,'Flow Data'!D$6:D$737,'Flow Data'!H$6:H$737)","v":1.5395141977422311E-2},2016219589632]
["2007-08-13",31699,null,20,{"$f":"LOOKUP(A698,'Flow Data'!A$6:A$2928,'Flow Data'!B$6:B$2928)","v":2010},{"$f":"LOOKUP(E698,'Flow Data'!D$6:D$737,'Flow Data'!H$6:H$737)","v":1.5395141977422311E-2},983521751040]
["2007-08-13",31699,null,20,{"$f":"LOOKUP(A699,'Flow Data'!A$6:A$2928,'Flow Data'!B$6:B$2928)","v":2010},{"$f":"LOOKUP(E699,'Flow Data'!D$6:D$737,'Flow Data'!H$6:H$737)","v":1.5395141977422311E-2},983521751040]
["2007-08-13",31699,null,70,{"$f":"LOOKUP(A700,'Flow Data'!A$6:A$2928,'Flow Data'!B$6:B$2928)","v":2010},{"$f":"LOOKUP(E700,'Flow Data'!D$6:D$737,'Flow Data'!H$6:H$737)","v":1.5395141977422311E-2},3442326128640]
["2007-08-14",31699,null,130,{"$f":"LOOKUP(A701,'Flow Data'!A$6:A$2928,'Flow Data'!B$6:B$2928)","v":1870},{"$f":"LOOKUP(E701,'Flow Data'!D$6:D$737,'Flow Data'!H$6:H$737)","v":3.3869312350326641E-2},5947615365120]
["2007-08-14",31699,null,200,{"$f":"LOOKUP(A702,'Flow Data'!A$6:A$2928,'Flow Data'!B$6:B$2928)","v":1870},{"$f":"LOOKUP(E702,'Flow Data'!D$6:D$737,'Flow Data'!H$6:H$737)","v":3.3869312350326641E-2},9150177484800]
["2007-08-14",31699,null,74,{"$f":"LOOKUP(A703,'Flow Data'!A$6:A$2928,'Flow Data'!B$6:B$2928)","v":1870},{"$f":"LOOKUP(E703,'Flow Data'!D$6:D$737,'Flow Data'!H$6:H$737)","v":3.3869312350326641E-2},3385565669376]
["2007-08-14",31699,null,60,{"$f":"LOOKUP(A704,'Flow Data'!A$6:A$2928,'Flow Data'!B$6:B$2928)","v":1870},{"$f":"LOOKUP(E704,'Flow Data'!D$6:D$737,'Flow Data'!H$6:H$737)","v":3.3869312350326641E-2},2745053245440]
["2007-08-14",31699,null,20,{"$f":"LOOKUP(A705,'Flow Data'!A$6:A$2928,'Flow Data'!B$6:B$2928)","v":1870},{"$f":"LOOKUP(E705,'Flow Data'!D$6:D$737,'Flow Data'!H$6:H$737)","v":3.3869312350326641E-2},915017748480.00024]
["2007-08-22",31699,null,280,{"$f":"LOOKUP(A706,'Flow Data'!A$6:A$2928,'Flow Data'!B$6:B$2928)","v":1880},{"$f":"LOOKUP(E706,'Flow Data'!D$6:D$737,'Flow Data'!H$6:H$737)","v":3.2158741019502113E-2},12878752481280.004]
["2007-08-22",31699,null,120,{"$f":"LOOKUP(A707,'Flow Data'!A$6:A$2928,'Flow Data'!B$6:B$2928)","v":1880},{"$f":"LOOKUP(E707,'Flow Data'!D$6:D$737,'Flow Data'!H$6:H$737)","v":3.2158741019502113E-2},5519465349120.001]
["2007-09-13",31699,null,3400,{"$f":"LOOKUP(A708,'Flow Data'!A$6:A$2928,'Flow Data'!B$6:B$2928)","v":340},{"$f":"LOOKUP(E708,'Flow Data'!D$6:D$737,'Flow Data'!H$6:H$737)","v":0.3003763256927835},{"$f":"((D708/100)*1000*E708*28.3168)*60*60*24","v":28282366771200}]
["2007-09-13",31699,null,1100,{"$f":"LOOKUP(A709,'Flow Data'!A$6:A$2928,'Flow Data'!B$6:B$2928)","v":340},{"$f":"LOOKUP(E709,'Flow Data'!D$6:D$737,'Flow Data'!H$6:H$737)","v":0.3003763256927835},9150177484800]
["2007-09-13",31699,null,740,{"$f":"LOOKUP(A710,'Flow Data'!A$6:A$2928,'Flow Data'!B$6:B$2928)","v":340},{"$f":"LOOKUP(E710,'Flow Data'!D$6:D$737,'Flow Data'!H$6:H$737)","v":0.3003763256927835},6155573944320]
["2007-09-13",31699,null,200,{"$f":"LOOKUP(A711,'Flow Data'!A$6:A$2928,'Flow Data'!B$6:B$2928)","v":340},{"$f":"LOOKUP(E711,'Flow Data'!D$6:D$737,'Flow Data'!H$6:H$737)","v":0.3003763256927835},1663668633600]
["2007-09-17",31699,null,260,{"$f":"LOOKUP(A712,'Flow Data'!A$6:A$2928,'Flow Data'!B$6:B$2928)","v":70},{"$f":"LOOKUP(E712,'Flow Data'!D$6:D$737,'Flow Data'!H$6:H$737)","v":0.70612384536435169},445276016640.00012]
["2007-09-17",31699,null,110,{"$f":"LOOKUP(A713,'Flow Data'!A$6:A$2928,'Flow Data'!B$6:B$2928)","v":70},{"$f":"LOOKUP(E713,'Flow Data'!D$6:D$737,'Flow Data'!H$6:H$737)","v":0.70612384536435169},188386007040]
["2007-09-17",31699,null,3900,{"$f":"LOOKUP(A714,'Flow Data'!A$6:A$2928,'Flow Data'!B$6:B$2928)","v":70},{"$f":"LOOKUP(E714,'Flow Data'!D$6:D$737,'Flow Data'!H$6:H$737)","v":0.70612384536435169},6679140249600]
["2007-09-17",31699,null,1600,{"$f":"LOOKUP(A715,'Flow Data'!A$6:A$2928,'Flow Data'!B$6:B$2928)","v":70},{"$f":"LOOKUP(E715,'Flow Data'!D$6:D$737,'Flow Data'!H$6:H$737)","v":0.70612384536435169},2740160102400]
["2007-09-17",31699,null,150,{"$f":"LOOKUP(A716,'Flow Data'!A$6:A$2928,'Flow Data'!B$6:B$2928)","v":70},{"$f":"LOOKUP(E716,'Flow Data'!D$6:D$737,'Flow Data'!H$6:H$737)","v":0.70612384536435169},256890009600]
["2007-10-04",31699,null,460,{"$f":"LOOKUP(A717,'Flow Data'!A$6:A$2928,'Flow Data'!B$6:B$2928)","v":60},{"$f":"LOOKUP(E717,'Flow Data'!D$6:D$737,'Flow Data'!H$6:H$737)","v":0.78241532671912417},675253739520]
["2007-10-04",31699,null,210,{"$f":"LOOKUP(A718,'Flow Data'!A$6:A$2928,'Flow Data'!B$6:B$2928)","v":60},{"$f":"LOOKUP(E718,'Flow Data'!D$6:D$737,'Flow Data'!H$6:H$737)","v":0.78241532671912417},308268011520.00006]
["2007-10-04",31699,null,260,{"$f":"LOOKUP(A719,'Flow Data'!A$6:A$2928,'Flow Data'!B$6:B$2928)","v":60},{"$f":"LOOKUP(E719,'Flow Data'!D$6:D$737,'Flow Data'!H$6:H$737)","v":0.78241532671912417},381665157120]
["2007-10-04",31699,null,540,{"$f":"LOOKUP(A720,'Flow Data'!A$6:A$2928,'Flow Data'!B$6:B$2928)","v":60},{"$f":"LOOKUP(E720,'Flow Data'!D$6:D$737,'Flow Data'!H$6:H$737)","v":0.78241532671912417},792689172480.00024]
["2007-10-23",31699,null,13000,{"$f":"LOOKUP(A721,'Flow Data'!A$6:A$2928,'Flow Data'!B$6:B$2928)","v":130},{"$f":"LOOKUP(E721,'Flow Data'!D$6:D$737,'Flow Data'!H$6:H$737)","v":0.45774888812863479},41347058688000]
["2007-10-23",31699,null,2000,{"$f":"LOOKUP(A722,'Flow Data'!A$6:A$2928,'Flow Data'!B$6:B$2928)","v":130},{"$f":"LOOKUP(E722,'Flow Data'!D$6:D$737,'Flow Data'!H$6:H$737)","v":0.45774888812863479},6361085952000]
["2007-10-23",31699,null,13000,{"$f":"LOOKUP(A723,'Flow Data'!A$6:A$2928,'Flow Data'!B$6:B$2928)","v":130},{"$f":"LOOKUP(E723,'Flow Data'!D$6:D$737,'Flow Data'!H$6:H$737)","v":0.45774888812863479},41347058688000]
["2007-10-23",31699,null,8300,{"$f":"LOOKUP(A724,'Flow Data'!A$6:A$2928,'Flow Data'!B$6:B$2928)","v":130},{"$f":"LOOKUP(E724,'Flow Data'!D$6:D$737,'Flow Data'!H$6:H$737)","v":0.45774888812863479},26398506700800]
["2007-10-23",31699,null,7500,{"$f":"LOOKUP(A725,'Flow Data'!A$6:A$2928,'Flow Data'!B$6:B$2928)","v":130},{"$f":"LOOKUP(E725,'Flow Data'!D$6:D$737,'Flow Data'!H$6:H$737)","v":0.45774888812863479},23854072320000]
["2007-11-07",31699,null,1200,{"$f":"LOOKUP(A726,'Flow Data'!A$6:A$2928,'Flow Data'!B$6:B$2928)","v":64},{"$f":"LOOKUP(E726,'Flow Data'!D$6:D$737,'Flow Data'!H$6:H$737)","v":0.75025658569962372},1878966927360.0005]
["2007-11-07",31699,null,230,{"$f":"LOOKUP(A727,'Flow Data'!A$6:A$2928,'Flow Data'!B$6:B$2928)","v":64},{"$f":"LOOKUP(E727,'Flow Data'!D$6:D$737,'Flow Data'!H$6:H$737)","v":0.75025658569962372},360135327744]
["2007-11-13",31699,null,500,{"$f":"LOOKUP(A728,'Flow Data'!A$6:A$2928,'Flow Data'!B$6:B$2928)","v":69},{"$f":"LOOKUP(E728,'Flow Data'!D$6:D$737,'Flow Data'!H$6:H$737)","v":0.71193978788915491},844067174400]
["2007-11-13",31699,null,1500,{"$f":"LOOKUP(A729,'Flow Data'!A$6:A$2928,'Flow Data'!B$6:B$2928)","v":69},{"$f":"LOOKUP(E729,'Flow Data'!D$6:D$737,'Flow Data'!H$6:H$737)","v":0.71193978788915491},2532201523200]
["2007-11-13",31699,null,1400,{"$f":"LOOKUP(A730,'Flow Data'!A$6:A$2928,'Flow Data'!B$6:B$2928)","v":69},{"$f":"LOOKUP(E730,'Flow Data'!D$6:D$737,'Flow Data'!H$6:H$737)","v":0.71193978788915491},2363388088320]
["2007-11-13",31699,null,420,{"$f":"LOOKUP(A731,'Flow Data'!A$6:A$2928,'Flow Data'!B$6:B$2928)","v":69},{"$f":"LOOKUP(E731,'Flow Data'!D$6:D$737,'Flow Data'!H$6:H$737)","v":0.71193978788915491},709016426496.00012]
["2007-11-13",31699,null,990,{"$f":"LOOKUP(A732,'Flow Data'!A$6:A$2928,'Flow Data'!B$6:B$2928)","v":69},{"$f":"LOOKUP(E732,'Flow Data'!D$6:D$737,'Flow Data'!H$6:H$737)","v":0.71193978788915491},1671253005312.0005]
["2007-11-14",31699,null,3600,{"$f":"LOOKUP(A733,'Flow Data'!A$6:A$2928,'Flow Data'!B$6:B$2928)","v":64},{"$f":"LOOKUP(E733,'Flow Data'!D$6:D$737,'Flow Data'!H$6:H$737)","v":0.75025658569962372},5636900782080]
["2007-11-14",31699,null,180,{"$f":"LOOKUP(A734,'Flow Data'!A$6:A$2928,'Flow Data'!B$6:B$2928)","v":64},{"$f":"LOOKUP(E734,'Flow Data'!D$6:D$737,'Flow Data'!H$6:H$737)","v":0.75025658569962372},281845039104]
["2007-11-14",31699,null,76,{"$f":"LOOKUP(A735,'Flow Data'!A$6:A$2928,'Flow Data'!B$6:B$2928)","v":64},{"$f":"LOOKUP(E735,'Flow Data'!D$6:D$737,'Flow Data'!H$6:H$737)","v":0.75025658569962372},119001238732.80002]
["2007-11-14",31699,null,600,{"$f":"LOOKUP(A736,'Flow Data'!A$6:A$2928,'Flow Data'!B$6:B$2928)","v":64},{"$f":"LOOKUP(E736,'Flow Data'!D$6:D$737,'Flow Data'!H$6:H$737)","v":0.75025658569962372},939483463680.00024]
["2008-01-17",31699,null,9100,{"$f":"LOOKUP(A737,'Flow Data'!A$6:A$2928,'Flow Data'!B$6:B$2928)","v":75},{"$f":"LOOKUP(E737,'Flow Data'!D$6:D$737,'Flow Data'!H$6:H$737)","v":0.66712281902155313},16697850624000]
["2008-01-17",31699,null,12000,{"$f":"LOOKUP(A738,'Flow Data'!A$6:A$2928,'Flow Data'!B$6:B$2928)","v":75},{"$f":"LOOKUP(E738,'Flow Data'!D$6:D$737,'Flow Data'!H$6:H$737)","v":0.66712281902155313},22019143680000]
["2008-01-17",31699,null,11000,{"$f":"LOOKUP(A739,'Flow Data'!A$6:A$2928,'Flow Data'!B$6:B$2928)","v":75},{"$f":"LOOKUP(E739,'Flow Data'!D$6:D$737,'Flow Data'!H$6:H$737)","v":0.66712281902155313},20184215040000]
["2008-01-17",31699,null,17000,{"$f":"LOOKUP(A740,'Flow Data'!A$6:A$2928,'Flow Data'!B$6:B$2928)","v":75},{"$f":"LOOKUP(E740,'Flow Data'!D$6:D$737,'Flow Data'!H$6:H$737)","v":0.66712281902155313},31193786880000]
["2008-01-28",31699,null,300,{"$f":"LOOKUP(A741,'Flow Data'!A$6:A$2928,'Flow Data'!B$6:B$2928)","v":75},{"$f":"LOOKUP(E741,'Flow Data'!D$6:D$737,'Flow Data'!H$6:H$737)","v":0.66712281902155313},550478592000]
["2008-01-28",31699,null,290,{"$f":"LOOKUP(A742,'Flow Data'!A$6:A$2928,'Flow Data'!B$6:B$2928)","v":75},{"$f":"LOOKUP(E742,'Flow Data'!D$6:D$737,'Flow Data'!H$6:H$737)","v":0.66712281902155313},532129305600]
["2008-01-28",31699,null,330,{"$f":"LOOKUP(A743,'Flow Data'!A$6:A$2928,'Flow Data'!B$6:B$2928)","v":75},{"$f":"LOOKUP(E743,'Flow Data'!D$6:D$737,'Flow Data'!H$6:H$737)","v":0.66712281902155313},605526451200]
["2008-01-28",31699,null,320,{"$f":"LOOKUP(A744,'Flow Data'!A$6:A$2928,'Flow Data'!B$6:B$2928)","v":75},{"$f":"LOOKUP(E744,'Flow Data'!D$6:D$737,'Flow Data'!H$6:H$737)","v":0.66712281902155313},587177164800]
["2008-01-28",31699,null,490,{"$f":"LOOKUP(A745,'Flow Data'!A$6:A$2928,'Flow Data'!B$6:B$2928)","v":75},{"$f":"LOOKUP(E745,'Flow Data'!D$6:D$737,'Flow Data'!H$6:H$737)","v":0.66712281902155313},899115033600]
["2008-02-06",31699,null,1700,{"$f":"LOOKUP(A746,'Flow Data'!A$6:A$2928,'Flow Data'!B$6:B$2928)","v":75},{"$f":"LOOKUP(E746,'Flow Data'!D$6:D$737,'Flow Data'!H$6:H$737)","v":0.66712281902155313},3119378688000]
["2008-02-06",31699,null,110,{"$f":"LOOKUP(A747,'Flow Data'!A$6:A$2928,'Flow Data'!B$6:B$2928)","v":75},{"$f":"LOOKUP(E747,'Flow Data'!D$6:D$737,'Flow Data'!H$6:H$737)","v":0.66712281902155313},201842150400]
["2008-02-18",31699,null,2900,{"$f":"LOOKUP(A748,'Flow Data'!A$6:A$2928,'Flow Data'!B$6:B$2928)","v":75},{"$f":"LOOKUP(E748,'Flow Data'!D$6:D$737,'Flow Data'!H$6:H$737)","v":0.66712281902155313},5321293056000]
["2008-02-18",31699,null,4200,{"$f":"LOOKUP(A749,'Flow Data'!A$6:A$2928,'Flow Data'!B$6:B$2928)","v":75},{"$f":"LOOKUP(E749,'Flow Data'!D$6:D$737,'Flow Data'!H$6:H$737)","v":0.66712281902155313},7706700288000]
["2008-02-18",31699,null,5400,{"$f":"LOOKUP(A750,'Flow Data'!A$6:A$2928,'Flow Data'!B$6:B$2928)","v":75},{"$f":"LOOKUP(E750,'Flow Data'!D$6:D$737,'Flow Data'!H$6:H$737)","v":0.66712281902155313},9908614656000]
["2008-02-19",31699,">",240000,{"$f":"LOOKUP(A751,'Flow Data'!A$6:A$2928,'Flow Data'!B$6:B$2928)","v":75},{"$f":"LOOKUP(E751,'Flow Data'!D$6:D$737,'Flow Data'!H$6:H$737)","v":0.66712281902155313},440382873600000]
["2008-02-19",31699,null,2900,{"$f":"LOOKUP(A752,'Flow Data'!A$6:A$2928,'Flow Data'!B$6:B$2928)","v":75},{"$f":"LOOKUP(E752,'Flow Data'!D$6:D$737,'Flow Data'!H$6:H$737)","v":0.66712281902155313},5321293056000]
["2008-02-21",31699,null,5200,{"$f":"LOOKUP(A753,'Flow Data'!A$6:A$2928,'Flow Data'!B$6:B$2928)","v":75},{"$f":"LOOKUP(E753,'Flow Data'!D$6:D$737,'Flow Data'!H$6:H$737)","v":0.66712281902155313},9541628928000]
["2008-02-21",31699,null,7100,{"$f":"LOOKUP(A754,'Flow Data'!A$6:A$2928,'Flow Data'!B$6:B$2928)","v":75},{"$f":"LOOKUP(E754,'Flow Data'!D$6:D$737,'Flow Data'!H$6:H$737)","v":0.66712281902155313},13027993344000]
["2008-02-21",31699,null,3900,{"$f":"LOOKUP(A755,'Flow Data'!A$6:A$2928,'Flow Data'!B$6:B$2928)","v":75},{"$f":"LOOKUP(E755,'Flow Data'!D$6:D$737,'Flow Data'!H$6:H$737)","v":0.66712281902155313},7156221696000]
["2008-03-24",31699,null,500,{"$f":"LOOKUP(A756,'Flow Data'!A$6:A$2928,'Flow Data'!B$6:B$2928)","v":75},{"$f":"LOOKUP(E756,'Flow Data'!D$6:D$737,'Flow Data'!H$6:H$737)","v":0.66712281902155313},917464320000]
["2008-03-24",31699,null,300,{"$f":"LOOKUP(A757,'Flow Data'!A$6:A$2928,'Flow Data'!B$6:B$2928)","v":75},{"$f":"LOOKUP(E757,'Flow Data'!D$6:D$737,'Flow Data'!H$6:H$737)","v":0.66712281902155313},550478592000]
["2008-03-24",31699,null,330,{"$f":"LOOKUP(A758,'Flow Data'!A$6:A$2928,'Flow Data'!B$6:B$2928)","v":75},{"$f":"LOOKUP(E758,'Flow Data'!D$6:D$737,'Flow Data'!H$6:H$737)","v":0.66712281902155313},605526451200]
["2008-03-24",31699,null,1800,{"$f":"LOOKUP(A759,'Flow Data'!A$6:A$2928,'Flow Data'!B$6:B$2928)","v":75},{"$f":"LOOKUP(E759,'Flow Data'!D$6:D$737,'Flow Data'!H$6:H$737)","v":0.66712281902155313},3302871552000]
["2008-03-24",31699,null,260,{"$f":"LOOKUP(A760,'Flow Data'!A$6:A$2928,'Flow Data'!B$6:B$2928)","v":75},{"$f":"LOOKUP(E760,'Flow Data'!D$6:D$737,'Flow Data'!H$6:H$737)","v":0.66712281902155313},477081446400]
["2008-03-27",31699,null,530,{"$f":"LOOKUP(A761,'Flow Data'!A$6:A$2928,'Flow Data'!B$6:B$2928)","v":75},{"$f":"LOOKUP(E761,'Flow Data'!D$6:D$737,'Flow Data'!H$6:H$737)","v":0.66712281902155313},972512179200]
["2008-03-27",31699,null,410,{"$f":"LOOKUP(A762,'Flow Data'!A$6:A$2928,'Flow Data'!B$6:B$2928)","v":75},{"$f":"LOOKUP(E762,'Flow Data'!D$6:D$737,'Flow Data'!H$6:H$737)","v":0.66712281902155313},752320742400]
["2008-03-27",31699,null,400,{"$f":"LOOKUP(A763,'Flow Data'!A$6:A$2928,'Flow Data'!B$6:B$2928)","v":75},{"$f":"LOOKUP(E763,'Flow Data'!D$6:D$737,'Flow Data'!H$6:H$737)","v":0.66712281902155313},733971456000]
["2008-03-27",31699,null,190,{"$f":"LOOKUP(A764,'Flow Data'!A$6:A$2928,'Flow Data'!B$6:B$2928)","v":75},{"$f":"LOOKUP(E764,'Flow Data'!D$6:D$737,'Flow Data'!H$6:H$737)","v":0.66712281902155313},348636441600]
["2008-04-24",31699,null,450,{"$f":"LOOKUP(A765,'Flow Data'!A$6:A$2928,'Flow Data'!B$6:B$2928)","v":75},{"$f":"LOOKUP(E765,'Flow Data'!D$6:D$737,'Flow Data'!H$6:H$737)","v":0.66712281902155313},825717888000]
["2008-04-24",31699,null,330,{"$f":"LOOKUP(A766,'Flow Data'!A$6:A$2928,'Flow Data'!B$6:B$2928)","v":75},{"$f":"LOOKUP(E766,'Flow Data'!D$6:D$737,'Flow Data'!H$6:H$737)","v":0.66712281902155313},605526451200]
["2008-04-24",31699,null,430,{"$f":"LOOKUP(A767,'Flow Data'!A$6:A$2928,'Flow Data'!B$6:B$2928)","v":75},{"$f":"LOOKUP(E767,'Flow Data'!D$6:D$737,'Flow Data'!H$6:H$737)","v":0.66712281902155313},789019315200]
["2008-04-24",31699,null,280,{"$f":"LOOKUP(A768,'Flow Data'!A$6:A$2928,'Flow Data'!B$6:B$2928)","v":75},{"$f":"LOOKUP(E768,'Flow Data'!D$6:D$737,'Flow Data'!H$6:H$737)","v":0.66712281902155313},513780019200]
["2008-04-29",31699,null,430,{"$f":"LOOKUP(A769,'Flow Data'!A$6:A$2928,'Flow Data'!B$6:B$2928)","v":75},{"$f":"LOOKUP(E769,'Flow Data'!D$6:D$737,'Flow Data'!H$6:H$737)","v":0.66712281902155313},789019315200]
["2008-04-29",31699,null,440,{"$f":"LOOKUP(A770,'Flow Data'!A$6:A$2928,'Flow Data'!B$6:B$2928)","v":75},{"$f":"LOOKUP(E770,'Flow Data'!D$6:D$737,'Flow Data'!H$6:H$737)","v":0.66712281902155313},807368601600]
["2008-04-29",31699,null,300,{"$f":"LOOKUP(A771,'Flow Data'!A$6:A$2928,'Flow Data'!B$6:B$2928)","v":75},{"$f":"LOOKUP(E771,'Flow Data'!D$6:D$737,'Flow Data'!H$6:H$737)","v":0.66712281902155313},550478592000]
["2008-04-29",31699,null,430,{"$f":"LOOKUP(A772,'Flow Data'!A$6:A$2928,'Flow Data'!B$6:B$2928)","v":75},{"$f":"LOOKUP(E772,'Flow Data'!D$6:D$737,'Flow Data'!H$6:H$737)","v":0.66712281902155313},{"$f":"((D772/100)*1000*E772*28.3168)*60*60*24","v":789019315200}]
["2008-05-06",31699,null,7300,{"$f":"LOOKUP(A773,'Flow Data'!A$6:A$2928,'Flow Data'!B$6:B$2928)","v":75},{"$f":"LOOKUP(E773,'Flow Data'!D$6:D$737,'Flow Data'!H$6:H$737)","v":0.66712281902155313},13394979072000]
["2008-05-06",31699,null,6500,{"$f":"LOOKUP(A774,'Flow Data'!A$6:A$2928,'Flow Data'!B$6:B$2928)","v":75},{"$f":"LOOKUP(E774,'Flow Data'!D$6:D$737,'Flow Data'!H$6:H$737)","v":0.66712281902155313},11927036160000]
["2008-06-05",31699,null,220,{"$f":"LOOKUP(A775,'Flow Data'!A$6:A$2928,'Flow Data'!B$6:B$2928)","v":75},{"$f":"LOOKUP(E775,'Flow Data'!D$6:D$737,'Flow Data'!H$6:H$737)","v":0.66712281902155313},403684300800]
["2008-06-05",31699,null,560,{"$f":"LOOKUP(A776,'Flow Data'!A$6:A$2928,'Flow Data'!B$6:B$2928)","v":75},{"$f":"LOOKUP(E776,'Flow Data'!D$6:D$737,'Flow Data'!H$6:H$737)","v":0.66712281902155313},1027560038400]
["2008-06-05",31699,null,1200,{"$f":"LOOKUP(A777,'Flow Data'!A$6:A$2928,'Flow Data'!B$6:B$2928)","v":75},{"$f":"LOOKUP(E777,'Flow Data'!D$6:D$737,'Flow Data'!H$6:H$737)","v":0.66712281902155313},2201914368000]
["2008-06-05",31699,null,120,{"$f":"LOOKUP(A778,'Flow Data'!A$6:A$2928,'Flow Data'!B$6:B$2928)","v":75},{"$f":"LOOKUP(E778,'Flow Data'!D$6:D$737,'Flow Data'!H$6:H$737)","v":0.66712281902155313},220191436800]
["2008-06-24",31699,null,690,{"$f":"LOOKUP(A779,'Flow Data'!A$6:A$2928,'Flow Data'!B$6:B$2928)","v":75},{"$f":"LOOKUP(E779,'Flow Data'!D$6:D$737,'Flow Data'!H$6:H$737)","v":0.66712281902155313},1266100761600]
["2008-06-24",31699,null,2500,{"$f":"LOOKUP(A780,'Flow Data'!A$6:A$2928,'Flow Data'!B$6:B$2928)","v":75},{"$f":"LOOKUP(E780,'Flow Data'!D$6:D$737,'Flow Data'!H$6:H$737)","v":0.66712281902155313},4587321600000]
["2008-06-24",31699,null,640,{"$f":"LOOKUP(A781,'Flow Data'!A$6:A$2928,'Flow Data'!B$6:B$2928)","v":75},{"$f":"LOOKUP(E781,'Flow Data'!D$6:D$737,'Flow Data'!H$6:H$737)","v":0.66712281902155313},1174354329600]
["2008-06-24",31699,null,3500,{"$f":"LOOKUP(A782,'Flow Data'!A$6:A$2928,'Flow Data'!B$6:B$2928)","v":75},{"$f":"LOOKUP(E782,'Flow Data'!D$6:D$737,'Flow Data'!H$6:H$737)","v":0.66712281902155313},6422250240000]
["2008-06-24",31699,null,4400,{"$f":"LOOKUP(A783,'Flow Data'!A$6:A$2928,'Flow Data'!B$6:B$2928)","v":75},{"$f":"LOOKUP(E783,'Flow Data'!D$6:D$737,'Flow Data'!H$6:H$737)","v":0.66712281902155313},8073686016000]
["2008-08-06",31699,null,1600,{"$f":"LOOKUP(A784,'Flow Data'!A$6:A$2928,'Flow Data'!B$6:B$2928)","v":75},{"$f":"LOOKUP(E784,'Flow Data'!D$6:D$737,'Flow Data'!H$6:H$737)","v":0.66712281902155313},2935885824000]
["2008-08-06",31699,null,1600,{"$f":"LOOKUP(A785,'Flow Data'!A$6:A$2928,'Flow Data'!B$6:B$2928)","v":75},{"$f":"LOOKUP(E785,'Flow Data'!D$6:D$737,'Flow Data'!H$6:H$737)","v":0.66712281902155313},2935885824000]
["2008-08-06",31699,null,450,{"$f":"LOOKUP(A786,'Flow Data'!A$6:A$2928,'Flow Data'!B$6:B$2928)","v":75},{"$f":"LOOKUP(E786,'Flow Data'!D$6:D$737,'Flow Data'!H$6:H$737)","v":0.66712281902155313},825717888000]
["2008-08-06",31699,null,890,{"$f":"LOOKUP(A787,'Flow Data'!A$6:A$2928,'Flow Data'!B$6:B$2928)","v":75},{"$f":"LOOKUP(E787,'Flow Data'!D$6:D$737,'Flow Data'!H$6:H$737)","v":0.66712281902155313},1633086489600]
["2008-08-18",31699,null,1500,{"$f":"LOOKUP(A788,'Flow Data'!A$6:A$2928,'Flow Data'!B$6:B$2928)","v":75},{"$f":"LOOKUP(E788,'Flow Data'!D$6:D$737,'Flow Data'!H$6:H$737)","v":0.66712281902155313},2752392960000]
["2008-08-18",31699,null,960,{"$f":"LOOKUP(A789,'Flow Data'!A$6:A$2928,'Flow Data'!B$6:B$2928)","v":75},{"$f":"LOOKUP(E789,'Flow Data'!D$6:D$737,'Flow Data'!H$6:H$737)","v":0.66712281902155313},1761531494400]
["2008-08-18",31699,null,2100,{"$f":"LOOKUP(A790,'Flow Data'!A$6:A$2928,'Flow Data'!B$6:B$2928)","v":75},{"$f":"LOOKUP(E790,'Flow Data'!D$6:D$737,'Flow Data'!H$6:H$737)","v":0.66712281902155313},3853350144000]
["2008-08-18",31699,null,980,{"$f":"LOOKUP(A791,'Flow Data'!A$6:A$2928,'Flow Data'!B$6:B$2928)","v":75},{"$f":"LOOKUP(E791,'Flow Data'!D$6:D$737,'Flow Data'!H$6:H$737)","v":0.66712281902155313},1798230067200]
["2008-08-18",31699,null,4700,{"$f":"LOOKUP(A792,'Flow Data'!A$6:A$2928,'Flow Data'!B$6:B$2928)","v":75},{"$f":"LOOKUP(E792,'Flow Data'!D$6:D$737,'Flow Data'!H$6:H$737)","v":0.66712281902155313},8624164608000]
["2008-08-20",31699,null,18000,{"$f":"LOOKUP(A793,'Flow Data'!A$6:A$2928,'Flow Data'!B$6:B$2928)","v":75},{"$f":"LOOKUP(E793,'Flow Data'!D$6:D$737,'Flow Data'!H$6:H$737)","v":0.66712281902155313},33028715520000]
["2008-08-20",31699,null,4500,{"$f":"LOOKUP(A794,'Flow Data'!A$6:A$2928,'Flow Data'!B$6:B$2928)","v":75},{"$f":"LOOKUP(E794,'Flow Data'!D$6:D$737,'Flow Data'!H$6:H$737)","v":0.66712281902155313},8257178880000]
["2008-09-03",31699,null,700,{"$f":"LOOKUP(A795,'Flow Data'!A$6:A$2928,'Flow Data'!B$6:B$2928)","v":75},{"$f":"LOOKUP(E795,'Flow Data'!D$6:D$737,'Flow Data'!H$6:H$737)","v":0.66712281902155313},1284450048000]
["2008-09-03",31699,null,490,{"$f":"LOOKUP(A796,'Flow Data'!A$6:A$2928,'Flow Data'!B$6:B$2928)","v":75},{"$f":"LOOKUP(E796,'Flow Data'!D$6:D$737,'Flow Data'!H$6:H$737)","v":0.66712281902155313},899115033600]
["2008-09-03",31699,null,240,{"$f":"LOOKUP(A797,'Flow Data'!A$6:A$2928,'Flow Data'!B$6:B$2928)","v":75},{"$f":"LOOKUP(E797,'Flow Data'!D$6:D$737,'Flow Data'!H$6:H$737)","v":0.66712281902155313},440382873600]
["2008-09-03",31699,null,250,{"$f":"LOOKUP(A798,'Flow Data'!A$6:A$2928,'Flow Data'!B$6:B$2928)","v":75},{"$f":"LOOKUP(E798,'Flow Data'!D$6:D$737,'Flow Data'!H$6:H$737)","v":0.66712281902155313},458732160000]
["2008-09-29",31699,null,440,{"$f":"LOOKUP(A799,'Flow Data'!A$6:A$2928,'Flow Data'!B$6:B$2928)","v":75},{"$f":"LOOKUP(E799,'Flow Data'!D$6:D$737,'Flow Data'!H$6:H$737)","v":0.66712281902155313},807368601600]
["2008-09-29",31699,null,10,{"$f":"LOOKUP(A800,'Flow Data'!A$6:A$2928,'Flow Data'!B$6:B$2928)","v":75},{"$f":"LOOKUP(E800,'Flow Data'!D$6:D$737,'Flow Data'!H$6:H$737)","v":0.66712281902155313},18349286400]
["2008-09-29",31699,null,520,{"$f":"LOOKUP(A801,'Flow Data'!A$6:A$2928,'Flow Data'!B$6:B$2928)","v":75},{"$f":"LOOKUP(E801,'Flow Data'!D$6:D$737,'Flow Data'!H$6:H$737)","v":0.66712281902155313},954162892800]
["2008-09-29",31699,null,150,{"$f":"LOOKUP(A802,'Flow Data'!A$6:A$2928,'Flow Data'!B$6:B$2928)","v":75},{"$f":"LOOKUP(E802,'Flow Data'!D$6:D$737,'Flow Data'!H$6:H$737)","v":0.66712281902155313},275239296000]
["2008-09-29",31699,null,230,{"$f":"LOOKUP(A803,'Flow Data'!A$6:A$2928,'Flow Data'!B$6:B$2928)","v":75},{"$f":"LOOKUP(E803,'Flow Data'!D$6:D$737,'Flow Data'!H$6:H$737)","v":0.66712281902155313},422033587200]
["2008-10-08",31699,null,260,{"$f":"LOOKUP(A804,'Flow Data'!A$6:A$2928,'Flow Data'!B$6:B$2928)","v":75},{"$f":"LOOKUP(E804,'Flow Data'!D$6:D$737,'Flow Data'!H$6:H$737)","v":0.66712281902155313},477081446400]
["2008-10-20",31699,null,270,{"$f":"LOOKUP(A805,'Flow Data'!A$6:A$2928,'Flow Data'!B$6:B$2928)","v":75},{"$f":"LOOKUP(E805,'Flow Data'!D$6:D$737,'Flow Data'!H$6:H$737)","v":0.66712281902155313},495430732800]
["2008-10-20",31699,null,92,{"$f":"LOOKUP(A806,'Flow Data'!A$6:A$2928,'Flow Data'!B$6:B$2928)","v":75},{"$f":"LOOKUP(E806,'Flow Data'!D$6:D$737,'Flow Data'!H$6:H$737)","v":0.66712281902155313},168813434880]
["2008-10-20",31699,null,210,{"$f":"LOOKUP(A807,'Flow Data'!A$6:A$2928,'Flow Data'!B$6:B$2928)","v":75},{"$f":"LOOKUP(E807,'Flow Data'!D$6:D$737,'Flow Data'!H$6:H$737)","v":0.66712281902155313},385335014400]
["2008-10-20",31699,null,99,{"$f":"LOOKUP(A808,'Flow Data'!A$6:A$2928,'Flow Data'!B$6:B$2928)","v":75},{"$f":"LOOKUP(E808,'Flow Data'!D$6:D$737,'Flow Data'!H$6:H$737)","v":0.66712281902155313},181657935360]
["2008-10-20",31699,null,160,{"$f":"LOOKUP(A809,'Flow Data'!A$6:A$2928,'Flow Data'!B$6:B$2928)","v":75},{"$f":"LOOKUP(E809,'Flow Data'!D$6:D$737,'Flow Data'!H$6:H$737)","v":0.66712281902155313},293588582400]
["2008-11-05",31699,null,2200,{"$f":"LOOKUP(A810,'Flow Data'!A$6:A$2928,'Flow Data'!B$6:B$2928)","v":75},{"$f":"LOOKUP(E810,'Flow Data'!D$6:D$737,'Flow Data'!H$6:H$737)","v":0.66712281902155313},4036843008000]
["2008-11-05",31699,null,940,{"$f":"LOOKUP(A811,'Flow Data'!A$6:A$2928,'Flow Data'!B$6:B$2928)","v":75},{"$f":"LOOKUP(E811,'Flow Data'!D$6:D$737,'Flow Data'!H$6:H$737)","v":0.66712281902155313},1724832921600]
["2008-11-05",31699,null,720,{"$f":"LOOKUP(A812,'Flow Data'!A$6:A$2928,'Flow Data'!B$6:B$2928)","v":75},{"$f":"LOOKUP(E812,'Flow Data'!D$6:D$737,'Flow Data'!H$6:H$737)","v":0.66712281902155313},1321148620800]
["2008-11-05",31699,null,880,{"$f":"LOOKUP(A813,'Flow Data'!A$6:A$2928,'Flow Data'!B$6:B$2928)","v":75},{"$f":"LOOKUP(E813,'Flow Data'!D$6:D$737,'Flow Data'!H$6:H$737)","v":0.66712281902155313},1614737203200]
["2008-11-05",31699,null,270,{"$f":"LOOKUP(A814,'Flow Data'!A$6:A$2928,'Flow Data'!B$6:B$2928)","v":75},{"$f":"LOOKUP(E814,'Flow Data'!D$6:D$737,'Flow Data'!H$6:H$737)","v":0.66712281902155313},495430732800]
["2008-11-05",31699,null,160,{"$f":"LOOKUP(A815,'Flow Data'!A$6:A$2928,'Flow Data'!B$6:B$2928)","v":75},{"$f":"LOOKUP(E815,'Flow Data'!D$6:D$737,'Flow Data'!H$6:H$737)","v":0.66712281902155313},293588582400]
["2008-11-17",31699,null,250,{"$f":"LOOKUP(A816,'Flow Data'!A$6:A$2928,'Flow Data'!B$6:B$2928)","v":75},{"$f":"LOOKUP(E816,'Flow Data'!D$6:D$737,'Flow Data'!H$6:H$737)","v":0.66712281902155313},458732160000]
["2008-11-17",31699,null,310,{"$f":"LOOKUP(A817,'Flow Data'!A$6:A$2928,'Flow Data'!B$6:B$2928)","v":75},{"$f":"LOOKUP(E817,'Flow Data'!D$6:D$737,'Flow Data'!H$6:H$737)","v":0.66712281902155313},568827878400]
["2008-11-17",31699,null,210,{"$f":"LOOKUP(A818,'Flow Data'!A$6:A$2928,'Flow Data'!B$6:B$2928)","v":75},{"$f":"LOOKUP(E818,'Flow Data'!D$6:D$737,'Flow Data'!H$6:H$737)","v":0.66712281902155313},385335014400]
["2008-11-17",31699,null,280,{"$f":"LOOKUP(A819,'Flow Data'!A$6:A$2928,'Flow Data'!B$6:B$2928)","v":75},{"$f":"LOOKUP(E819,'Flow Data'!D$6:D$737,'Flow Data'!H$6:H$737)","v":0.66712281902155313},513780019200]
["2008-11-17",31699,null,210,{"$f":"LOOKUP(A820,'Flow Data'!A$6:A$2928,'Flow Data'!B$6:B$2928)","v":75},{"$f":"LOOKUP(E820,'Flow Data'!D$6:D$737,'Flow Data'!H$6:H$737)","v":0.66712281902155313},385335014400]
["2009-01-08",31699,null,1100,{"$f":"LOOKUP(A821,'Flow Data'!A$6:A$2928,'Flow Data'!B$6:B$2928)","v":75},{"$f":"LOOKUP(E821,'Flow Data'!D$6:D$737,'Flow Data'!H$6:H$737)","v":0.66712281902155313},2018421504000]
["2009-01-08",31699,null,940,{"$f":"LOOKUP(A822,'Flow Data'!A$6:A$2928,'Flow Data'!B$6:B$2928)","v":75},{"$f":"LOOKUP(E822,'Flow Data'!D$6:D$737,'Flow Data'!H$6:H$737)","v":0.66712281902155313},1724832921600]
["2009-01-08",31699,null,1600,{"$f":"LOOKUP(A823,'Flow Data'!A$6:A$2928,'Flow Data'!B$6:B$2928)","v":75},{"$f":"LOOKUP(E823,'Flow Data'!D$6:D$737,'Flow Data'!H$6:H$737)","v":0.66712281902155313},2935885824000]
["2009-01-08",31699,null,720,{"$f":"LOOKUP(A824,'Flow Data'!A$6:A$2928,'Flow Data'!B$6:B$2928)","v":75},{"$f":"LOOKUP(E824,'Flow Data'!D$6:D$737,'Flow Data'!H$6:H$737)","v":0.66712281902155313},1321148620800]
["2009-01-27",31699,null,220,{"$f":"LOOKUP(A825,'Flow Data'!A$6:A$2928,'Flow Data'!B$6:B$2928)","v":75},{"$f":"LOOKUP(E825,'Flow Data'!D$6:D$737,'Flow Data'!H$6:H$737)","v":0.66712281902155313},403684300800]
["2009-01-27",31699,null,450,{"$f":"LOOKUP(A826,'Flow Data'!A$6:A$2928,'Flow Data'!B$6:B$2928)","v":75},{"$f":"LOOKUP(E826,'Flow Data'!D$6:D$737,'Flow Data'!H$6:H$737)","v":0.66712281902155313},825717888000]
["2009-01-27",31699,null,540,{"$f":"LOOKUP(A827,'Flow Data'!A$6:A$2928,'Flow Data'!B$6:B$2928)","v":75},{"$f":"LOOKUP(E827,'Flow Data'!D$6:D$737,'Flow Data'!H$6:H$737)","v":0.66712281902155313},990861465600]
["2009-01-27",31699,null,1500,{"$f":"LOOKUP(A828,'Flow Data'!A$6:A$2928,'Flow Data'!B$6:B$2928)","v":75},{"$f":"LOOKUP(E828,'Flow Data'!D$6:D$737,'Flow Data'!H$6:H$737)","v":0.66712281902155313},2752392960000]
["2009-01-27",31699,null,490,{"$f":"LOOKUP(A829,'Flow Data'!A$6:A$2928,'Flow Data'!B$6:B$2928)","v":75},{"$f":"LOOKUP(E829,'Flow Data'!D$6:D$737,'Flow Data'!H$6:H$737)","v":0.66712281902155313},899115033600]
["2009-02-11",31699,null,17000,{"$f":"LOOKUP(A830,'Flow Data'!A$6:A$2928,'Flow Data'!B$6:B$2928)","v":75},{"$f":"LOOKUP(E830,'Flow Data'!D$6:D$737,'Flow Data'!H$6:H$737)","v":0.66712281902155313},31193786880000]
["2009-02-11",31699,null,15000,{"$f":"LOOKUP(A831,'Flow Data'!A$6:A$2928,'Flow Data'!B$6:B$2928)","v":75},{"$f":"LOOKUP(E831,'Flow Data'!D$6:D$737,'Flow Data'!H$6:H$737)","v":0.66712281902155313},27523929600000]
["2009-03-05",31699,null,200,{"$f":"LOOKUP(A832,'Flow Data'!A$6:A$2928,'Flow Data'!B$6:B$2928)","v":75},{"$f":"LOOKUP(E832,'Flow Data'!D$6:D$737,'Flow Data'!H$6:H$737)","v":0.66712281902155313},366985728000]
["2009-03-05",31699,null,350,{"$f":"LOOKUP(A833,'Flow Data'!A$6:A$2928,'Flow Data'!B$6:B$2928)","v":75},{"$f":"LOOKUP(E833,'Flow Data'!D$6:D$737,'Flow Data'!H$6:H$737)","v":0.66712281902155313},642225024000]
["2009-03-05",31699,null,230,{"$f":"LOOKUP(A834,'Flow Data'!A$6:A$2928,'Flow Data'!B$6:B$2928)","v":75},{"$f":"LOOKUP(E834,'Flow Data'!D$6:D$737,'Flow Data'!H$6:H$737)","v":0.66712281902155313},422033587200]
["2009-03-05",31699,null,430,{"$f":"LOOKUP(A835,'Flow Data'!A$6:A$2928,'Flow Data'!B$6:B$2928)","v":75},{"$f":"LOOKUP(E835,'Flow Data'!D$6:D$737,'Flow Data'!H$6:H$737)","v":0.66712281902155313},789019315200]
["2009-03-16",31699,null,2500,{"$f":"LOOKUP(A836,'Flow Data'!A$6:A$2928,'Flow Data'!B$6:B$2928)","v":75},{"$f":"LOOKUP(E836,'Flow Data'!D$6:D$737,'Flow Data'!H$6:H$737)","v":0.66712281902155313},{"$f":"((D836/100)*1000*E836*28.3168)*60*60*24","v":4587321600000}]
["2009-03-16",31699,null,1700,{"$f":"LOOKUP(A837,'Flow Data'!A$6:A$2928,'Flow Data'!B$6:B$2928)","v":75},{"$f":"LOOKUP(E837,'Flow Data'!D$6:D$737,'Flow Data'!H$6:H$737)","v":0.66712281902155313},3119378688000]
["2009-03-16",31699,null,1900,{"$f":"LOOKUP(A838,'Flow Data'!A$6:A$2928,'Flow Data'!B$6:B$2928)","v":75},{"$f":"LOOKUP(E838,'Flow Data'!D$6:D$737,'Flow Data'!H$6:H$737)","v":0.66712281902155313},3486364416000]
["2009-03-16",31699,null,1900,{"$f":"LOOKUP(A839,'Flow Data'!A$6:A$2928,'Flow Data'!B$6:B$2928)","v":75},{"$f":"LOOKUP(E839,'Flow Data'!D$6:D$737,'Flow Data'!H$6:H$737)","v":0.66712281902155313},3486364416000]
["2009-03-16",31699,null,2000,{"$f":"LOOKUP(A840,'Flow Data'!A$6:A$2928,'Flow Data'!B$6:B$2928)","v":75},{"$f":"LOOKUP(E840,'Flow Data'!D$6:D$737,'Flow Data'!H$6:H$737)","v":0.66712281902155313},3669857280000]
["2009-04-09",31699,null,1800,{"$f":"LOOKUP(A841,'Flow Data'!A$6:A$2928,'Flow Data'!B$6:B$2928)","v":75},{"$f":"LOOKUP(E841,'Flow Data'!D$6:D$737,'Flow Data'!H$6:H$737)","v":0.66712281902155313},3302871552000]
["2009-04-09",31699,null,410,{"$f":"LOOKUP(A842,'Flow Data'!A$6:A$2928,'Flow Data'!B$6:B$2928)","v":75},{"$f":"LOOKUP(E842,'Flow Data'!D$6:D$737,'Flow Data'!H$6:H$737)","v":0.66712281902155313},752320742400]
["2009-04-09",31699,null,260,{"$f":"LOOKUP(A843,'Flow Data'!A$6:A$2928,'Flow Data'!B$6:B$2928)","v":75},{"$f":"LOOKUP(E843,'Flow Data'!D$6:D$737,'Flow Data'!H$6:H$737)","v":0.66712281902155313},477081446400]
["2009-04-09",31699,null,220,{"$f":"LOOKUP(A844,'Flow Data'!A$6:A$2928,'Flow Data'!B$6:B$2928)","v":75},{"$f":"LOOKUP(E844,'Flow Data'!D$6:D$737,'Flow Data'!H$6:H$737)","v":0.66712281902155313},403684300800]
["2009-04-14",31699,null,2400,{"$f":"LOOKUP(A845,'Flow Data'!A$6:A$2928,'Flow Data'!B$6:B$2928)","v":75},{"$f":"LOOKUP(E845,'Flow Data'!D$6:D$737,'Flow Data'!H$6:H$737)","v":0.66712281902155313},4403828736000]
["2009-04-14",31699,null,2100,{"$f":"LOOKUP(A846,'Flow Data'!A$6:A$2928,'Flow Data'!B$6:B$2928)","v":75},{"$f":"LOOKUP(E846,'Flow Data'!D$6:D$737,'Flow Data'!H$6:H$737)","v":0.66712281902155313},3853350144000]
["2009-04-14",31699,null,3600,{"$f":"LOOKUP(A847,'Flow Data'!A$6:A$2928,'Flow Data'!B$6:B$2928)","v":75},{"$f":"LOOKUP(E847,'Flow Data'!D$6:D$737,'Flow Data'!H$6:H$737)","v":0.66712281902155313},6605743104000]
["2009-04-14",31699,null,3400,{"$f":"LOOKUP(A848,'Flow Data'!A$6:A$2928,'Flow Data'!B$6:B$2928)","v":75},{"$f":"LOOKUP(E848,'Flow Data'!D$6:D$737,'Flow Data'!H$6:H$737)","v":0.66712281902155313},6238757376000]
["2009-04-14",31699,null,3100,{"$f":"LOOKUP(A849,'Flow Data'!A$6:A$2928,'Flow Data'!B$6:B$2928)","v":75},{"$f":"LOOKUP(E849,'Flow Data'!D$6:D$737,'Flow Data'!H$6:H$737)","v":0.66712281902155313},5688278784000]
["2009-05-14",31699,null,31,{"$f":"LOOKUP(A850,'Flow Data'!A$6:A$2928,'Flow Data'!B$6:B$2928)","v":75},{"$f":"LOOKUP(E850,'Flow Data'!D$6:D$737,'Flow Data'!H$6:H$737)","v":0.66712281902155313},56882787840]
["2009-05-14",31699,null,51,{"$f":"LOOKUP(A851,'Flow Data'!A$6:A$2928,'Flow Data'!B$6:B$2928)","v":75},{"$f":"LOOKUP(E851,'Flow Data'!D$6:D$737,'Flow Data'!H$6:H$737)","v":0.66712281902155313},93581360640.000015]
["2009-06-04",31699,null,250,{"$f":"LOOKUP(A852,'Flow Data'!A$6:A$2928,'Flow Data'!B$6:B$2928)","v":75},{"$f":"LOOKUP(E852,'Flow Data'!D$6:D$737,'Flow Data'!H$6:H$737)","v":0.66712281902155313},458732160000]
["2009-06-04",31699,null,290,{"$f":"LOOKUP(A853,'Flow Data'!A$6:A$2928,'Flow Data'!B$6:B$2928)","v":75},{"$f":"LOOKUP(E853,'Flow Data'!D$6:D$737,'Flow Data'!H$6:H$737)","v":0.66712281902155313},532129305600]
["2009-06-04",31699,null,220,{"$f":"LOOKUP(A854,'Flow Data'!A$6:A$2928,'Flow Data'!B$6:B$2928)","v":75},{"$f":"LOOKUP(E854,'Flow Data'!D$6:D$737,'Flow Data'!H$6:H$737)","v":0.66712281902155313},403684300800]
["2009-06-04",31699,null,440,{"$f":"LOOKUP(A855,'Flow Data'!A$6:A$2928,'Flow Data'!B$6:B$2928)","v":75},{"$f":"LOOKUP(E855,'Flow Data'!D$6:D$737,'Flow Data'!H$6:H$737)","v":0.66712281902155313},807368601600]
["2009-06-09",31699,null,210,{"$f":"LOOKUP(A856,'Flow Data'!A$6:A$2928,'Flow Data'!B$6:B$2928)","v":75},{"$f":"LOOKUP(E856,'Flow Data'!D$6:D$737,'Flow Data'!H$6:H$737)","v":0.66712281902155313},385335014400]
["2009-06-09",31699,null,860,{"$f":"LOOKUP(A857,'Flow Data'!A$6:A$2928,'Flow Data'!B$6:B$2928)","v":75},{"$f":"LOOKUP(E857,'Flow Data'!D$6:D$737,'Flow Data'!H$6:H$737)","v":0.66712281902155313},1578038630400]
["2009-06-09",31699,null,730,{"$f":"LOOKUP(A858,'Flow Data'!A$6:A$2928,'Flow Data'!B$6:B$2928)","v":75},{"$f":"LOOKUP(E858,'Flow Data'!D$6:D$737,'Flow Data'!H$6:H$737)","v":0.66712281902155313},1339497907200]
["2009-06-09",31699,null,150,{"$f":"LOOKUP(A859,'Flow Data'!A$6:A$2928,'Flow Data'!B$6:B$2928)","v":75},{"$f":"LOOKUP(E859,'Flow Data'!D$6:D$737,'Flow Data'!H$6:H$737)","v":0.66712281902155313},275239296000]
["2009-06-09",31699,null,97,{"$f":"LOOKUP(A860,'Flow Data'!A$6:A$2928,'Flow Data'!B$6:B$2928)","v":75},{"$f":"LOOKUP(E860,'Flow Data'!D$6:D$737,'Flow Data'!H$6:H$737)","v":0.66712281902155313},177988078080]
["2009-07-01",31699,null,1500,{"$f":"LOOKUP(A861,'Flow Data'!A$6:A$2928,'Flow Data'!B$6:B$2928)","v":75},{"$f":"LOOKUP(E861,'Flow Data'!D$6:D$737,'Flow Data'!H$6:H$737)","v":0.66712281902155313},2752392960000]
["2009-07-01",31699,null,1400,{"$f":"LOOKUP(A862,'Flow Data'!A$6:A$2928,'Flow Data'!B$6:B$2928)","v":75},{"$f":"LOOKUP(E862,'Flow Data'!D$6:D$737,'Flow Data'!H$6:H$737)","v":0.66712281902155313},2568900096000]
["2009-07-01",31699,null,790,{"$f":"LOOKUP(A863,'Flow Data'!A$6:A$2928,'Flow Data'!B$6:B$2928)","v":75},{"$f":"LOOKUP(E863,'Flow Data'!D$6:D$737,'Flow Data'!H$6:H$737)","v":0.66712281902155313},1449593625600]
["2009-07-01",31699,null,85,{"$f":"LOOKUP(A864,'Flow Data'!A$6:A$2928,'Flow Data'!B$6:B$2928)","v":75},{"$f":"LOOKUP(E864,'Flow Data'!D$6:D$737,'Flow Data'!H$6:H$737)","v":0.66712281902155313},155968934400]
["2009-07-14",31699,null,190,{"$f":"LOOKUP(A865,'Flow Data'!A$6:A$2928,'Flow Data'!B$6:B$2928)","v":75},{"$f":"LOOKUP(E865,'Flow Data'!D$6:D$737,'Flow Data'!H$6:H$737)","v":0.66712281902155313},348636441600]
["2009-07-14",31699,null,120000,{"$f":"LOOKUP(A866,'Flow Data'!A$6:A$2928,'Flow Data'!B$6:B$2928)","v":75},{"$f":"LOOKUP(E866,'Flow Data'!D$6:D$737,'Flow Data'!H$6:H$737)","v":0.66712281902155313},220191436800000]
["2009-07-14",31699,null,130,{"$f":"LOOKUP(A867,'Flow Data'!A$6:A$2928,'Flow Data'!B$6:B$2928)","v":75},{"$f":"LOOKUP(E867,'Flow Data'!D$6:D$737,'Flow Data'!H$6:H$737)","v":0.66712281902155313},238540723200]
["2009-07-14",31699,null,130,{"$f":"LOOKUP(A868,'Flow Data'!A$6:A$2928,'Flow Data'!B$6:B$2928)","v":75},{"$f":"LOOKUP(E868,'Flow Data'!D$6:D$737,'Flow Data'!H$6:H$737)","v":0.66712281902155313},238540723200]
["2009-07-14",31699,null,170,{"$f":"LOOKUP(A869,'Flow Data'!A$6:A$2928,'Flow Data'!B$6:B$2928)","v":75},{"$f":"LOOKUP(E869,'Flow Data'!D$6:D$737,'Flow Data'!H$6:H$737)","v":0.66712281902155313},311937868800]
["2009-08-04",31699,null,220,{"$f":"LOOKUP(A870,'Flow Data'!A$6:A$2928,'Flow Data'!B$6:B$2928)","v":75},{"$f":"LOOKUP(E870,'Flow Data'!D$6:D$737,'Flow Data'!H$6:H$737)","v":0.66712281902155313},403684300800]
["2009-08-04",31699,null,570,{"$f":"LOOKUP(A871,'Flow Data'!A$6:A$2928,'Flow Data'!B$6:B$2928)","v":75},{"$f":"LOOKUP(E871,'Flow Data'!D$6:D$737,'Flow Data'!H$6:H$737)","v":0.66712281902155313},1045909324800]
["2009-08-04",31699,null,380,{"$f":"LOOKUP(A872,'Flow Data'!A$6:A$2928,'Flow Data'!B$6:B$2928)","v":75},{"$f":"LOOKUP(E872,'Flow Data'!D$6:D$737,'Flow Data'!H$6:H$737)","v":0.66712281902155313},697272883200]
["2009-08-04",31699,null,190,{"$f":"LOOKUP(A873,'Flow Data'!A$6:A$2928,'Flow Data'!B$6:B$2928)","v":75},{"$f":"LOOKUP(E873,'Flow Data'!D$6:D$737,'Flow Data'!H$6:H$737)","v":0.66712281902155313},348636441600]
["2009-08-04",31699,null,66,{"$f":"LOOKUP(A874,'Flow Data'!A$6:A$2928,'Flow Data'!B$6:B$2928)","v":75},{"$f":"LOOKUP(E874,'Flow Data'!D$6:D$737,'Flow Data'!H$6:H$737)","v":0.66712281902155313},121105290240]
["2009-08-05",31699,null,410,{"$f":"LOOKUP(A875,'Flow Data'!A$6:A$2928,'Flow Data'!B$6:B$2928)","v":75},{"$f":"LOOKUP(E875,'Flow Data'!D$6:D$737,'Flow Data'!H$6:H$737)","v":0.66712281902155313},752320742400]
["2009-08-05",31699,null,1100,{"$f":"LOOKUP(A876,'Flow Data'!A$6:A$2928,'Flow Data'!B$6:B$2928)","v":75},{"$f":"LOOKUP(E876,'Flow Data'!D$6:D$737,'Flow Data'!H$6:H$737)","v":0.66712281902155313},2018421504000]
["2009-08-05",31699,null,460,{"$f":"LOOKUP(A877,'Flow Data'!A$6:A$2928,'Flow Data'!B$6:B$2928)","v":75},{"$f":"LOOKUP(E877,'Flow Data'!D$6:D$737,'Flow Data'!H$6:H$737)","v":0.66712281902155313},844067174400]
["2009-08-05",31699,null,110,{"$f":"LOOKUP(A878,'Flow Data'!A$6:A$2928,'Flow Data'!B$6:B$2928)","v":75},{"$f":"LOOKUP(E878,'Flow Data'!D$6:D$737,'Flow Data'!H$6:H$737)","v":0.66712281902155313},201842150400]
["2009-08-11",31699,null,490,{"$f":"LOOKUP(A879,'Flow Data'!A$6:A$2928,'Flow Data'!B$6:B$2928)","v":75},{"$f":"LOOKUP(E879,'Flow Data'!D$6:D$737,'Flow Data'!H$6:H$737)","v":0.66712281902155313},899115033600]
["2009-08-26",31699,null,340,{"$f":"LOOKUP(A880,'Flow Data'!A$6:A$2928,'Flow Data'!B$6:B$2928)","v":75},{"$f":"LOOKUP(E880,'Flow Data'!D$6:D$737,'Flow Data'!H$6:H$737)","v":0.66712281902155313},623875737600]
["2009-10-14",31699,null,14000,{"$f":"LOOKUP(A881,'Flow Data'!A$6:A$2928,'Flow Data'!B$6:B$2928)","v":75},{"$f":"LOOKUP(E881,'Flow Data'!D$6:D$737,'Flow Data'!H$6:H$737)","v":0.66712281902155313},25689000960000]
["2009-10-14",31699,null,140,{"$f":"LOOKUP(A882,'Flow Data'!A$6:A$2928,'Flow Data'!B$6:B$2928)","v":75},{"$f":"LOOKUP(E882,'Flow Data'!D$6:D$737,'Flow Data'!H$6:H$737)","v":0.66712281902155313},256890009600]
["2009-10-14",31699,null,240,{"$f":"LOOKUP(A883,'Flow Data'!A$6:A$2928,'Flow Data'!B$6:B$2928)","v":75},{"$f":"LOOKUP(E883,'Flow Data'!D$6:D$737,'Flow Data'!H$6:H$737)","v":0.66712281902155313},440382873600]
["2009-10-14",31699,null,82,{"$f":"LOOKUP(A884,'Flow Data'!A$6:A$2928,'Flow Data'!B$6:B$2928)","v":75},{"$f":"LOOKUP(E884,'Flow Data'!D$6:D$737,'Flow Data'!H$6:H$737)","v":0.66712281902155313},150464148480]
["2009-10-19",31699,null,270,{"$f":"LOOKUP(A885,'Flow Data'!A$6:A$2928,'Flow Data'!B$6:B$2928)","v":75},{"$f":"LOOKUP(E885,'Flow Data'!D$6:D$737,'Flow Data'!H$6:H$737)","v":0.66712281902155313},495430732800]
["2009-10-19",31699,null,1000,{"$f":"LOOKUP(A886,'Flow Data'!A$6:A$2928,'Flow Data'!B$6:B$2928)","v":75},{"$f":"LOOKUP(E886,'Flow Data'!D$6:D$737,'Flow Data'!H$6:H$737)","v":0.66712281902155313},1834928640000]
["2009-10-19",31699,null,560,{"$f":"LOOKUP(A887,'Flow Data'!A$6:A$2928,'Flow Data'!B$6:B$2928)","v":75},{"$f":"LOOKUP(E887,'Flow Data'!D$6:D$737,'Flow Data'!H$6:H$737)","v":0.66712281902155313},1027560038400]
["2009-10-19",31699,null,490,{"$f":"LOOKUP(A888,'Flow Data'!A$6:A$2928,'Flow Data'!B$6:B$2928)","v":75},{"$f":"LOOKUP(E888,'Flow Data'!D$6:D$737,'Flow Data'!H$6:H$737)","v":0.66712281902155313},899115033600]
["2009-10-19",31699,null,610,{"$f":"LOOKUP(A889,'Flow Data'!A$6:A$2928,'Flow Data'!B$6:B$2928)","v":75},{"$f":"LOOKUP(E889,'Flow Data'!D$6:D$737,'Flow Data'!H$6:H$737)","v":0.66712281902155313},1119306470400]
["2009-11-03",31699,null,320,{"$f":"LOOKUP(A890,'Flow Data'!A$6:A$2928,'Flow Data'!B$6:B$2928)","v":75},{"$f":"LOOKUP(E890,'Flow Data'!D$6:D$737,'Flow Data'!H$6:H$737)","v":0.66712281902155313},587177164800]
["2009-11-03",31699,null,190,{"$f":"LOOKUP(A891,'Flow Data'!A$6:A$2928,'Flow Data'!B$6:B$2928)","v":75},{"$f":"LOOKUP(E891,'Flow Data'!D$6:D$737,'Flow Data'!H$6:H$737)","v":0.66712281902155313},348636441600]
["2009-11-03",31699,null,350,{"$f":"LOOKUP(A892,'Flow Data'!A$6:A$2928,'Flow Data'!B$6:B$2928)","v":75},{"$f":"LOOKUP(E892,'Flow Data'!D$6:D$737,'Flow Data'!H$6:H$737)","v":0.66712281902155313},642225024000]
["2009-11-03",31699,null,460,{"$f":"LOOKUP(A893,'Flow Data'!A$6:A$2928,'Flow Data'!B$6:B$2928)","v":75},{"$f":"LOOKUP(E893,'Flow Data'!D$6:D$737,'Flow Data'!H$6:H$737)","v":0.66712281902155313},844067174400]
["2009-11-03",31699,null,320,{"$f":"LOOKUP(A894,'Flow Data'!A$6:A$2928,'Flow Data'!B$6:B$2928)","v":75},{"$f":"LOOKUP(E894,'Flow Data'!D$6:D$737,'Flow Data'!H$6:H$737)","v":0.66712281902155313},587177164800]
["2009-11-12",31699,null,84,{"$f":"LOOKUP(A895,'Flow Data'!A$6:A$2928,'Flow Data'!B$6:B$2928)","v":75},{"$f":"LOOKUP(E895,'Flow Data'!D$6:D$737,'Flow Data'!H$6:H$737)","v":0.66712281902155313},154134005760.00003]
["2009-11-12",31699,null,91,{"$f":"LOOKUP(A896,'Flow Data'!A$6:A$2928,'Flow Data'!B$6:B$2928)","v":75},{"$f":"LOOKUP(E896,'Flow Data'!D$6:D$737,'Flow Data'!H$6:H$737)","v":0.66712281902155313},166978506240]
["2009-11-12",31699,null,110,{"$f":"LOOKUP(A897,'Flow Data'!A$6:A$2928,'Flow Data'!B$6:B$2928)","v":75},{"$f":"LOOKUP(E897,'Flow Data'!D$6:D$737,'Flow Data'!H$6:H$737)","v":0.66712281902155313},201842150400]
["2009-11-12",31699,null,320,{"$f":"LOOKUP(A898,'Flow Data'!A$6:A$2928,'Flow Data'!B$6:B$2928)","v":75},{"$f":"LOOKUP(E898,'Flow Data'!D$6:D$737,'Flow Data'!H$6:H$737)","v":0.66712281902155313},587177164800]
["2009-12-02",31699,null,25000,{"$f":"LOOKUP(A899,'Flow Data'!A$6:A$2928,'Flow Data'!B$6:B$2928)","v":75},{"$f":"LOOKUP(E899,'Flow Data'!D$6:D$737,'Flow Data'!H$6:H$737)","v":0.66712281902155313},45873216000000]
["2009-12-02",31699,null,23000,{"$f":"LOOKUP(A900,'Flow Data'!A$6:A$2928,'Flow Data'!B$6:B$2928)","v":75},{"$f":"LOOKUP(E900,'Flow Data'!D$6:D$737,'Flow Data'!H$6:H$737)","v":0.66712281902155313},42203358720000]
["2010-02-09",31699,null,4200,{"$f":"LOOKUP(A901,'Flow Data'!A$6:A$2928,'Flow Data'!B$6:B$2928)","v":75},{"$f":"LOOKUP(E901,'Flow Data'!D$6:D$737,'Flow Data'!H$6:H$737)","v":0.66712281902155313},7706700288000]
["2010-02-09",31699,null,3900,{"$f":"LOOKUP(A902,'Flow Data'!A$6:A$2928,'Flow Data'!B$6:B$2928)","v":75},{"$f":"LOOKUP(E902,'Flow Data'!D$6:D$737,'Flow Data'!H$6:H$737)","v":0.66712281902155313},7156221696000]

{"sheet":"FC Reduction","index":8,"n_rows":12,"n_cols":9,"rows_kept":12,"cut":false,"hidden":false,"merged":[[1,1,1,8]]}
[]
[null,"Fecal Coliform Reductions"]
[null,"Flow Percentile Range1","Hydrologic Condition Class","Number of Samples","Representative Concentration (CFU/100 mL)","Mid-Range Flow                (cfs)","Mid-Range Observed Load (CFU/day)","Mid-Range Target Load (CFU/day) 2","% Load Reduction at Mid-Range 2"]
[null,"0-0.1","High Flow",27,2100,1760,90425283379200,16362670325760,0.81904761904761902]
[null,"0.1-0.4","Moist Conditions",104,8000,478,93556894924800,4443952508928,0.95250000000000001]
[null,"0.4-0.6","Mid-Range Conditions",89,5800,111,15751027445760,1031963867136.0002,0.93448275862068964]
[null,"0.6-0.9","Dry Conditions",103,3600,64,5636900782080,595006193664,0.89444444444444449]
[null,"0.9-1.0","Low Flow",81,620,41,621918480384,381175842816,0.38709677419354838]
[null,"0-1.0","Entire Curve",404,4300,111,11677485864960,1031963867136.0002,0.91162790697674423]
[]
[null,"1 Flow percentiles may be adjusted, but there must be exactly five ranges."]
[null,"2 Target load and reductions calculated based on a fecal coliform single sample water quality criterion of 400 CFU/100mL.  No more than 25% of single samples may be greater than this concentration."]

{"sheet":"EC Reduction","index":9,"n_rows":12,"n_cols":9,"rows_kept":12,"cut":false,"hidden":false,"merged":[[1,1,1,8]]}
[]
[null,"E. coli Reductions"]
[null,"Flow Percentile Range1","Hydrologic Condition Class","Number of Samples","Representative Concentration (CFU/100 mL)","Mid-Range Flow                (cfs)","Mid-Range Observed Load (CFU/day)","Mid-Range Target Load (CFU/day) 2","% Load Reduction at Mid-Range 2"]
[null,"0-0.1","High Flow",70,510,1760,21960425963520,16117230270873.6,0.26607843137254905]
[null,"0.1-0.4","Moist Conditions",241,8200,478,95895817297920,4377293221294.0801,0.95435365853658538]
[null,"0.4-0.6","Mid-Range Conditions",142,2142,111,5817017377382.4004,1016484409128.96,0.8252567693744165]
[null,"0.6-0.9","Dry Conditions",410,1100,64,1722386350080,586081100759.03992,0.65972727272727272]
[null,"0.9-1.0","Low Flow",36,700,41,702166026240.00012,375458205173.76001,0.46528571428571436]
[null,"0-1.0","Entire Curve",899,2400,111,6517666529280,1016484409128.96,0.84404166666666669]
[]
[null,"1 Flow percentiles may be adjusted, but there must be exactly five ranges."]
[null,"2 Target load and reductions calculated based on an E. coli single sample water quality criterion of 394 CFU/100mL.  No more than 25% of single samples may be greater than this concentration."]

{"sheet":"Water Quality Data","index":10,"n_rows":31894,"n_cols":4,"rows_kept":4500,"cut":true,"hidden":false,"merged":[],"bounds":{"rows_first":2000,"rows_last":500,"rows_between":2000,"halvings":0}}
[]
[]
[]
["Date","Storet Code","Qualifier","Value"]
["1973-08-01",10,null,28.5]
["1973-08-01",11,null,83.3]
["1973-08-01",95,null,390]
["1973-08-01",300,null,3.3]
["1973-08-01",310,null,10]
["1973-08-01",403,null,7.5]
["1973-08-01",31501,null,350000]
["1973-08-01",31616,null,130000]
["1973-09-04",10,null,26.9]
["1973-09-04",11,null,80.400000000000006]
["1973-09-04",95,null,416]
["1973-09-04",300,null,4]
["1973-09-04",310,null,6]
["1973-09-04",403,null,7.3]
["1973-09-04",31501,null,350000]
["1973-09-04",31616,null,170000]
["1973-11-06",10,null,21.8]
["1973-11-06",11,null,71.2]
["1973-11-06",95,null,142]
["1973-11-06",300,null,6]
["1973-11-06",310,null,7]
["1973-11-06",403,null,7.3]
["1973-11-06",31501,null,110000]
["1973-11-06",31616,null,110000]
["1973-12-05",10,null,17.2]
["1973-12-05",11,null,63]
["1973-12-05",95,null,585]
["1973-12-05",300,null,4.2]
["1973-12-05",310,null,9]
["1973-12-05",403,null,7.6]
["1973-12-05",31501,null,49000]
["1973-12-05",31616,null,33000]
["1974-01-10",10,null,17.2]
["1974-01-10",11,null,63]
["1974-01-10",95,null,456]
["1974-01-10",300,null,5.8]
["1974-01-10",310,null,12]
["1974-01-10",403,null,7.3]
["1974-01-10",31501,null,240000]
["1974-01-10",31616,null,27000]
["1974-02-06",10,null,18]
["1974-02-06",11,null,64.400000000000006]
["1974-02-06",95,null,400]
["1974-02-06",300,null,5.6]
["1974-02-06",310,null,7]
["1974-02-06",403,null,7.3]
["1974-02-06",31501,null,240000]
["1974-02-06",31616,null,4000]
["1974-03-06",10,null,22]
["1974-03-06",11,null,71.599999999999994]
["1974-03-06",95,null,650]
["1974-03-06",300,null,3.3]
["1974-03-06",310,null,4]
["1974-03-06",403,null,7.5]
["1974-03-06",31501,null,27000]
["1974-03-06",31616,null,5000]
["1974-04-03",10,null,18.399999999999999]
["1974-04-03",11,null,65.099999999999994]
["1974-04-03",95,null,745]
["1974-04-03",300,null,3.7]
["1974-04-03",310,null,5]
["1974-04-03",403,null,7.9]
["1974-04-03",31501,null,21000]
["1974-04-03",31616,null,7000]
["1974-05-01",10,null,24]
["1974-05-01",11,null,75.2]
["1974-05-01",95,null,720]
["1974-05-01",300,null,4.3]
["1974-05-01",310,null,12]
["1974-05-01",403,null,7.6]
["1974-05-01",31501,null,49000]
["1974-05-01",31616,null,5000]
["1974-06-05",10,null,27.8]
["1974-06-05",11,null,82]
["1974-06-05",95,null,525]
["1974-06-05",300,null,3.2]
["1974-06-05",310,null,10]
["1974-06-05",400,null,7.3]
["1974-06-05",31501,null,33000]
["1974-06-05",31616,null,5000]
["1974-07-10",10,null,28.5]
["1974-07-10",11,null,83.3]
["1974-07-10",95,null,666]
["1974-07-10",300,null,3.8]
["1974-07-10",310,null,11]
["1974-07-10",403,null,7.8]
["1974-07-10",31501,null,17000]
["1974-07-10",31619,null,11000]
["1975-01-08",10,null,17]
["1975-01-08",11,null,62.6]
["1975-01-08",95,null,428]
["1975-01-08",300,null,6.5]
["1975-01-08",310,null,6]
["1975-01-08",403,null,7.3]
["1975-01-08",31501,null,2000]
["1975-01-08",31616,null,2000]
["1975-02-05",10,null,15.5]
["1975-02-05",11,null,59.9]
["1975-02-05",95,null,145]
["1975-02-05",300,null,8.3000000000000007]
["1975-02-05",310,null,8]
["1975-02-05",403,null,7.6]
["1975-02-05",31501,null,350000]
["1975-02-05",31616,null,33000]
["1975-03-05",10,null,16]
["1975-03-05",11,null,60.8]
["1975-03-05",95,null,556]
["1975-03-05",300,null,7.2]
["1975-03-05",310,null,12]
["1975-03-05",403,null,7.3]
["1975-03-05",31501,null,20]
["1975-03-05",31616,null,20]
["1975-04-02",10,null,19]
["1975-04-02",11,null,66.2]
["1975-04-02",95,null,660]
["1975-04-02",300,null,3.6]
["1975-04-02",310,null,19]
["1975-04-02",403,null,7.2]
["1975-04-02",31501,null,240000]
["1975-04-02",31616,null,5000]
["1975-05-07",10,null,35.5]
["1975-05-07",11,null,95.9]
["1975-05-07",95,null,506]
["1975-05-07",300,null,4.4000000000000004]
["1975-05-07",310,null,11]
["1975-05-07",403,null,7.2]
["1975-05-07",31501,null,7000]
["1975-05-07",31616,null,2000]
["1975-06-18",10,null,27.9]
["1975-06-18",11,null,82.2]
["1975-06-18",95,null,119]
["1975-06-18",300,null,5.5]
["1975-06-18",310,null,3]
["1975-06-18",403,null,6.7]
["1975-06-18",31501,null,2000]
["1975-06-18",31616,null,2000]
["1975-07-09",10,null,29.7]
["1975-07-09",11,null,85.5]
["1975-07-09",95,null,190]
["1975-07-09",300,null,5.5]
["1975-07-09",310,null,6]
["1975-07-09",403,null,7.1]
["1975-07-09",31501,null,17000]
["1975-07-09",31616,null,2000]
["1975-08-06",10,null,28]
["1975-08-06",11,null,82.4]
["1975-08-06",95,null,300]
["1975-08-06",300,null,4.9000000000000004]
["1975-08-06",310,null,4]
["1975-08-06",403,null,7]
["1975-08-06",31501,null,350000]
["1975-08-06",31616,null,79000]
["1976-06-09",630,null,0.32]
["1976-06-09",650,null,0.32600000000000001]
["1976-06-09",665,null,0.10653600000000001]
["1976-06-09",1027,"<",10]
["1976-06-09",1034,"<",100]
["1976-06-09",1042,"<",10]
["1976-06-09",1051,"<",100]
["1976-06-09",1055,"<",10]
["1976-06-09",1067,"<",100]
["1976-06-09",1092,"<",10]
["1976-06-09",61,null,740]
["1976-06-09",95,null,125]
["1976-06-09",300,null,6.5]
["1976-06-09",310,null,4]
["1976-06-09",340,"<",20]
["1976-06-09",403,null,7.3]
["1976-06-09",556,"<",1]
["1976-06-09",605,null,1.3]
["1976-06-09",610,null,0.4]
["1976-06-09",615,null,7.0000000000000007E-2]
["1976-06-09",620,null,0.25]
["1976-06-09",31501,null,1100]
["1976-06-09",31616,null,200]
["1976-07-07",630,null,0.38]
["1976-07-07",650,null,0.65]
["1976-07-07",665,null,0.212418]
["1976-07-07",1027,"<",10]
["1976-07-07",1034,"<",10]
["1976-07-07",1042,"<",10]
["1976-07-07",1051,"<",100]
["1976-07-07",1055,null,80]
["1976-07-07",1067,"<",100]
["1976-07-07",1092,null,40]
["1976-07-07",61,null,1.3]
["1976-07-07",95,null,445]
["1976-07-07",300,null,5.6]
["1976-07-07",310,null,3]
["1976-07-07",340,null,22]
["1976-07-07",403,null,7.4]
["1976-07-07",515,null,322]
["1976-07-07",530,null,90]
["1976-07-07",556,null,1.8]
["1976-07-07",605,null,0.8]
["1976-07-07",610,null,0.7]
["1976-07-07",615,null,0.21]
["1976-07-07",620,null,0.17]
["1976-07-07",31501,null,4900]
["1976-07-07",31616,null,500]
["1976-09-07",630,null,0.12]
["1976-09-07",650,null,2.4]
["1976-09-07",665,null,0.78431300000000004]
["1976-09-07",1002,null,2E-3]
["1976-09-07",1027,"<",0.01]
["1976-09-07",1034,"<",0.01]
["1976-09-07",1042,"<",0.01]
["1976-09-07",1051,"<",0.1]
["1976-09-07",1055,null,0.18]
["1976-09-07",1067,"<",0.1]
["1976-09-07",1092,null,0.11]
["1976-09-07",10,null,28]
["1976-09-07",11,null,82.4]
["1976-09-07",61,null,350]
["1976-09-07",95,null,230]
["1976-09-07",300,null,6.3]
["1976-09-07",310,null,2]
["1976-09-07",340,null,20]
["1976-09-07",403,null,7.2]
["1976-09-07",515,null,182]
["1976-09-07",530,null,146]
["1976-09-07",556,null,41]
["1976-09-07",605,null,0.9]
["1976-09-07",610,null,0.83]
["1976-09-07",615,null,0.12]
["1976-09-07",620,null,0]
["1976-09-07",31501,null,24000]
["1976-09-07",31616,null,2200]
["1976-10-05",630,null,1.06]
["1976-10-05",650,null,1.3]
["1976-10-05",665,null,0.42483599999999999]
["1976-10-05",1002,"<",10]
["1976-10-05",1027,"<",10]
["1976-10-05",1034,"<",10]
["1976-10-05",1042,"<",10]
["1976-10-05",1051,"<",100]
["1976-10-05",1055,"<",10]
["1976-10-05",1067,"<",10]
["1976-10-05",1092,"<",10]
["1976-10-05",10,null,24]
["1976-10-05",11,null,75.2]
["1976-10-05",61,null,80]
["1976-10-05",95,null,165]
["1976-10-05",300,null,6.8]
["1976-10-05",310,null,2]
["1976-10-05",340,null,20]
["1976-10-05",515,null,236]
["1976-10-05",530,null,140]
["1976-10-05",556,"<",10]
["1976-10-05",605,null,1.4]
["1976-10-05",610,"<",1]
["1976-10-05",615,null,0.05]
["1976-10-05",620,null,1.01]
["1976-10-05",31501,null,35000]
["1976-10-05",31616,null,1400]
["1976-11-02",1002,"<",10]
["1976-11-02",1027,"<",10]
["1976-11-02",1034,"<",10]
["1976-11-02",1042,"<",10]
["1976-11-02",1051,"<",100]
["1976-11-02",1055,null,50]
["1976-11-02",1067,"<",10]
["1976-11-02",1092,"<",10]
["1976-11-02",310,null,1]
["1976-11-02",340,"<",20]
["1976-11-02",515,null,210]
["1976-11-02",556,null,1.4]
["1976-11-02",605,null,1]
["1976-11-02",615,null,0.05]
["1977-01-04",630,null,0.5]
["1977-01-04",650,null,0.35]
["1977-01-04",665,null,0.11437899999999999]
["1977-01-04",1027,"<",10]
["1977-01-04",1034,"<",10]
["1977-01-04",1042,"<",10]
["1977-01-04",1051,"<",100]
["1977-01-04",1055,null,60]
["1977-01-04",1067,"<",10]
["1977-01-04",1092,"<",10]
["1977-01-04",10,null,8]
["1977-01-04",11,null,46.4]
["1977-01-04",61,null,185]
["1977-01-04",95,null,205]
["1977-01-04",300,null,11.3]
["1977-01-04",310,null,4]
["1977-01-04",340,"<",20]
["1977-01-04",403,null,7.2]
["1977-01-04",515,null,262]
["1977-01-04",530,null,96]
["1977-01-04",556,"<",1]
["1977-01-04",605,null,1.3]
["1977-01-04",610,"<",1]
["1977-01-04",615,null,0.08]
["1977-01-04",620,null,0.42]
["1977-01-04",31501,null,160000]
["1977-01-04",31616,null,7900]
["1977-02-01",630,null,0.86]
["1977-02-01",650,null,0.39]
["1977-02-01",665,null,0.12745100000000001]
["1977-02-01",1002,"<",10]
["1977-02-01",1027,"<",10]
["1977-02-01",1034,"<",10]
["1977-02-01",1042,"<",10]
["1977-02-01",1051,"<",100]
["1977-02-01",1055,null,50]
["1977-02-01",1067,"<",10]
["1977-02-01",1092,null,120]
["1977-02-01",10,null,9]
["1977-02-01",11,null,48.2]
["1977-02-01",95,null,255]
["1977-02-01",300,null,10.9]
["1977-02-01",310,null,9]
["1977-02-01",403,null,7]
["1977-02-01",515,null,222]
["1977-02-01",530,null,160]
["1977-02-01",556,"<",1]
["1977-02-01",605,null,3]
["1977-02-01",610,"<",0.5]
["1977-02-01",615,null,0.05]
["1977-02-01",620,null,0.81]
["1977-02-01",31501,null,240000]
["1977-02-01",31616,null,23000]
["1977-02-01",50060,null,0]
["1977-03-01",630,null,1.19]
["1977-03-01",650,null,0.55000000000000004]
["1977-03-01",665,null,0.17973800000000001]
["1977-03-01",1002,"<",10]
["1977-03-01",1027,"<",10]
["1977-03-01",1034,"<",100]
["1977-03-01",1042,"<",10]
["1977-03-01",1051,"<",100]
["1977-03-01",1055,null,110]
["1977-03-01",1067,"<",100]
["1977-03-01",1092,"<",10]
["1977-03-01",10,null,18]
["1977-03-01",11,null,64.400000000000006]
["1977-03-01",61,null,1.45]
["1977-03-01",95,null,695]
["1977-03-01",300,null,8.6999999999999993]
["1977-03-01",310,null,5]
["1977-03-01",340,null,20]
["1977-03-01",403,null,7.2]
["1977-03-01",515,null,436]
["1977-03-01",530,null,56]
["1977-03-01",556,"<",1]
["1977-03-01",605,null,0.8]
["1977-03-01",610,null,0.95]
["1977-03-01",615,null,0.16]
["1977-03-01",620,null,1.03]
["1977-03-01",31501,null,1700]
["1977-03-01",31616,null,500]
["1977-03-01",50060,null,0]
["1977-04-05",625,null,0.7]
["1977-04-05",630,null,2.94]
["1977-04-05",650,null,2.0099999999999998]
["1977-04-05",665,null,0.65686199999999995]
["1977-04-05",1002,"<",10]
["1977-04-05",1027,"<",10]
["1977-04-05",1034,"<",10]
["1977-04-05",1042,"<",10]
["1977-04-05",1051,"<",100]
["1977-04-05",1055,null,380]
["1977-04-05",1067,"<",10]
["1977-04-05",1092,null,120]
["1977-04-05",10,null,16]
["1977-04-05",11,null,60.8]
["1977-04-05",61,null,1.6]
["1977-04-05",95,null,495]
["1977-04-05",300,null,6.75]
["1977-04-05",310,null,5]
["1977-04-05",340,null,12]
["1977-04-05",403,null,7.4]
["1977-04-05",515,null,490]
["1977-04-05",530,null,1.87]
["1977-04-05",556,"<",1]
["1977-04-05",610,"<",0.5]
["1977-04-05",615,null,0.37]
["1977-04-05",620,null,2.57]
["1977-04-05",31501,null,4600]
["1977-04-05",31616,null,1700]
["1977-04-05",50060,null,0]
["1977-05-24",625,null,0.6]
["1977-05-24",630,null,1.63]
["1977-05-24",650,null,1.75]
["1977-05-24",1002,"<",10]
["1977-05-24",1027,"<",10]
["1977-05-24",1034,"<",10]
["1977-05-24",1042,null,10]
["1977-05-24",1051,"<",100]
["1977-05-24",1055,"<",10]
["1977-05-24",1067,"<",10]
["1977-05-24",1092,null,30]
["1977-05-24",10,null,26]
["1977-05-24",61,null,225]
["1977-05-24",95,null,240]
["1977-05-24",300,null,6.6]
["1977-05-24",310,null,8]
["1977-05-24",340,null,0]
["1977-05-24",403,null,6.8]
["1977-05-24",515,null,64]
["1977-05-24",530,null,490]
["1977-05-24",556,null,2.5]
["1977-05-24",610,null,0.5]
["1977-05-24",615,null,0.17]
["1977-05-24",620,null,1.46]
["1977-05-24",31501,null,54000]
["1977-05-24",31616,null,4900]
["1977-06-20",625,null,1.35]
["1977-06-20",630,null,1.56]
["1977-06-20",650,null,1.43]
["1977-06-20",1002,"<",10]
["1977-06-20",1027,"<",10]
["1977-06-20",1034,"<",10]
["1977-06-20",1042,null,130]
["1977-06-20",1051,"<",10]
["1977-06-20",1055,"<",10]
["1977-06-20",1067,null,50]
["1977-06-20",1092,null,80]
["1977-06-20",10,null,29]
["1977-06-20",61,null,100]
["1977-06-20",95,null,370]
["1977-06-20",300,null,6.3]
["1977-06-20",310,null,5]
["1977-06-20",340,null,14]
["1977-06-20",403,null,7.7]
["1977-06-20",515,null,267]
["1977-06-20",530,null,258]
["1977-06-20",556,"<",1]
["1977-06-20",610,"<",0.5]
["1977-06-20",615,null,0.04]
["1977-06-20",620,null,1.52]
["1977-06-20",31501,null,13000]
["1977-06-20",31616,null,1700]
["1977-06-20",50060,null,0.3]
["1977-07-12",625,null,0.8]
["1977-07-12",630,null,0.73]
["1977-07-12",650,"<",1.64]
["1977-07-12",1002,"<",10]
["1977-07-12",1027,"<",10]
["1977-07-12",1034,"<",10]
["1977-07-12",1042,"<",10]
["1977-07-12",1051,"<",100]
["1977-07-12",1055,null,70]
["1977-07-12",1067,"<",10]
["1977-07-12",1092,null,240]
["1977-07-12",10,null,31]
["1977-07-12",61,null,255]
["1977-07-12",95,null,520]
["1977-07-12",300,null,6]
["1977-07-12",310,null,6]
["1977-07-12",340,null,11]
["1977-07-12",403,null,7.6]
["1977-07-12",515,null,622]
["1977-07-12",530,null,101]
["1977-07-12",556,null,2.5]
["1977-07-12",610,null,2.19]
["1977-07-12",615,null,0.25]
["1977-07-12",620,null,0.48]
["1977-07-12",31501,null,7900]
["1977-07-12",31616,null,700]
["1977-07-12",50060,null,0.4]
["1977-08-23",625,null,0.7]
["1977-08-23",630,null,2.92]
["1977-08-23",650,null,1.58]
["1977-08-23",1002,null,20]
["1977-08-23",1027,"<",10]
["1977-08-23",1034,"<",10]
["1977-08-23",1042,"<",10]
["1977-08-23",1051,"<",100]
["1977-08-23",1055,null,160]
["1977-08-23",1067,"<",10]
["1977-08-23",1092,"<",10]
["1977-08-23",10,null,31]
["1977-08-23",95,null,450]
["1977-08-23",300,null,0.9]
["1977-08-23",310,null,4]
["1977-08-23",340,null,4]
["1977-08-23",403,null,6.8]
["1977-08-23",515,null,372]
["1977-08-23",530,null,17]
["1977-08-23",556,"<",1]
["1977-08-23",610,null,2.64]
["1977-08-23",615,null,2.12]
["1977-08-23",620,null,0.8]
["1977-08-23",31501,">",240000]
["1977-08-23",31616,">",240000]
["1977-08-23",50060,null,0.02]
["1977-09-20",625,null,0.8]
["1977-09-20",630,null,0.91]
["1977-09-20",650,null,0.2]
["1977-09-20",1002,"<",10]
["1977-09-20",1027,"<",10]
["1977-09-20",1034,"<",10]
["1977-09-20",1042,"<",10]
["1977-09-20",1051,"<",100]
["1977-09-20",1055,null,150]
["1977-09-20",1067,"<",10]
["1977-09-20",1092,null,170]
["1977-09-20",10,null,25]
["1977-09-20",61,null,2500]
["1977-09-20",95,null,100]
["1977-09-20",300,null,4]
["1977-09-20",310,null,5]
["1977-09-20",340,null,0]
["1977-09-20",403,null,7]
["1977-09-20",515,null,548]
["1977-09-20",530,null,621]
["1977-09-20",556,null,2]
["1977-09-20",610,"<",0.5]
["1977-09-20",615,null,0.32]
["1977-09-20",620,null,0.59]
["1977-09-20",31501,null,240000]
["1977-09-20",31616,null,160000]
["1977-09-20",50060,null,0]
["1977-10-10",625,null,1.2]
["1977-10-10",630,null,1.67]
["1977-10-10",650,null,2]
["1977-10-10",1002,"<",10]
["1977-10-10",1027,"<",10]
["1977-10-10",1034,"<",10]
["1977-10-10",1042,"<",10]
["1977-10-10",1051,"<",100]
["1977-10-10",1055,null,20]
["1977-10-10",1067,"<",10]
["1977-10-10",1092,"<",10]
["1977-10-10",10,null,24]
["1977-10-10",61,null,150]
["1977-10-10",95,null,485]
["1977-10-10",300,null,2.85]
["1977-10-10",310,null,6]
["1977-10-10",340,null,47]
["1977-10-10",403,null,7.2]
["1977-10-10",515,null,354]
["1977-10-10",530,null,28]
["1977-10-10",556,"<",1]
["1977-10-10",610,null,1.4]
["1977-10-10",615,null,0.66]
["1977-10-10",620,null,1.01]
["1977-10-10",31501,null,160000]
["1977-10-10",31616,null,22000]
["1977-10-10",50060,null,0.3]
["1977-11-14",625,null,2.5]
["1977-11-14",630,null,1.87]
["1977-11-14",650,null,1.43]
["1977-11-14",1002,"<",10]
["1977-11-14",1027,"<",10]
["1977-11-14",1034,"<",10]
["1977-11-14",1042,"<",10]
["1977-11-14",1051,"<",100]
["1977-11-14",1055,"<",10]
["1977-11-14",1067,"<",10]
["1977-11-14",1092,null,60]
["1977-11-14",10,null,17.5]
["1977-11-14",61,null,160]
["1977-11-14",95,null,420]
["1977-11-14",300,null,8.1999999999999993]
["1977-11-14",310,null,5]
["1977-11-14",340,null,24]
["1977-11-14",403,null,7.3]
["1977-11-14",515,null,218]
["1977-11-14",530,null,168]
["1977-11-14",556,null,2]
["1977-11-14",610,"<",0.5]
["1977-11-14",615,null,0.18]
["1977-11-14",620,null,1.69]
["1977-11-14",31501,null,17000]
["1977-11-14",31616,null,7900]
["1977-11-14",50060,null,0.4]
["1979-02-20",625,null,5.7]
["1979-02-20",630,null,4.82]
["1979-02-20",650,null,1.07]
["1979-02-20",665,null,0.34967300000000001]
["1979-02-20",680,null,70]
["1979-02-20",940,null,25]
["1979-02-20",1002,"<",10]
["1979-02-20",1027,"<",10]
["1979-02-20",1034,"<",10]
["1979-02-20",1042,"<",10]
["1979-02-20",1051,"<",100]
["1979-02-20",1055,"<",10]
["1979-02-20",1067,"<",10]
["1979-02-20",1092,null,80]
["1979-02-20",10,null,9]
["1979-02-20",11,null,48.2]
["1979-02-20",65,null,47.06]
["1979-02-20",95,null,195]
["1979-02-20",300,null,10.199999999999999]
["1979-02-20",310,null,195]
["1979-02-20",403,null,6.6]
["1979-02-20",515,null,158]
["1979-02-20",530,null,85]
["1979-02-20",556,"<",1]
["1979-02-20",610,"<",2.5]
["1979-02-20",615,null,0.06]
["1979-02-20",620,null,4.76]
["1979-02-20",31501,null,31000]
["1979-02-20",31616,null,13000]
["1979-03-06",625,null,4.7]
["1979-03-06",630,null,2.93]
["1979-03-06",650,null,3.28]
["1979-03-06",665,null,1.07189]
["1979-03-06",680,null,25]
["1979-03-06",940,null,75]
["1979-03-06",1002,"<",10]
["1979-03-06",1027,"<",10]
["1979-03-06",1034,"<",10]
["1979-03-06",1042,"<",10]
["1979-03-06",1051,"<",100]
["1979-03-06",1055,null,90]
["1979-03-06",1067,"<",10]
["1979-03-06",1092,null,30]
["1979-03-06",10,null,13]
["1979-03-06",11,null,55.4]
["1979-03-06",65,null,41.71]
["1979-03-06",95,null,560]
["1979-03-06",300,null,8.4]
["1979-03-06",310,null,5]
["1979-03-06",403,null,7.6]
["1979-03-06",515,null,342]
["1979-03-06",530,null,97]
["1979-03-06",556,"<",1]
["1979-03-06",610,"<",2.5]
["1979-03-06",615,null,0.3]
["1979-03-06",620,null,2.63]
["1979-03-06",31501,"<",200]
["1979-03-06",31616,"<",200]
["1979-04-10",625,null,1.6]
["1979-04-10",630,null,1.3]
["1979-04-10",650,null,1.37]
["1979-04-10",665,null,0.447712]
["1979-04-10",680,null,20]
["1979-04-10",940,null,20]
["1979-04-10",1002,"<",10]
["1979-04-10",1027,"<",10]
["1979-04-10",1034,"<",100]
["1979-04-10",1042,"<",10]
["1979-04-10",1051,"<",100]
["1979-04-10",1055,"<",10]
["1979-04-10",1067,"<",10]
["1979-04-10",1092,"<",10]
["1979-04-10",10,null,18]
["1979-04-10",11,null,64.400000000000006]
["1979-04-10",65,null,38.6]
["1979-04-10",95,null,250]
["1979-04-10",300,null,7.9]
["1979-04-10",310,null,5]
["1979-04-10",403,null,6.5]
["1979-04-10",515,null,285]
["1979-04-10",530,null,100]
["1979-04-10",556,null,2]
["1979-04-10",610,"<",1]
["1979-04-10",615,null,0.03]
["1979-04-10",620,null,1.27]
["1979-04-10",31501,null,13000]
["1979-04-10",31616,"<",200]
["1979-05-01",630,null,1.87]
["1979-05-01",650,null,1.47]
["1979-05-01",665,null,0.48039199999999999]
["1979-05-01",680,null,30]
["1979-05-01",940,null,22]
["1979-05-01",1002,"<",10]
["1979-05-01",1027,"<",10]
["1979-05-01",1034,"<",10]
["1979-05-01",1042,"<",10]
["1979-05-01",1051,"<",100]
["1979-05-01",1055,null,30]
["1979-05-01",1067,"<",10]
["1979-05-01",1092,null,100]
["1979-05-01",10,null,19]
["1979-05-01",11,null,66.2]
["1979-05-01",65,null,46.75]
["1979-05-01",95,null,205]
["1979-05-01",300,null,7.5]
["1979-05-01",310,null,7]
["1979-05-01",403,null,7.4]
["1979-05-01",515,null,204]
["1979-05-01",530,null,103]
["1979-05-01",556,"<",1]
["1979-05-01",605,null,0.7]
["1979-05-01",610,"<",1]
["1979-05-01",615,null,0.16]
["1979-05-01",620,null,1.71]
["1979-05-01",31501,null,35000]
["1979-05-01",31616,null,4900]
["1979-06-05",625,null,3.2]
["1979-06-05",630,null,1.1599999999999999]
["1979-06-05",650,null,1.3]
["1979-06-05",665,null,0.42483599999999999]
["1979-06-05",680,null,15]
["1979-06-05",940,null,25]
["1979-06-05",1002,"<",10]
["1979-06-05",1027,"<",10]
["1979-06-05",1034,"<",100]
["1979-06-05",1042,"<",10]
["1979-06-05",1051,"<",100]
["1979-06-05",1055,"<",10]
["1979-06-05",1067,"<",10]
["1979-06-05",1092,"<",10]
["1979-06-05",10,null,23]
["1979-06-05",11,null,73.400000000000006]
["1979-06-05",65,null,45.38]
["1979-06-05",95,null,225]
["1979-06-05",300,null,6.2]
["1979-06-05",310,null,3]
["1979-06-05",403,null,6.4]
["1979-06-05",515,null,108]
["1979-06-05",530,null,568]
["1979-06-05",556,"<",1]
["1979-06-05",610,"<",1]
["1979-06-05",615,null,0.16]
["1979-06-05",620,null,1]
["1979-06-05",31501,null,110000]
["1979-06-05",31616,null,7000]
["1979-07-03",625,null,10.7]
["1979-07-03",630,null,1.97]
["1979-07-03",650,null,4.72]
["1979-07-03",665,null,1.5424800000000001]
["1979-07-03",680,null,40]
["1979-07-03",940,null,82]
["1979-07-03",1027,"<",10]
["1979-07-03",1034,"<",100]
["1979-07-03",1042,"<",10]
["1979-07-03",1051,"<",100]
["1979-07-03",1055,"<",10]
["1979-07-03",1067,"<",100]
["1979-07-03",1092,null,490]
["1979-07-03",10,null,26]
["1979-07-03",11,null,78.8]
["1979-07-03",65,null,41.39]
["1979-07-03",95,null,845]
["1979-07-03",300,null,6.5]
["1979-07-03",310,null,53]
["1979-07-03",403,null,7.2]
["1979-07-03",515,null,493]
["1979-07-03",530,null,24]
["1979-07-03",556,"<",1]
["1979-07-03",610,null,6.18]
["1979-07-03",615,null,0.44]
["1979-07-03",620,null,1.53]
["1979-07-03",31501,null,500]
["1979-07-03",31616,"<",200]
["1979-08-07",625,null,2.5]
["1979-08-07",630,null,1.93]
["1979-08-07",650,null,2.5299999999999998]
["1979-08-07",665,null,0.82679599999999998]
["1979-08-07",680,null,16]
["1979-08-07",940,null,45]
["1979-08-07",1002,"<",10]
["1979-08-07",1027,"<",10]
["1979-08-07",1034,"<",10]
["1979-08-07",1042,"<",10]
["1979-08-07",1051,"<",10]
["1979-08-07",1055,null,120]
["1979-08-07",1067,"<",10]
["1979-08-07",1092,"<",10]
["1979-08-07",10,null,24]
["1979-08-07",11,null,75.2]
["1979-08-07",65,null,42.82]
["1979-08-07",95,null,390]
["1979-08-07",300,null,7]
["1979-08-07",310,null,8]
["1979-08-07",403,null,7.4]
["1979-08-07",515,null,224]
["1979-08-07",530,null,316]
["1979-08-07",556,"<",1]
["1979-08-07",610,"<",1]
["1979-08-07",615,null,0.48]
["1979-08-07",620,null,1.45]
["1979-08-07",31501,null,1700]
["1979-08-07",31616,null,200]
["1979-09-04",625,null,3.6]
["1979-09-04",630,null,1.4]
["1979-09-04",650,null,1.49]
["1979-09-04",665,null,0.48692800000000003]
["1979-09-04",680,null,20]
["1979-09-04",940,null,70]
["1979-09-04",1002,"<",10]
["1979-09-04",1027,"<",10]
["1979-09-04",1034,"<",10]
["1979-09-04",1042,"<",10]
["1979-09-04",1051,"<",100]
["1979-09-04",1055,"<",10]
["1979-09-04",1067,"<",10]
["1979-09-04",1092,null,50]
["1979-09-04",10,null,25]
["1979-09-04",11,null,77]
["1979-09-04",65,null,42.21]
["1979-09-04",95,null,405]
["1979-09-04",300,null,7.3]
["1979-09-04",310,null,5]
["1979-09-04",403,null,7.5]
["1979-09-04",515,null,381]
["1979-09-04",530,null,90]
["1979-09-04",556,null,3]
["1979-09-04",610,null,3.4]
["1979-09-04",615,null,0.63]
["1979-09-04",620,null,0.77]
["1979-09-04",31501,null,500]
["1979-09-04",31616,"<",200]
["1979-10-23",625,null,2.2999999999999998]
["1979-10-23",630,null,1.39]
["1979-10-23",650,null,2.86]
["1979-10-23",665,null,0.934639]
["1979-10-23",680,null,40]
["1979-10-23",940,null,74]
["1979-10-23",1002,null,10]
["1979-10-23",1027,"<",10]
["1979-10-23",1034,"<",10]
["1979-10-23",1042,"<",10]
["1979-10-23",1051,"<",100]
["1979-10-23",1055,null,150]
["1979-10-23",1067,"<",10]
["1979-10-23",1092,null,70]
["1979-10-23",10,null,18]
["1979-10-23",11,null,64.400000000000006]
["1979-10-23",65,null,42.19]
["1979-10-23",95,null,700]
["1979-10-23",300,null,7.2]
["1979-10-23",310,null,30]
["1979-10-23",403,null,7.7]
["1979-10-23",515,null,366]
["1979-10-23",530,null,52]
["1979-10-23",556,"<",1]
["1979-10-23",610,null,3.35]
["1979-10-23",615,null,0.43]
["1979-10-23",620,null,0.96]
["1979-10-23",31501,null,17000]
["1979-10-23",31616,null,3300]
["1979-11-06",625,null,4.5999999999999996]
["1979-11-06",630,null,0.69]
["1979-11-06",650,null,1.1499999999999999]
["1979-11-06",665,null,0.37581700000000001]
["1979-11-06",680,null,10]
["1979-11-06",940,null,25]
["1979-11-06",1002,"<",10]
["1979-11-06",1027,"<",10]
["1979-11-06",1034,"<",10]
["1979-11-06",1042,"<",10]
["1979-11-06",1051,"<",100]
["1979-11-06",1055,null,50]
["1979-11-06",1067,"<",10]
["1979-11-06",1092,null,70]
["1979-11-06",10,null,14]
["1979-11-06",11,null,57.2]
["1979-11-06",65,null,45.46]
["1979-11-06",95,null,250]
["1979-11-06",300,null,9.8000000000000007]
["1979-11-06",310,null,2]
["1979-11-06",403,null,6.8]
["1979-11-06",515,null,161]
["1979-11-06",530,null,95]
["1979-11-06",556,null,2]
["1979-11-06",610,"<",1]
["1979-11-06",615,null,0.15]
["1979-11-06",620,null,0.54]
["1979-11-06",31501,null,24000]
["1979-11-06",31616,null,800]
["1979-12-04",625,null,5.4]
["1979-12-04",630,null,1.29]
["1979-12-04",650,null,2.39]
["1979-12-04",665,null,0.78104499999999999]
["1979-12-04",680,null,10]
["1979-12-04",940,null,60]
["1979-12-04",1002,"<",10]
["1979-12-04",1027,"<",10]
["1979-12-04",1034,"<",10]
["1979-12-04",1042,"<",10]
["1979-12-04",1051,"<",100]
["1979-12-04",1055,null,100]
["1979-12-04",1067,"<",10]
["1979-12-04",1092,null,76]
["1979-12-04",10,null,11]
["1979-12-04",11,null,51.8]
["1979-12-04",65,null,41.8]
["1979-12-04",95,null,488]
["1979-12-04",300,null,15.4]
["1979-12-04",310,null,17]
["1979-12-04",403,null,7]
["1979-12-04",515,null,332]
["1979-12-04",530,null,96]
["1979-12-04",556,"<",1]
["1979-12-04",610,null,2.86]
["1979-12-04",615,null,0.02]
["1979-12-04",620,null,1.27]
["1979-12-04",31501,"<",200]
["1979-12-04",31616,"<",200]
["1980-01-08",625,null,6.1]
["1980-01-08",630,null,0.88]
["1980-01-08",650,null,3.82]
["1980-01-08",665,null,1.2483599999999999]
["1980-01-08",680,null,10]
["1980-01-08",940,null,42]
["1980-01-08",1002,"<",10]
["1980-01-08",1027,"<",10]
["1980-01-08",1034,"<",10]
["1980-01-08",1042,"<",10]
["1980-01-08",1051,"<",100]
["1980-01-08",1055,null,50]
["1980-01-08",1067,"<",10]
["1980-01-08",1092,null,50]
["1980-01-08",65,null,42.25]
["1980-01-08",95,null,420]
["1980-01-08",310,null,7]
["1980-01-08",403,null,6.4]
["1980-01-08",515,null,315]
["1980-01-08",530,null,137]
["1980-01-08",556,"<",1]
["1980-01-08",610,null,4.67]
["1980-01-08",615,null,0.22]
["1980-01-08",620,null,0.66]
["1980-01-08",31501,null,500]
["1980-01-08",31616,"<",200]
["1980-02-12",625,null,1.8]
["1980-02-12",630,null,0.6]
["1980-02-12",650,null,0.41]
["1980-02-12",665,null,47.7]
["1980-02-12",680,null,5]
["1980-02-12",940,null,15]
["1980-02-12",1002,"<",10]
["1980-02-12",1027,"<",10]
["1980-02-12",1034,"<",10]
["1980-02-12",1042,"<",10]
["1980-02-12",1051,"<",100]
["1980-02-12",1055,"<",10]
["1980-02-12",1067,"<",10]
["1980-02-12",1092,null,30]
["1980-02-12",10,null,1]
["1980-02-12",11,null,33.799999999999997]
["1980-02-12",95,null,120]
["1980-02-12",300,null,14.8]
["1980-02-12",310,null,1]
["1980-02-12",403,null,7.6]
["1980-02-12",515,null,326]
["1980-02-12",530,null,114]
["1980-02-12",556,null,2.5]
["1980-02-12",610,"<",0.01]
["1980-02-12",615,null,0.03]
["1980-02-12",620,null,0.56999999999999995]
["1980-02-12",31501,null,35000]
["1980-02-12",31616,null,13000]
["1980-04-01",625,null,2.5299999999999998]
["1980-04-01",630,null,1.49]
["1980-04-01",650,"<",1]
["1980-04-01",665,"<",0.326797]
["1980-04-01",680,null,10]
["1980-04-01",940,null,12]
["1980-04-01",1002,"<",10]
["1980-04-01",1027,"<",10]
["1980-04-01",1034,"<",10]
["1980-04-01",1042,"<",10]
["1980-04-01",1051,"<",100]
["1980-04-01",1055,null,30]
["1980-04-01",1067,"<",10]
["1980-04-01",1092,"<",10]
["1980-04-01",10,null,20]
["1980-04-01",11,null,68]
["1980-04-01",65,null,47.2]
["1980-04-01",95,null,135]
["1980-04-01",300,null,7.9]
["1980-04-01",310,null,3]
["1980-04-01",403,null,7.2]
["1980-04-01",515,null,284]
["1980-04-01",530,null,105]
["1980-04-01",556,"<",1]
["1980-04-01",610,null,2.04]
["1980-04-01",615,null,0.09]
["1980-04-01",620,null,1.4]
["1980-04-01",31501,null,3300]
["1980-04-01",31616,null,700]
["1980-05-06",625,null,7.51]
["1980-05-06",630,null,2.29]
["1980-05-06",650,null,2.67]
["1980-05-06",665,null,0.87254799999999999]
["1980-05-06",680,null,30]
["1980-05-06",940,null,75]
["1980-05-06",1002,"<",10]
["1980-05-06",1027,"<",10]
["1980-05-06",1034,"<",10]
["1980-05-06",1042,"<",10]
["1980-05-06",1051,"<",100]
["1980-05-06",1055,null,140]
["1980-05-06",1067,"<",10]
["1980-05-06",1092,null,100]
["1980-05-06",10,null,28]
["1980-05-06",11,null,82.4]
["1980-05-06",65,null,41.75]
["1980-05-06",95,null,900]
["1980-05-06",300,null,5.6]
["1980-05-06",310,null,10]
["1980-05-06",403,null,6.8]
["1980-05-06",515,null,448]
["1980-05-06",530,null,26]
["1980-05-06",556,"<",1]
["1980-05-06",610,null,4.97]
["1980-05-06",615,null,0.6]
["1980-05-06",620,null,1.69]
["1980-05-06",31501,"<",200]
["1980-05-06",31616,"<",200]
["1980-06-03",625,null,7.99]
["1980-06-03",630,null,5.79]
["1980-06-03",650,null,3.22]
["1980-06-03",665,null,1.0522899999999999]
["1980-06-03",680,null,10]
["1980-06-03",940,null,68]
["1980-06-03",1002,"<",50]
["1980-06-03",1027,"<",10]
["1980-06-03",1034,"<",10]
["1980-06-03",1042,"<",10]
["1980-06-03",1051,"<",100]
["1980-06-03",1055,"<",10]
["1980-06-03",1067,"<",10]
["1980-06-03",1092,"<",10]
["1980-06-03",10,null,28]
["1980-06-03",11,null,82.4]
["1980-06-03",65,null,41.74]
["1980-06-03",95,null,692]
["1980-06-03",300,null,5.0999999999999996]
["1980-06-03",310,null,17]
["1980-06-03",403,null,7]
["1980-06-03",515,null,472]
["1980-06-03",530,null,35]
["1980-06-03",556,"<",1]
["1980-06-03",610,null,5.73]
["1980-06-03",615,null,4.71]
["1980-06-03",620,null,1.08]
["1980-06-03",31501,null,4900]
["1980-06-03",31616,null,1400]
["1980-07-15",625,null,11.99]
["1980-07-15",630,null,1.43]
["1980-07-15",650,null,4.6900000000000004]
["1980-07-15",665,null,1.53268]
["1980-07-15",680,null,20]
["1980-07-15",940,null,92]
["1980-07-15",1002,null,30]
["1980-07-15",1027,"<",10]
["1980-07-15",1034,"<",10]
["1980-07-15",1042,"<",10]
["1980-07-15",1051,"<",100]
["1980-07-15",1055,null,60]
["1980-07-15",1067,"<",10]
["1980-07-15",1092,null,160]
["1980-07-15",10,null,29]
["1980-07-15",11,null,84.2]
["1980-07-15",65,null,41.48]
["1980-07-15",95,null,765]
["1980-07-15",300,null,4.3]
["1980-07-15",310,null,0]
["1980-07-15",403,null,7.5]
["1980-07-15",515,null,437]
["1980-07-15",530,null,30]
["1980-07-15",556,"<",1]
["1980-07-15",610,null,6.99]
["1980-07-15",615,null,0.37]
["1980-07-15",620,null,1.06]
["1980-07-15",31501,"<",200]
["1980-07-15",31616,"<",200]
["1980-08-05",625,null,2.5099999999999998]
["1980-08-05",650,null,2.21]
["1980-08-05",665,null,0.722221]
["1980-08-05",680,null,10]
["1980-08-05",940,null,85]
["1980-08-05",1002,null,100]
["1980-08-05",1027,"<",10]
["1980-08-05",1034,"<",10]
["1980-08-05",1042,"<",10]
["1980-08-05",1051,"<",100]
["1980-08-05",1055,"<",10]
["1980-08-05",1067,"<",10]
["1980-08-05",1092,"<",10]
["1980-08-05",10,null,29]
["1980-08-05",11,null,84.2]
["1980-08-05",65,null,41.91]
["1980-08-05",95,null,665]
["1980-08-05",300,null,5.0999999999999996]
["1980-08-05",310,null,1]
["1980-08-05",403,null,7]
["1980-08-05",515,null,1015]
["1980-08-05",530,null,31]
["1980-08-05",556,null,4.5]
["1980-08-05",610,null,3.17]
["1980-08-05",31501,null,24000]
["1980-08-05",31616,null,1700]
["1981-05-11",625,null,2.08]
["1981-05-11",625,null,1.95]
["1981-05-11",650,null,7.35]
["1981-05-11",650,null,5.73]
["1981-05-11",665,null,2.4019599999999999]
["1981-05-11",665,null,1.8725499999999999]
["1981-05-11",680,null,10]
["1981-05-11",680,null,10]
["1981-05-11",940,null,42]
["1981-05-11",940,null,32]
["1981-05-11",10,null,22]
["1981-05-11",10,null,18]
["1981-05-11",11,null,71.599999999999994]
["1981-05-11",11,null,64.400000000000006]
["1981-05-11",65,null,41.3]
["1981-05-11",65,null,50.03]
["1981-05-11",95,null,480]
["1981-05-11",95,null,260]
["1981-05-11",300,null,7.55]
["1981-05-11",300,null,7.7]
["1981-05-11",403,null,7.1]
["1981-05-11",403,null,6.9]
["1981-05-11",530,null,28]
["1981-05-11",530,null,75]
["1981-05-11",31501,null,54000]
["1981-05-11",31501,null,92000]
["1981-05-11",31616,null,24000]
["1981-05-11",31616,null,3300]
["1981-05-19",625,null,1.69]
["1981-05-19",625,null,1.82]
["1981-05-19",650,null,7.35]
["1981-05-19",650,null,7.02]
["1981-05-19",665,null,2.4019599999999999]
["1981-05-19",665,null,2.2941099999999999]
["1981-05-19",680,null,10]
["1981-05-19",680,null,10]
["1981-05-19",940,null,38]
["1981-05-19",940,null,12]
["1981-05-19",1002,null,10]
["1981-05-19",1002,null,10]
["1981-05-19",1027,"<",10]
["1981-05-19",1027,"<",10]
["1981-05-19",1034,"<",10]
["1981-05-19",1034,"<",10]
["1981-05-19",1042,"<",10]
["1981-05-19",1042,"<",10]
["1981-05-19",1051,"<",10]
["1981-05-19",1051,"<",10]
["1981-05-19",1055,null,10]
["1981-05-19",1055,null,90]
["1981-05-19",1067,"<",10]
["1981-05-19",1067,"<",10]
["1981-05-19",1092,"<",10]
["1981-05-19",1092,"<",10]
["1981-05-19",10,null,24]
["1981-05-19",10,null,23.5]
["1981-05-19",11,null,75.2]
["1981-05-19",11,null,74.3]
["1981-05-19",65,null,43.85]
["1981-05-19",65,null,52.66]
["1981-05-19",95,null,237]
["1981-05-19",95,null,176]
["1981-05-19",300,null,7.15]
["1981-05-19",300,null,8]
["1981-05-19",310,null,18]
["1981-05-19",310,null,15]
["1981-05-19",403,null,7.2]
["1981-05-19",403,null,7.2]
["1981-05-19",530,null,35]
["1981-05-19",530,null,41]
["1981-05-19",556,"<",1]
["1981-05-19",556,"<",1]
["1981-05-26",625,null,3.27]
["1981-05-26",625,null,1.57]
["1981-05-26",650,null,14.1]
["1981-05-26",650,null,9.81]
["1981-05-26",665,null,4.6078400000000004]
["1981-05-26",665,null,3.2058800000000001]
["1981-05-26",680,null,10]
["1981-05-26",680,null,10]
["1981-05-26",10,null,24.6]
["1981-05-26",10,null,23.2]
["1981-05-26",11,null,76.28]
["1981-05-26",11,null,73.760000000000005]
["1981-05-26",65,null,41.43]
["1981-05-26",65,null,50.03]
["1981-05-26",95,null,630]
["1981-05-26",95,null,515]
["1981-05-26",300,null,6.4]
["1981-05-26",300,null,6.8]
["1981-05-26",403,null,7.65]
["1981-05-26",403,null,7.55]
["1981-05-26",530,null,34]
["1981-05-26",530,null,115]
["1981-05-26",31501,null,35000]
["1981-05-26",31501,null,21200]
["1981-05-26",31616,null,4900]
["1981-05-26",31616,null,1300]
["1981-09-14",630,null,1.71]
["1981-09-14",650,null,1.5]
["1981-09-14",665,null,0.49019600000000002]
["1981-09-14",680,"<",5]
["1981-09-14",940,null,13]
["1981-09-14",10,null,29.5]
["1981-09-14",11,null,85.1]
["1981-09-14",65,null,90.11]
["1981-09-14",95,null,91]
["1981-09-14",300,null,2.9]
["1981-09-14",403,null,7]
["1981-09-14",610,null,0.04]
["1981-09-14",615,null,0.04]
["1981-09-14",620,null,1.67]
["1981-09-14",31501,null,1700]
["1981-09-14",31616,"<",200]
["1981-09-29",625,null,1.86]
["1981-09-29",630,null,0.51]
["1981-09-29",650,null,1.8]
["1981-09-29",665,null,0.58823499999999995]
["1981-09-29",680,null,12]
["1981-09-29",940,null,25]
["1981-09-29",1002,null,10]
["1981-09-29",1027,"<",10]
["1981-09-29",1034,"<",10]
["1981-09-29",1042,"<",10]
["1981-09-29",1051,"<",10]
["1981-09-29",1055,null,120]
["1981-09-29",1067,"<",10]
["1981-09-29",1092,"<",10]
["1981-09-29",10,null,29]
["1981-09-29",11,null,84.2]
["1981-09-29",65,null,79.400000000000006]
["1981-09-29",95,null,250]
["1981-09-29",300,null,5.9]
["1981-09-29",310,null,42]
["1981-09-29",403,null,7.3]
["1981-09-29",530,null,68]
["1981-09-29",556,"<",1]
["1981-09-29",610,null,0.01]
["1981-09-29",615,null,0]
["1981-09-29",620,null,0.51]
["1981-09-29",31501,null,2200]
["1981-09-29",31616,null,400]
["1981-10-05",630,null,0.55000000000000004]
["1981-10-05",650,null,4.62]
["1981-10-05",665,null,1.5098]
["1981-10-05",680,null,6]
["1981-10-05",940,null,32]
["1981-10-05",10,null,26.4]
["1981-10-05",11,null,79.52]
["1981-10-05",65,null,74.55]
["1981-10-05",95,null,310]
["1981-10-05",300,null,7.7]
["1981-10-05",403,null,7]
["1981-10-05",530,null,126]
["1981-10-05",610,null,0.02]
["1981-10-05",615,null,0.01]
["1981-10-05",620,null,0.54]
["1981-10-05",31501,null,22000]
["1981-10-05",31616,null,2100]
["1981-11-09",625,"<",0]
["1981-11-09",631,null,0.74]
["1981-11-09",660,null,1.7]
["1981-11-09",665,null,0.59]
["1981-11-09",666,null,0.47]
["1981-11-09",671,null,0.56999999999999995]
["1981-11-09",900,null,73]
["1981-11-09",915,null,23]
["1981-11-09",925,null,3.7]
["1981-11-09",930,null,27]
["1981-11-09",931,null,1.4]
["1981-11-09",935,null,5.5]
["1981-11-09",940,null,32]
["1981-11-09",945,null,15]
["1981-11-09",950,null,0.3]
["1981-11-09",955,null,11]
["1981-11-09",1000,null,4]
["1981-11-09",1002,null,4]
["1981-11-09",1005,null,100]
["1981-11-09",1007,null,200]
["1981-11-09",1027,null,1]
["1981-11-09",1030,"<",10]
["1981-11-09",1034,null,10]
["1981-11-09",1035,"<",3]
["1981-11-09",1037,null,2]
["1981-11-09",1042,null,60]
["1981-11-09",1045,null,3900]
["1981-11-09",1046,null,200]
["1981-11-09",1051,null,17]
["1981-11-09",1055,null,130]
["1981-11-09",1056,null,19]
["1981-11-09",1065,null,2]
["1981-11-09",1067,null,5]
["1981-11-09",1077,"<",1]
["1981-11-09",1090,null,9]
["1981-11-09",1092,null,50]
["1981-11-09",1145,"<",1]
["1981-11-09",1147,"<",1]
["1981-11-09",10,null,18.5]
["1981-11-09",61,null,272]
["1981-11-09",76,null,160]
["1981-11-09",94,null,288]
["1981-11-09",300,null,7.7]
["1981-11-09",301,null,81]
["1981-11-09",310,null,4.4000000000000004]
["1981-11-09",400,null,7.3]
["1981-11-09",410,null,77]
["1981-11-09",608,null,0.56999999999999995]
["1981-11-09",31625,null,46]
["1981-11-09",31673,null,260]
["1981-11-09",70300,null,177]
["1981-11-09",70301,null,164]
["1981-11-09",70331,null,98]
["1981-11-09",80154,null,260]
["1981-11-09",80155,null,191]
["1982-01-06",625,null,8.4]
["1982-01-06",631,null,1.7]
["1982-01-06",660,null,12]
["1982-01-06",665,null,4]
["1982-01-06",666,null,3.6]
["1982-01-06",671,null,3.8]
["1982-01-06",900,null,150]
["1982-01-06",915,null,47]
["1982-01-06",925,null,8.9]
["1982-01-06",930,null,100]
["1982-01-06",931,null,3.7]
["1982-01-06",935,null,8.1]
["1982-01-06",940,null,87]
["1982-01-06",945,null,27]
["1982-01-06",950,null,0.4]
["1982-01-06",955,null,20]
["1982-01-06",10,null,19]
["1982-01-06",61,null,53]
["1982-01-06",76,null,6.7]
["1982-01-06",94,null,780]
["1982-01-06",300,null,6.2]
["1982-01-06",301,null,67]
["1982-01-06",310,null,7.4]
["1982-01-06",400,null,7.5]
["1982-01-06",410,null,240]
["1982-01-06",608,null,8.8000000000000007]
["1982-01-06",31625,null,30]
["1982-01-06",70300,null,437]
["1982-01-06",70301,null,442]
["1982-01-06",70331,null,95]
["1982-01-06",80154,null,11]
["1982-01-06",80155,null,1.6]
["1982-01-18",625,null,3.5]
["1982-01-18",625,null,9.5]
["1982-01-18",630,null,2.4]
["1982-01-18",630,null,1.3]
["1982-01-18",665,null,2.2999999999999998]
["1982-01-18",665,null,2.6]
["1982-01-18",680,null,10]
["1982-01-18",680,null,13]
["1982-01-18",10,null,11]
["1982-01-18",10,null,16]
["1982-01-18",61,null,30]
["1982-01-18",61,null,64]
["1982-01-18",76,null,28]
["1982-01-18",76,null,20]
["1982-01-18",80,null,40]
["1982-01-18",80,null,40]
["1982-01-18",94,null,620]
["1982-01-18",94,null,720]
["1982-01-18",300,null,9.4]
["1982-01-18",300,null,8.1999999999999993]
["1982-01-18",301,null,85]
["1982-01-18",301,null,83]
["1982-01-18",310,null,6.3]
["1982-01-18",310,null,13]
["1982-01-18",400,null,7.4]
["1982-01-18",400,null,7.5]
["1982-01-18",530,null,39]
["1982-01-18",530,null,32]
["1982-01-18",535,null,19]
["1982-01-18",535,null,23]
["1982-01-18",540,null,20]
["1982-01-18",540,null,9]
["1982-01-18",605,null,0.8]
["1982-01-18",610,null,2.7]
["1982-01-18",610,"<",7.0000000000000007E-2]
["1982-01-18",615,null,0.2]
["1982-01-18",615,null,0.27]
["1982-01-18",620,null,2.2000000000000002]
["1982-01-18",620,null,1]
["1982-01-18",31625,null,3000]
["1982-01-18",31673,null,680]
["1982-02-01",625,null,2.5]
["1982-02-01",630,null,1.04]
["1982-02-01",650,null,4.68]
["1982-02-01",665,null,1.5294099999999999]
["1982-02-01",680,null,10]
["1982-02-01",940,null,72]
["1982-02-01",10,null,11.4]
["1982-02-01",11,null,52.52]
["1982-02-01",20,null,11]
["1982-02-01",65,null,74.61]
["1982-02-01",95,null,385]
["1982-02-01",300,null,10.8]
["1982-02-01",403,null,6.1]
["1982-02-01",530,null,310]
["1982-02-01",615,null,0.13]
["1982-02-01",620,null,0.91]
["1982-02-01",31501,null,17000]
["1982-02-01",31616,null,4900]
["1982-02-16",625,null,2.5]
["1982-02-16",625,null,2.5]
["1982-02-16",630,null,3.67]
["1982-02-16",630,null,3.19]
["1982-02-16",650,null,9.27]
["1982-02-16",650,null,8.91]
["1982-02-16",665,null,3.0294099999999999]
["1982-02-16",665,null,2.9117600000000001]
["1982-02-16",680,"<",5]
["1982-02-16",680,"<",5]
["1982-02-16",940,null,115.9]
["1982-02-16",940,null,117.7]
["1982-02-16",1002,"<",10]
["1982-02-16",1002,"<",10]
["1982-02-16",1027,"<",10]
["1982-02-16",1027,"<",10]
["1982-02-16",1034,"<",10]
["1982-02-16",1034,"<",10]
["1982-02-16",1042,"<",10]
["1982-02-16",1042,"<",10]
["1982-02-16",1051,"<",10]
["1982-02-16",1051,"<",10]
["1982-02-16",1055,null,370]
["1982-02-16",1055,null,300]
["1982-02-16",1067,"<",10]
["1982-02-16",1067,"<",10]
["1982-02-16",1092,"<",10]
["1982-02-16",1092,"<",10]
["1982-02-16",10,null,15.6]
["1982-02-16",10,null,15.6]
["1982-02-16",11,null,60.08]
["1982-02-16",11,null,60.08]
["1982-02-16",65,null,73.91]
["1982-02-16",65,null,73.91]
["1982-02-16",95,null,815]
["1982-02-16",95,null,780]
["1982-02-16",300,null,10]
["1982-02-16",300,null,10]
["1982-02-16",310,null,8]
["1982-02-16",310,null,9]
["1982-02-16",403,null,7.7]
["1982-02-16",403,null,7.5]
["1982-02-16",530,null,92]
["1982-02-16",530,null,86]
["1982-02-16",556,"<",1]
["1982-02-16",556,"<",1]
["1982-02-16",610,null,1]
["1982-02-16",610,null,1.31]
["1982-02-16",615,null,0.14000000000000001]
["1982-02-16",615,null,0.06]
["1982-02-16",620,null,3.53]
["1982-02-16",620,null,3.13]
["1982-02-16",31501,null,21200]
["1982-02-16",31501,null,9400]
["1982-02-16",31616,"<",200]
["1982-02-16",31616,null,200]
["1982-02-22",625,null,11.12]
["1982-02-22",630,null,3.19]
["1982-02-22",650,null,9.48]
["1982-02-22",665,null,3.0980400000000001]
["1982-02-22",940,null,99.4]
["1982-02-22",10,null,17.3]
["1982-02-22",11,null,63.14]
["1982-02-22",65,null,74.25]
["1982-02-22",95,null,675]
["1982-02-22",300,null,8.3000000000000007]
["1982-02-22",403,null,7.3]
["1982-02-22",530,null,130]
["1982-02-22",610,null,0.36]
["1982-02-22",615,null,0.06]
["1982-02-22",620,null,3.13]
["1982-02-22",31501,null,7000]
["1982-02-22",31616,null,1300]
["1982-03-29",625,null,4.9000000000000004]
["1982-03-29",631,null,1.2]
["1982-03-29",660,null,6.4]
["1982-03-29",665,null,2.1]
["1982-03-29",666,null,2]
["1982-03-29",671,null,2.1]
["1982-03-29",900,null,120]
["1982-03-29",915,null,37]
["1982-03-29",925,null,6.3]
["1982-03-29",930,null,59]
["1982-03-29",931,null,2.5]
["1982-03-29",935,null,7.1]
["1982-03-29",940,null,59]
["1982-03-29",945,null,26]
["1982-03-29",950,null,0.4]
["1982-03-29",955,null,15]
["1982-03-29",1000,null,4]
["1982-03-29",1002,null,4]
["1982-03-29",1005,null,140]
["1982-03-29",1007,null,300]
["1982-03-29",1027,"<",1]
["1982-03-29",1030,"<",10]
["1982-03-29",1034,null,10]
["1982-03-29",1035,null,1]
["1982-03-29",1037,null,2]
["1982-03-29",1042,null,9]
["1982-03-29",1045,null,2900]
["1982-03-29",1046,null,140]
["1982-03-29",1051,null,20]
["1982-03-29",1055,null,130]
["1982-03-29",1056,null,68]
["1982-03-29",1065,"<",1]
["1982-03-29",1067,null,3]
["1982-03-29",1077,"<",1]
["1982-03-29",1090,null,25]
["1982-03-29",1092,null,30]
["1982-03-29",1145,"<",1]
["1982-03-29",1147,"<",1]
["1982-03-29",10,null,16.5]
["1982-03-29",61,null,104]
["1982-03-29",76,null,110]
["1982-03-29",94,null,525]
["1982-03-29",300,null,8.4]
["1982-03-29",301,null,85]
["1982-03-29",310,null,7.5]
["1982-03-29",400,null,7.6]
["1982-03-29",410,null,140]
["1982-03-29",608,null,2.7]
["1982-03-29",31625,null,40]
["1982-03-29",31673,null,700]
["1982-03-29",70300,null,308]
["1982-03-29",70301,null,294]
["1982-03-29",70331,null,93]
["1982-03-29",80154,null,175]
["1982-03-29",80155,null,49]
["1982-03-30",625,null,3.01]
["1982-03-30",630,null,2.19]
["1982-03-30",650,null,4.5599999999999996]
["1982-03-30",665,null,1.4901899999999999]
["1982-03-30",940,null,81.7]
["1982-03-30",10,null,18.5]
["1982-03-30",11,null,65.3]
["1982-03-30",20,null,23]
["1982-03-30",65,null,74.33]
["1982-03-30",95,null,495]
["1982-03-30",300,null,8.4499999999999993]
["1982-03-30",310,null,6]
["1982-03-30",403,null,7.4]
["1982-03-30",530,null,231]
["1982-03-30",610,null,1.88]
["1982-03-30",615,null,0.34]
["1982-03-30",620,null,1.85]
["1982-03-30",31501,null,35000]
["1982-03-30",31616,null,3300]
["1982-04-05",625,null,3.76]
["1982-04-05",625,null,3.9]
["1982-04-05",630,null,3.82]
["1982-04-05",630,null,4.76]
["1982-04-05",650,null,6.03]
["1982-04-05",650,null,7.05]
["1982-04-05",665,null,1.9705900000000001]
["1982-04-05",665,null,2.3039200000000002]
["1982-04-05",940,null,162.58000000000001]
["1982-04-05",940,null,126.4]
["1982-04-05",10,null,23.5]
["1982-04-05",10,null,23.5]
["1982-04-05",11,null,74.3]
["1982-04-05",11,null,74.3]
["1982-04-05",65,null,73.88]
["1982-04-05",65,null,73.88]
["1982-04-05",95,null,905]
["1982-04-05",95,null,900]
["1982-04-05",300,null,8]
["1982-04-05",300,null,8]
["1982-04-05",403,null,7.9]
["1982-04-05",403,null,8]
["1982-04-05",530,null,107]
["1982-04-05",530,null,100]
["1982-04-05",610,null,3.1]
["1982-04-05",610,null,2.48]
["1982-04-05",615,null,0.06]
["1982-04-05",615,null,7.0000000000000007E-2]
["1982-04-05",620,null,3.76]
["1982-04-05",620,null,4.6900000000000004]
["1982-04-05",31501,null,9400]
["1982-04-05",31501,null,7900]
["1982-04-05",31616,null,700]
["1982-04-05",31616,null,500]
["1982-04-27",625,null,6.27]
["1982-04-27",630,null,0.02]
["1982-04-27",650,null,2.91]
["1982-04-27",665,null,0.95097900000000002]
["1982-04-27",940,null,36.44]
["1982-04-27",1002,"<",10]
["1982-04-27",1027,"<",10]
["1982-04-27",1034,"<",10]
["1982-04-27",1042,"<",10]
["1982-04-27",1051,"<",10]
["1982-04-27",1055,"<",10]
["1982-04-27",1067,"<",10]
["1982-04-27",1092,"<",10]
["1982-04-27",10,null,22.1]
["1982-04-27",11,null,71.78]
["1982-04-27",65,null,75.28]
["1982-04-27",95,null,215]
["1982-04-27",300,null,7.7]
["1982-04-27",310,null,8]
["1982-04-27",403,null,7]
["1982-04-27",530,null,206]
["1982-04-27",556,"<",1]
["1982-04-27",610,null,90]
["1982-04-27",615,"<",0.01]
["1982-04-27",620,"<",0.01]
["1982-04-27",31501,null,17000]
["1982-04-27",31616,null,2300]
["1982-05-17",625,null,2.2000000000000002]
["1982-05-17",631,null,0.31]
["1982-05-17",660,null,1.4]
["1982-05-17",665,null,0.6]
["1982-05-17",666,null,0.54]
["1982-05-17",671,null,0.46]
["1982-05-17",900,null,43]
["1982-05-17",915,null,13]
["1982-05-17",925,null,2.6]
["1982-05-17",930,null,15]
["1982-05-17",931,null,1]
["1982-05-17",935,null,3.5]
["1982-05-17",940,null,13]
["1982-05-17",945,null,7]
["1982-05-17",950,null,0.2]
["1982-05-17",955,null,7.2]
["1982-05-17",10,null,23]
["1982-05-17",61,null,417]
["1982-05-17",76,null,54]
["1982-05-17",94,null,170]
["1982-05-17",300,null,6.9]
["1982-05-17",301,null,81]
["1982-05-17",310,null,4.7]
["1982-05-17",400,null,6.9]
["1982-05-17",410,null,49]
["1982-05-17",608,null,0.78]
["1982-05-17",31625,null,76]
["1982-05-17",31673,null,650]
["1982-05-17",70300,null,100]
["1982-05-17",70301,null,91]
["1982-05-17",70331,null,97]
["1982-05-17",80154,null,86]
["1982-05-17",80155,null,97]
["1982-07-13",625,null,0.28999999999999998]
["1982-07-13",625,null,1.23]
["1982-07-13",625,null,3.36]
["1982-07-13",625,null,2.2000000000000002]
["1982-07-13",625,null,4.7]
["1982-07-13",630,null,0.22]
["1982-07-13",630,null,0.02]
["1982-07-13",630,null,0.25]
["1982-07-13",630,null,1.7]
["1982-07-13",630,null,1.8]
["1982-07-13",650,null,6.06]
["1982-07-13",650,null,5.7]
["1982-07-13",650,null,6.54]
["1982-07-13",665,null,1.9803900000000001]
["1982-07-13",665,null,1.8627400000000001]
["1982-07-13",665,null,2.1372499999999999]
["1982-07-13",665,null,0.42]
["1982-07-13",665,null,3.2]
["1982-07-13",680,null,48]
["1982-07-13",680,null,39]
["1982-07-13",680,null,43]
["1982-07-13",680,null,8.9]
["1982-07-13",680,null,7.7]
["1982-07-13",900,null,140]
["1982-07-13",900,null,130]
["1982-07-13",915,null,45]
["1982-07-13",915,null,42]
["1982-07-13",925,null,7.5]
["1982-07-13",925,null,6.7]
["1982-07-13",930,null,72]
["1982-07-13",930,null,97]
["1982-07-13",931,null,2.7]
["1982-07-13",931,null,3.8]
["1982-07-13",935,null,7.5]
["1982-07-13",935,null,6.9]
["1982-07-13",940,null,15.5]
["1982-07-13",940,null,100.66]
["1982-07-13",940,null,100.66]
["1982-07-13",940,null,74]
["1982-07-13",940,null,86]
["1982-07-13",945,null,35]
["1982-07-13",945,null,36]
["1982-07-13",945,null,24]
["1982-07-13",945,null,26]
["1982-07-13",945,null,23]
["1982-07-13",950,null,0.4]
["1982-07-13",950,null,0.4]
["1982-07-13",955,null,23]
["1982-07-13",955,null,22]
["1982-07-13",1000,null,6]
["1982-07-13",1000,null,5]
["1982-07-13",1002,"<",10]
["1982-07-13",1002,"<",10]
["1982-07-13",1002,"<",10]
["1982-07-13",1005,null,150]
["1982-07-13",1005,null,150]
["1982-07-13",1027,"<",10]
["1982-07-13",1027,"<",10]
["1982-07-13",1027,"<",10]
["1982-07-13",1030,"<",10]
["1982-07-13",1030,"<",10]
["1982-07-13",1034,"<",10]
["1982-07-13",1034,"<",10]
["1982-07-13",1034,"<",10]
["1982-07-13",1042,"<",10]
["1982-07-13",1042,"<",10]
["1982-07-13",1042,"<",10]
["1982-07-13",1046,null,16]
["1982-07-13",1046,null,16]
["1982-07-13",1051,"<",10]
["1982-07-13",1051,"<",10]
["1982-07-13",1051,"<",10]
["1982-07-13",1055,"<",10]
["1982-07-13",1055,"<",10]
["1982-07-13",1055,null,80]
["1982-07-13",1056,null,27]
["1982-07-13",1056,null,40]
["1982-07-13",1067,"<",10]
["1982-07-13",1067,"<",10]
["1982-07-13",1067,"<",10]
["1982-07-13",1090,null,13]
["1982-07-13",1090,null,31]
["1982-07-13",1092,null,10]
["1982-07-13",1092,"<",10]
["1982-07-13",1092,"<",10]
["1982-07-13",1145,"<",1]
["1982-07-13",1145,"<",1]
["1982-07-13",10,null,29.5]
["1982-07-13",10,null,29.5]
["1982-07-13",10,null,30.5]
["1982-07-13",10,null,28]
["1982-07-13",10,null,29]
["1982-07-13",11,null,85.1]
["1982-07-13",11,null,85.1]
["1982-07-13",11,null,86.9]
["1982-07-13",20,null,32.5]
["1982-07-13",20,null,32.5]
["1982-07-13",20,null,31]
["1982-07-13",61,null,39]
["1982-07-13",61,null,62]
["1982-07-13",65,null,73.97]
["1982-07-13",65,null,73.97]
["1982-07-13",65,null,41.23]
["1982-07-13",76,null,40]
["1982-07-13",76,null,15]
["1982-07-13",80,null,40]
["1982-07-13",80,null,15]
["1982-07-13",94,null,640]
["1982-07-13",94,null,720]
["1982-07-13",95,null,790]
["1982-07-13",95,null,620]
["1982-07-13",95,null,790]
["1982-07-13",300,null,8.5]
["1982-07-13",300,null,8.5]
["1982-07-13",300,null,5.35]
["1982-07-13",300,null,5]
["1982-07-13",300,null,5.0999999999999996]
["1982-07-13",301,null,64]
["1982-07-13",301,null,66]
["1982-07-13",310,null,8]
["1982-07-13",310,null,17]
["1982-07-13",310,null,13]
["1982-07-13",310,null,5.2]
["1982-07-13",310,null,9]
["1982-07-13",400,null,7.6]
["1982-07-13",400,null,7.6]
["1982-07-13",403,null,7.9]
["1982-07-13",403,null,8]
["1982-07-13",403,null,7.6]
["1982-07-13",410,null,160]
["1982-07-13",410,null,200]
["1982-07-13",530,null,63]
["1982-07-13",530,null,67]
["1982-07-13",530,null,31]
["1982-07-13",530,null,89]
["1982-07-13",530,null,10]
["1982-07-13",535,null,15]
["1982-07-13",535,null,2]
["1982-07-13",540,null,74]
["1982-07-13",540,null,8]
["1982-07-13",556,"<",1]
["1982-07-13",556,"<",1]
["1982-07-13",556,"<",1]
["1982-07-13",605,null,1.8]
["1982-07-13",605,null,1.7]
["1982-07-13",610,"<",0.05]
["1982-07-13",610,"<",0.05]
["1982-07-13",610,null,3.9]
["1982-07-13",610,null,0.36]
["1982-07-13",610,null,3]
["1982-07-13",615,null,0.21]
["1982-07-13",615,"<",0.01]
["1982-07-13",615,null,0.24]
["1982-07-13",615,null,0.2]
["1982-07-13",615,null,0.83]
["1982-07-13",620,"<",0.01]
["1982-07-13",620,"<",0.01]
["1982-07-13",620,"<",0.01]
["1982-07-13",620,null,1.5]
["1982-07-13",620,null,0.97]
["1982-07-13",31501,null,1100]
["1982-07-13",31501,null,1100]
["1982-07-13",31501,null,330]
["1982-07-13",31616,null,50]
["1982-07-13",31616,null,50]
["1982-07-13",31616,null,70]
["1982-07-13",31625,null,720]
["1982-07-13",31673,null,950]
["1982-07-13",70301,null,352]
["1982-07-13",70301,null,405]
["1982-07-26",625,null,3.56]
["1982-07-26",625,null,5.27]
["1982-07-26",625,null,6.16]
["1982-07-26",630,null,0.75]
["1982-07-26",630,null,2.0699999999999998]
["1982-07-26",630,null,2.0099999999999998]
["1982-07-26",650,null,3.03]
["1982-07-26",650,null,4.38]
["1982-07-26",650,null,4.38]
["1982-07-26",665,null,0.99019500000000005]
["1982-07-26",665,null,1.43137]
["1982-07-26",665,null,1.43137]
["1982-07-26",680,null,63]
["1982-07-26",680,null,34]
["1982-07-26",680,null,32]
["1982-07-26",940,null,104.51]
["1982-07-26",940,null,75.77]
["1982-07-26",940,null,19.38]
["1982-07-26",945,null,9]
["1982-07-26",945,null,16]
["1982-07-26",945,null,15]
["1982-07-26",10,null,32.1]
["1982-07-26",10,null,31]
["1982-07-26",10,null,31]
["1982-07-26",11,null,89.78]
["1982-07-26",11,null,87.8]
["1982-07-26",11,null,87.8]
["1982-07-26",20,null,32.799999999999997]
["1982-07-26",20,null,33.5]
["1982-07-26",20,null,33.5]
["1982-07-26",65,null,75.290000000000006]
["1982-07-26",65,null,42.25]
["1982-07-26",65,null,42.25]
["1982-07-26",95,null,460]
["1982-07-26",95,null,490]
["1982-07-26",95,null,490]
["1982-07-26",300,null,6.7]
["1982-07-26",300,null,5.7]
["1982-07-26",300,null,5.7]
["1982-07-26",403,null,7.9]
["1982-07-26",403,null,7.8]
["1982-07-26",403,null,7.9]
["1982-07-26",530,null,98]
["1982-07-26",530,null,86]
["1982-07-26",530,null,74]
["1982-07-26",610,null,2.2000000000000002]
["1982-07-26",610,null,2.78]
["1982-07-26",610,null,3.09]
["1982-07-26",615,null,0.08]
["1982-07-26",615,null,0.77]
["1982-07-26",615,null,0.8]
["1982-07-26",620,null,0.67]
["1982-07-26",620,null,1.3]
["1982-07-26",620,null,1.21]
["1982-07-26",31501,null,3500]
["1982-07-26",31501,null,1100]
["1982-07-26",31501,null,9200]
["1982-07-26",31616,null,330]
["1982-07-26",31616,null,110]
["1982-07-26",31616,null,170]
["1982-08-02",625,null,2.9]
["1982-08-02",631,null,1.8]
["1982-08-02",660,null,2.6]
["1982-08-02",665,null,1.1000000000000001]
["1982-08-02",666,null,0.92]
["1982-08-02",671,null,0.84]
["1982-08-02",900,null,110]
["1982-08-02",915,null,36]
["1982-08-02",925,null,5.6]
["1982-08-02",930,null,63]
["1982-08-02",931,null,2.7]
["1982-08-02",935,null,8.9]
["1982-08-02",940,null,58]
["1982-08-02",945,null,18]
["1982-08-02",950,null,0.3]
["1982-08-02",955,null,21]
["1982-08-02",1000,null,5]
["1982-08-02",1002,null,5]
["1982-08-02",1005,null,160]
["1982-08-02",1007,null,100]
["1982-08-02",1027,"<",1]
["1982-08-02",1030,null,10]
["1982-08-02",1034,"<",10]
["1982-08-02",1035,"<",1]
["1982-08-02",1037,null,1]
["1982-08-02",1042,null,7]
["1982-08-02",1045,null,1300]
["1982-08-02",1046,null,50]
["1982-08-02",1051,null,6]
["1982-08-02",1055,null,70]
["1982-08-02",1056,null,16]
["1982-08-02",1065,"<",1]
["1982-08-02",1067,null,2]
["1982-08-02",1077,"<",1]
["1982-08-02",1090,null,31]
["1982-08-02",1092,null,30]
["1982-08-02",1145,"<",1]
["1982-08-02",1147,"<",1]
["1982-08-02",10,null,29]
["1982-08-02",61,null,111]
["1982-08-02",76,null,62]
["1982-08-02",94,null,520]
["1982-08-02",300,null,6.1]
["1982-08-02",301,null,79]
["1982-08-02",310,null,5.4]
["1982-08-02",400,null,7.7]
["1982-08-02",410,null,150]
["1982-08-02",608,null,1.5]
["1982-08-02",31625,null,2500]
["1982-08-02",31673,null,600]
["1982-08-02",70300,null,317]
["1982-08-02",70301,null,301]
["1982-08-02",70331,null,91]
["1982-08-02",80154,null,95]
["1982-08-02",80155,null,28]
["1982-08-03",625,null,1.1200000000000001]
["1982-08-03",625,null,3.98]
["1982-08-03",650,null,2.61]
["1982-08-03",650,null,5.04]
["1982-08-03",665,null,0.85294000000000003]
["1982-08-03",665,null,1.64706]
["1982-08-03",680,null,34]
["1982-08-03",680,null,31]
["1982-08-03",940,null,67.650000000000006]
["1982-08-03",940,null,19.25]
["1982-08-03",945,null,5]
["1982-08-03",945,null,14]
["1982-08-03",10,null,30.2]
["1982-08-03",10,null,29.8]
["1982-08-03",11,null,86.36]
["1982-08-03",11,null,85.64]
["1982-08-03",20,null,30.8]
["1982-08-03",20,null,31]
["1982-08-03",65,null,74.59]
["1982-08-03",65,null,41.59]
["1982-08-03",95,null,395]
["1982-08-03",95,null,410]
["1982-08-03",300,null,7.15]
["1982-08-03",300,null,5.4]
["1982-08-03",310,"<",2]
["1982-08-03",310,"<",2]
["1982-08-03",403,null,7.7]
["1982-08-03",403,null,7.5]
["1982-08-03",530,null,94]
["1982-08-03",530,null,44]
["1982-08-03",610,null,2.1800000000000002]
["1982-08-03",610,null,3.06]
["1982-08-03",31501,null,3500]
["1982-08-03",31501,null,490]
["1982-08-03",31616,null,330]
["1982-08-03",31616,null,490]
["1982-09-21",625,null,3.8]
["1982-09-21",631,null,3.9]
["1982-09-21",660,null,6.1]
["1982-09-21",665,null,2.5]
["1982-09-21",666,null,2.4]
["1982-09-21",671,null,2]
["1982-09-21",900,null,130]
["1982-09-21",915,null,41]
["1982-09-21",925,null,7.6]
["1982-09-21",930,null,110]
["1982-09-21",931,null,4.3]
["1982-09-21",935,null,7.5]
["1982-09-21",940,null,92]
["1982-09-21",945,null,27]
["1982-09-21",950,null,0.4]
["1982-09-21",955,null,25]
["1982-09-21",1000,null,5]
["1982-09-21",1002,null,5]
["1982-09-21",1005,null,140]
["1982-09-21",1007,"<",100]
["1982-09-21",1027,"<",1]
["1982-09-21",1030,null,10]
["1982-09-21",1034,"<",10]
["1982-09-21",1035,"<",1]
["1982-09-21",1037,null,4]
["1982-09-21",1042,null,9]
["1982-09-21",1045,null,280]
["1982-09-21",1046,null,22]
["1982-09-21",1051,null,10]
["1982-09-21",1055,null,50]
["1982-09-21",1056,null,26]
["1982-09-21",1065,"<",1]
["1982-09-21",1067,null,1]
["1982-09-21",1077,"<",1]
["1982-09-21",1090,null,23]
["1982-09-21",1092,null,50]
["1982-09-21",1145,"<",1]
["1982-09-21",1147,"<",1]
["1982-09-21",10,null,26.5]
["1982-09-21",61,null,65]
["1982-09-21",76,null,9.9]
["1982-09-21",94,null,750]
["1982-09-21",300,null,6.3]
["1982-09-21",301,null,78]
["1982-09-21",310,null,0.8]
["1982-09-21",400,null,7.4]
["1982-09-21",410,null,207]
["1982-11-15",630,null,9.41]
["1982-11-15",650,null,14.25]
["1982-11-15",11,null,69.260000000000005]
["1982-11-15",615,null,0.4]
["1982-11-15",31501,null,80]
["1982-11-24",931,null,0.7]
["1982-11-24",1065,"<",1]
["1982-11-24",608,null,0.19]
["1982-12-07",665,null,0.382353]
["1982-12-07",1042,"<",100]
["1982-12-07",1067,"<",100]
["1982-12-07",65,null,51.25]
["1982-12-07",530,null,4]
["1982-12-07",620,null,2.54]
["1982-12-13",940,null,7.72]
["1982-12-13",300,null,10.8]
["1983-01-04",1055,null,200]
["1983-01-04",310,"<",2]
["1983-01-24",650,null,1.56]
["1983-01-24",10,null,9.5]
["1983-01-24",300,null,11.4]
["1983-01-24",620,null,2.36]
["1983-02-01",650,null,5.72]
["1983-02-01",680,null,29]
["1983-02-01",10,null,14.7]
["1983-02-01",300,null,10.199999999999999]
["1983-02-01",556,"<",1]
["1983-02-03",39570,"<",0.3]
["1983-02-07",945,null,15.66]
["1983-02-07",65,null,46.5]
["1983-02-16",665,null,0.39]
["1983-02-16",1010,"<",0.5]
["1983-02-16",94,null,150]
["1983-03-02",630,null,1.9]
["1983-03-02",1030,"<",10]
["1983-03-02",535,null,13]
["1983-03-02",31673,null,330]
["1983-04-11",650,null,4.4000000000000004]
["1983-04-11",11,null,69.44]
["1983-04-11",620,null,14.61]
["1983-04-11",31501,null,2400]
["1983-04-20",650,null,20.91]
["1983-04-20",1051,"<",100]
["1983-04-20",1092,"<",100]
["1983-04-20",300,null,9.1]
["1983-04-20",615,null,1.48]
["1983-04-27",625,null,4.6100000000000003]
["1983-04-27",10,null,20.7]
["1983-04-27",530,null,47]
["1983-05-11",925,null,5.3]
["1983-05-11",1010,"<",0.5]
["1983-05-11",94,null,420]
["1983-06-01",625,null,0.77]
["1983-06-01",945,"<",10]
["1983-06-01",10,null,25.5]
["1983-06-01",300,null,5.3]
["1983-06-01",530,null,56]
["1983-06-01",70300,null,124]
["1983-06-08",680,null,14]
["1983-06-08",20,null,28.5]
["1983-06-08",403,null,7]
["1983-06-08",31501,null,9200]
["1983-06-14",625,null,2.29]
["1983-06-14",95,null,710]
["1983-06-14",31501,null,2400]
["1983-07-27",665,null,2.4182999999999999]
["1983-07-27",20,null,28.5]
["1983-07-27",310,null,20]
["1983-07-27",615,null,0.06]
["1983-07-27",31616,null,70]
["1983-08-02",666,null,0.67]
["1983-08-02",945,null,16]
["1983-08-02",1106,null,70]
["1983-08-02",65,null,74.209999999999994]
["1983-08-02",400,null,7.2]
["1983-08-02",530,null,230]
["1983-08-02",620,null,1.1399999999999999]
["1983-08-02",70331,null,97]
["1983-08-10",945,null,32.1]
["1983-08-10",610,null,0.27]
["1983-08-10",70300,null,258]
["1983-10-31",940,null,93.83]
["1983-10-31",530,null,33]
["1983-10-31",610,null,3.36]
["1983-11-15",625,null,1.41]
["1983-11-15",1002,"<",10]
["1983-11-15",1055,"<",100]
["1983-11-15",65,null,41.03]
["1983-11-15",530,null,13]
["1983-11-21",625,null,3.27]
["1983-11-21",665,null,1.89215]
["1983-11-21",1000,null,3]
["1983-11-21",11,null,71.06]
["1983-11-21",300,null,8.3000000000000007]
["1983-11-21",620,null,2.44]
["1984-01-04",630,null,3.75]
["1984-01-04",1092,"<",100]
["1984-01-04",530,null,34]
["1984-01-10",945,null,19]
["1984-01-10",95,null,325]
["1984-01-10",615,null,4.55]
["1984-01-24",945,null,26]
["1984-01-24",95,null,180]
["1984-03-06",671,null,0.17]
["1984-03-06",1056,null,98]
["1984-03-06",1090,null,17]
["1984-03-20",650,null,11.4]
["1984-03-20",1002,"<",10]
["1984-03-20",1051,"<",100]
["1984-03-20",20,null,17]
["1984-03-20",530,null,149]
["1984-03-20",31616,null,3500]
["1984-03-20",70300,null,551]
["1984-05-02",300,null,8.3000000000000007]
["1984-05-02",31616,null,50]
["1984-05-09",925,null,7.9]
["1984-05-09",955,null,19]
["1984-05-09",1145,"<",1]
["1984-06-28",665,null,2.8431299999999999]
["1984-06-28",20,null,27.5]
["1984-06-28",615,null,1.81]
["1984-08-15",935,null,8.5]
["1984-08-15",400,null,7.2]
["1984-08-15",70300,null,219]
["1984-11-20",11,null,57.92]
["1984-11-26",1030,null,1]
["1984-11-26",10,null,20.5]
["1985-02-12",631,null,0.53]
["1985-02-12",1106,null,200]
["1985-02-12",94,null,153]
["1985-05-29",671,null,2.1]
["1985-05-29",1060,"<",10]
["1985-05-29",70331,null,49]
["1985-06-20",20,null,30]
["1985-06-26",300,null,2.85]
["1985-07-15",684,null,6]
["1985-07-15",10,null,28.8]
["1985-07-15",61,null,20]
["1985-07-15",300,null,12.6]
["1985-07-15",300,null,6.2]
["1985-07-15",400,null,7.3]
["1985-07-15",403,null,7.8]
["1985-07-15",50060,null,0]
["1985-07-16",625,null,0.8]
["1985-07-16",625,null,1.4]
["1985-07-16",630,null,2.2000000000000002]
["1985-07-16",650,null,10.281599999999999]
["1985-07-16",660,null,6.9767999999999999]
["1985-07-16",660,null,7.0380000000000003]
["1985-07-16",665,null,2.61]
["1985-07-16",684,null,7]
["1985-07-16",684,null,5]
["1985-07-16",945,null,27]
["1985-07-16",945,null,20]
["1985-07-16",10,null,30.3]
["1985-07-16",10,null,27.4]
["1985-07-16",10,null,29.4]
["1985-07-16",11,null,87.26]
["1985-07-16",11,null,81.14]
["1985-07-16",11,null,84.38]
["1985-07-16",94,null,202]
["1985-07-16",94,null,834]
["1985-07-16",94,null,704]
["1985-07-16",95,null,760]
["1985-07-16",95,null,882]
["1985-07-16",300,null,4]
["1985-07-16",300,null,4.9000000000000004]
["1985-07-16",307,null,3]
["1985-07-16",307,null,1]
["1985-07-16",308,null,5]
["1985-07-16",309,null,9]
["1985-07-16",314,null,5.5]
["1985-07-16",400,null,7.7]
["1985-07-16",400,null,7.6]
["1985-07-16",400,null,7.7]
["1985-07-16",403,null,7.9]
["1985-07-16",410,null,114]
["1985-07-16",410,null,121]
["1985-07-16",530,null,192]
["1985-07-16",535,null,16]
["1985-07-16",610,null,2.09]
["1985-07-16",615,"<",0.01]
["1985-07-16",615,null,0.12]
["1985-07-16",620,null,1.7]
["1985-07-16",32211,"<",2]
["1985-07-16",32218,null,3]
["1985-07-16",50060,"<",0.1]
["1985-07-16",50060,"<",0.1]
["1985-07-16",50060,null,0]
["1985-07-16",70300,null,404]
["1985-07-16",70507,null,2.2799999999999998]
["1985-07-16",70507,null,2.97]
["1985-08-20",1010,"<",0.5]
["1985-08-20",76,null,16]
["1985-08-20",300,null,6.9]
["1985-11-04",671,null,0.93]
["1985-11-04",1056,null,9]
["1985-11-04",410,null,89]
["1986-02-04",1000,null,4]
["1986-02-04",1060,"<",10]
["1986-02-04",410,null,90]
["1986-05-06",915,null,38]
["1986-05-06",410,null,183]
["1986-05-13",684,null,6]
["1986-05-13",307,null,1]
["1986-05-13",314,null,4]
["1986-05-13",535,null,20]
["1986-05-13",32218,null,4]
["1986-05-14",684,null,5]
["1986-05-14",95,null,725]
["1986-05-14",314,null,1]
["1986-05-14",410,null,162]
["1986-05-14",32218,null,5]
["1986-05-15",307,null,1]
["1986-08-05",625,null,2]
["1986-08-05",1010,null,1.3]
["1986-08-05",76,null,230]
["1986-08-05",610,null,0.73]
["1986-11-05",80,null,220]
["1987-02-10",10,null,16.5]
["1987-04-07",94,null,787]
["1987-04-08",665,null,2.44]
["1987-04-08",10,null,14]
["1987-04-08",94,null,843]
["1987-04-08",300,null,10.1]
["1987-04-08",400,null,7.7]
["1987-04-08",535,null,8]
["1987-04-08",32218,null,12]
["1987-05-18",630,null,0.8]
["1987-05-18",80082,null,2.9]
["1987-08-18",80,null,13]
["1987-11-12",665,null,3.5]
["1987-11-12",410,null,171]
["1988-02-10",945,null,34]
["1988-02-10",61,null,53]
["1988-02-10",615,null,0.12]
["1988-05-23",76,null,130]
["1988-08-01",10,null,27.5]
["1988-08-01",300,null,7]
["1988-11-07",935,null,8.1999999999999993]
["1988-11-07",610,null,0.25]
["1989-02-16",955,null,17]
["1989-05-02",625,null,1.3]
["1989-05-02",80,null,65]
["1989-08-10",665,null,0.64]
["1989-08-10",400,null,7.2]
["1989-11-29",940,null,91]
["1990-02-12",625,null,2]
["1990-02-12",955,null,16]
["1990-05-21",625,null,1.2]
["1990-05-21",950,null,0.2]
["1990-08-02",665,null,2]
["1990-08-02",310,null,1.4]
["1990-11-29",930,null,110]
["1990-11-29",39036,null,190]
["1991-02-28",940,null,57]
["1991-02-28",610,null,0.16]
["1991-05-08",940,null,9]
["1991-05-08",70507,null,0.01]
["1991-08-07",10,null,28]
["1991-11-18",900,null,36]
["1991-11-18",530,null,95]
["1992-01-13",930,null,17]
["1992-01-13",530,null,88]
["1992-02-06",940,null,4]
["1992-02-06",70507,null,0.25]
["1992-05-26",535,null,7]
["1992-05-26",620,null,0.31]
["1992-06-10",535,null,9]
["1992-07-23",945,null,8.8000000000000007]
["1992-07-23",535,null,33]
["1992-08-03",300,null,7]
["1992-08-27",665,null,1.9]
["1992-08-27",935,null,7.5]
["1992-08-27",300,null,4.5999999999999996]
["1992-11-19",680,null,8]
["1992-11-19",300,null,7.6]
["1993-01-12",666,null,0.28000000000000003]
["1993-01-12",925,null,2.1]
["1993-01-12",403,null,7.2]
["1993-02-11",940,null,9]
["1993-02-11",300,null,8.8000000000000007]
["1993-02-11",620,null,0.65]
["1993-05-20",680,null,12]
["1993-05-20",94,null,230]
["1993-05-20",615,null,0.08]
["1993-05-26",915,null,33]
["1993-05-26",608,null,0.57999999999999996]
["1993-08-16",680,null,11]
["1993-08-16",94,null,796]
["1993-08-16",610,null,0.06]
["1993-08-17",915,null,46]
["1993-08-17",400,null,7.9]
["1993-09-09",940,null,99]
["1993-09-09",403,null,7.8]
["1993-11-09",680,null,7]
["1993-11-09",400,null,7.5]
["1993-11-09",32211,"<",1]
["1993-12-07",930,null,39]
["1993-12-07",608,null,0.42]
["1994-02-08",630,null,5.52]
["1994-02-08",615,null,0.2]
["1994-05-04",630,null,0.9]
["1994-05-04",400,null,7]
["1994-05-04",32218,null,3.99]
["1994-05-19",945,null,5.3]
["1994-05-19",61,null,1420]
["1994-07-21",10,null,27]
["1994-08-18",630,null,1.1100000000000001]
["1994-08-18",530,null,162]
["1994-08-18",32218,null,31.6]
["1994-09-02",940,null,52]
["1994-09-02",945,null,17]
["1994-11-08",665,null,0.34]
["1994-11-08",1351,null,4]
["1994-11-08",610,"<",0.01]
["1995-02-08",10,null,14.9]
["1995-02-08",94,null,553]
["1995-02-08",31613,null,3850]
["1995-02-23",915,null,49]
["1995-05-05",666,null,0.93]
["1995-05-05",935,null,7.7]
["1995-05-05",608,null,0.2]
["1995-05-24",1351,null,3]
["1995-05-24",480,"<",1]
["1995-05-24",70300,null,558]
["1995-07-12",80,null,88]
["1995-07-12",613,null,0.1]
["1995-08-03",1351,null,3]
["1995-08-03",535,null,10]
["1995-09-05",680,null,7.3]
["1995-09-05",80,null,20]
["1995-11-06",665,null,0.77]
["1995-11-06",10,null,14.9]
["1995-11-06",32211,null,10.9]
["1996-01-29",945,null,40.299999999999997]
["1996-01-29",530,null,10]
["1996-01-29",70300,null,564]
["1996-02-29",950,null,0.4]
["1996-02-29",300,null,8.5]
["1996-05-08",930,null,120]
["1996-05-08",61,null,42]
["1996-05-08",410,null,170]
["1996-05-08",535,null,5]
["1996-07-30",930,null,76]
["1996-07-30",608,null,0.05]
["1996-08-06",680,null,7]
["1996-08-06",530,null,56]
["1996-08-06",74069,null,70]
["1996-08-29",631,null,1.2]
["1996-10-08",680,null,9]
["1996-10-08",940,null,70]
["1996-10-08",70300,null,373]
["1997-02-10",70507,null,0.84199999999999997]
["1997-02-28",915,null,19]
["1997-02-28",530,null,42]
["1997-05-08",300,null,5.8]
["1997-05-13",666,null,1.075]
["1997-05-13",300,null,7.4]
["1997-07-28",80,null,25]
["1997-07-28",530,null,17]
["1997-08-05",300,null,5.0999999999999996]
["1997-09-03",671,null,1.4239999999999999]
["1997-09-03",530,null,21]
["1997-10-14",1351,null,5]
["1997-10-14",74069,null,400]
["1998-02-09",608,null,1.117]
["1998-02-25",680,null,15]
["1998-02-25",32218,null,1.28]
["1998-05-07",400,null,7.6]
["1998-05-13",300,null,6.3]
["1998-05-20",671,null,1.6539999999999999]
["1998-05-20",61,null,39]
["1998-05-26",400,null,7.7]
["1998-08-03",10,null,29.5]
["1998-08-06",61,null,64]
["1998-08-08",631,null,4.0090000000000003]
["1998-08-08",61,null,209]
["1998-08-22",625,null,0.79500000000000004]
["1998-08-22",671,null,0.22800000000000001]
["1998-09-01",1351,null,3]
["1998-09-01",400,null,7.8]
["1998-09-01",89835,null,1]
["1998-09-01",89842,null,0]
["1998-09-01",89847,null,24]
["1998-09-01",89854,null,5]
["1998-09-01",89864,null,6.1]
["1998-09-01",89946,null,0.32]
["1998-09-01",98474,null,1]
["1998-09-01",98487,null,20]
["1998-09-08",915,null,27.925999999999998]
["1998-09-08",925,null,4.7469999999999999]
["1998-11-05",940,null,6]
["1998-11-05",94,null,81]
["1998-12-08",623,null,0.46400000000000002]
["1998-12-08",671,null,0.11700000000000001]
["1998-12-08",1075,"<",1]
["1998-12-08",300,null,6]
["1999-02-08",10,null,22.6]
["1999-02-08",300,null,5.8]
["1999-02-08",400,null,6.7]
["1999-02-08",610,null,0.7]
["1999-02-08",50060,null,0]
["1999-02-10",665,null,1.8]
["1999-02-10",32211,"<",1]
["1999-03-03",10,null,16]
["1999-03-03",70300,null,524]
["1999-03-08",300,null,7.5]
["1999-03-08",310,null,3.2]
["1999-03-08",610,null,1.2]
["1999-03-08",31616,null,690]
["1999-03-08",50060,null,0]
["1999-03-10",300,null,7]
["1999-03-17",10,null,20]
["1999-03-24",945,null,8]
["1999-03-29",10,null,20]
["1999-03-29",310,"<",4]
["1999-04-12",1351,null,3]
["1999-04-12",10,null,24]
["1999-04-12",310,null,2.2999999999999998]
["1999-04-12",400,null,7.8]
["1999-04-12",31616,null,230]
["1999-04-12",31616,null,790]
["1999-04-14",94,null,921]
["1999-04-14",70300,null,508]
["1999-04-20",300,null,11]
["1999-04-26",945,null,31]
["1999-04-26",530,null,8]
["1999-04-29",94,null,713]
["1999-04-29",300,null,10]
["1999-04-29",70300,null,455]
["1999-05-05",61,null,45]
["1999-05-05",530,null,38]
["1999-05-05",70300,null,483]
["1999-05-11",300,null,8]
["1999-05-17",1351,null,3]
["1999-05-17",10,null,26.8]
["1999-05-17",300,null,6.3]
["1999-05-17",310,"<",2]
["1999-05-17",400,null,7.5]
["1999-05-17",610,null,0.2]
["1999-05-17",31616,null,2800]
["1999-06-01",945,null,19]
["1999-06-01",310,null,6]
["1999-06-07",1351,null,3]
["1999-06-07",10,null,28.1]
["1999-06-07",310,"<",2]
["1999-06-07",400,null,7.8]
["1999-06-07",31616,null,1300]
["1999-06-07",50060,null,0]
["1999-06-08",94,null,731]
["1999-06-08",70300,null,649]
["1999-06-14",310,"<",4]
["1999-06-17",10,null,28]
["1999-06-17",31616,null,3600]
["1999-06-23",945,null,11]
["1999-06-29",945,null,9]
["1999-06-29",530,null,31]
["1999-07-07",94,null,379]
["1999-07-12",1351,null,3]
["1999-07-12",10,null,28.4]
["1999-07-12",300,null,5.2]
["1999-07-12",310,"<",2]
["1999-07-12",610,null,0.1]
["1999-07-12",31616,null,9500]
["1999-07-13",310,null,4]
["1999-07-22",530,null,52]
["1999-07-28",94,null,358]
["1999-07-28",530,null,107]
["1999-07-28",70300,null,310]
["1999-08-03",410,null,166]
["1999-08-06",89855,null,5.7]
["1999-08-06",89858,null,144]
["1999-08-12",945,null,26.4]
["1999-08-12",31616,null,540]
["1999-08-18",70300,null,421]
["1999-08-23",1351,null,3]
["1999-08-23",10,null,28.9]
["1999-08-23",310,null,2.2000000000000002]
["1999-08-23",400,null,7.7]
["1999-08-23",610,null,0.2]
["1999-08-23",50060,null,0]
["1999-08-25",10,null,28.5]
["1999-08-30",530,null,45]
["1999-09-02",10,null,28.5]
["1999-09-02",31616,null,1400]
["1999-09-09",530,null,25]
["1999-09-14",10,null,26]
["1999-09-14",530,null,320]
["1999-09-15",610,null,0.06]
["1999-09-27",1351,null,3]
["1999-09-27",300,null,6.6]
["1999-09-27",310,"<",2]
["1999-09-27",400,null,7.8]
["1999-09-27",31616,null,2100]
["1999-09-27",50060,null,0]
["1999-10-11",10,null,26.5]
["1999-10-11",70300,null,441]
["1999-10-20",94,null,600]
["1999-10-20",610,"<",0.05]
["1999-10-25",310,"<",4]
["1999-10-27",945,null,38.9]
["1999-11-01",300,null,8.6]
["1999-11-03",945,null,38.700000000000003]
["1999-11-03",530,null,22]
["1999-11-08",945,null,36.4]
["1999-11-08",610,"<",0.05]
["1999-11-15",94,null,752]
["1999-11-15",610,null,7.0000000000000007E-2]
["1999-11-15",31616,null,1400]
["1999-11-17",300,null,6.85]
["1999-11-22",945,null,33.200000000000003]
["1999-11-22",310,"<",4]
["1999-11-29",945,null,26.9]
["1999-11-29",70300,null,432]
["1999-12-01",10,null,19.2]
["1999-12-01",610,null,0.53]
["1999-12-06",300,null,8.3000000000000007]
["1999-12-08",94,null,537]
["1999-12-08",610,null,0.45]
["1999-12-13",94,null,471]
["1999-12-13",31616,null,3800]
["1999-12-15",300,null,9.5]
["1999-12-15",70300,null,352]
["1999-12-20",31616,null,690]
["1999-12-22",94,null,625]
["1999-12-22",70300,null,426]
["2000-01-03",945,null,35.9]
["2000-01-03",610,null,0.44]
["2000-01-05",530,null,13]
["2000-01-10",530,null,79]
["2000-01-12",530,null,39]
["2000-01-19",945,null,36.799999999999997]
["2000-01-19",530,null,32]
["2000-01-19",70300,null,494]
["2000-01-26",945,null,38.5]
["2000-01-26",530,null,13]
["2000-01-26",31616,null,280]
["2000-01-31",610,null,0.3]
["2000-02-02",300,null,10.7]
["2000-02-09",10,null,16]
["2000-02-09",530,null,124]
["2000-02-14",94,null,687]
["2000-02-14",31616,null,440]
["2000-02-14",70300,null,482]
["2000-02-16",70300,null,544]
["2000-02-23",310,null,7]
["2000-02-23",31616,null,28000]
["2000-03-01",945,null,31.8]
["2000-03-01",61,null,41.5]
["2000-03-01",530,null,52]
["2000-03-02",310,"<",4]
["2000-03-06",945,null,35.6]
["2000-03-06",300,null,8]
["2000-03-06",70300,null,477]
["2000-03-07",61,null,49.8]
["2000-03-08",10,null,23]
["2000-03-08",530,null,23]
["2000-03-08",31616,null,390]
["2000-03-09",530,null,30]
["2000-03-14",1351,null,3]
["2000-03-14",310,"<",4]
["2000-03-14",610,null,0.15]
["2000-04-04",945,null,7.4]
["2000-04-04",310,"<",4]
["2000-04-04",610,null,0.18]
["2000-04-05",945,null,8.8000000000000007]
["2000-04-05",10,null,19]
["2000-04-05",530,null,91]
["2000-04-05",70300,null,200]
["2000-04-10",945,null,14.4]
["2000-04-10",300,null,9.8000000000000007]
["2000-04-10",610,"<",0.05]
["2000-04-11",945,null,33.1]
["2000-04-11",10,null,21]
["2000-04-11",530,null,9]
["2000-04-11",31616,null,240]
["2000-04-11",70300,null,438]
["2000-05-03",945,null,12.1]
["2000-05-03",310,"<",4]
["2000-05-03",610,null,0.12]
["2000-05-04",945,null,17.3]
["2000-05-04",300,null,5.8]
["2000-05-04",530,null,62]
["2000-05-04",31616,null,1600]
["2000-05-09",530,null,90]
["2000-05-11",10,null,26]
["2000-05-11",10,null,27]
["2000-05-11",530,null,140]
["2000-05-11",70300,null,358]
["2000-05-15",300,null,6.6]
["2000-05-15",310,"<",4]
["2000-05-15",31616,null,2100]
["2000-05-16",610,"<",0.05]
["2000-05-23",61,null,1740]
["2000-06-01",945,null,23.6]
["2000-06-01",94,null,699]
["2000-06-01",31616,null,99]
["2000-06-01",70300,null,402]
["2000-06-08",945,null,14.8]
["2000-06-08",300,null,6]
["2000-06-08",530,null,49]
["2000-06-08",70300,null,332]
["2000-06-13",1351,null,3]
["2000-06-13",300,null,6.6]
["2000-06-13",610,"<",0.05]
["2000-06-14",945,null,15.5]
["2000-06-14",10,null,28]
["2000-06-14",530,null,82]
["2000-06-14",70300,null,332]
["2000-07-12",61,null,45]
["2000-07-19",70300,null,489]
["2000-07-25",10,null,31.8]
["2000-07-25",610,null,0.15]
["2000-07-25",70300,null,426]
["2000-07-26",10,null,30.1]
["2000-07-26",530,null,30]
["2000-07-26",610,null,0.05]
["2000-07-31",610,"<",0.1]
["2000-08-02",10,null,29.3]
["2000-08-02",530,null,110]
["2000-08-02",70300,null,343]
["2000-08-03",10,null,31.7]
["2000-08-03",310,null,7]
["2000-08-03",31616,null,25000]
["2000-08-17",610,"<",0.05]
["2000-08-17",31616,null,540]
["2000-09-01",94,null,843]
["2000-09-05",10,null,31]
["2000-09-05",310,"<",4]
["2000-09-05",70300,null,468]
["2000-09-12",945,null,31.6]
["2000-09-12",300,null,5.8]
["2000-09-12",610,null,0.17]
["2000-09-13",945,null,22.3]
["2000-09-13",300,null,4.0999999999999996]
["2000-09-13",610,null,7.0000000000000007E-2]
["2000-09-13",70300,null,335]
["2000-09-18",1351,null,3]
["2000-09-18",310,"<",4]
["2000-09-18",31616,null,5200]
["2000-09-19",945,null,31.2]
["2000-09-20",31616,null,28000]
["2000-10-02",1351,null,3]
["2000-10-02",310,"<",4]
["2000-10-02",610,null,0.06]
["2000-10-03",945,null,36.340000000000003]
["2000-10-03",94,null,837.8]
["2000-10-03",400,null,7.98]
["2000-10-03",31616,null,390]
["2000-10-04",945,null,38.200000000000003]
["2000-10-04",300,null,8.1]
["2000-10-04",400,null,8.01]
["2000-10-04",31616,null,410]
["2000-10-05",94,null,907]
["2000-10-09",10,null,16.600000000000001]
["2000-10-09",300,null,10.7]
["2000-10-09",530,null,64]
["2000-10-09",70300,null,323]
["2000-10-10",70300,null,358]
["2000-10-11",400,null,7.86]
["2000-11-01",94,null,460.9]
["2000-11-01",400,null,7.34]
["2000-11-01",610,null,0.05]
["2000-11-06",1351,null,3]
["2000-11-06",1351,null,3]
["2000-11-06",300,null,6.99]
["2000-11-06",400,null,7.37]
["2000-11-06",610,null,7.0000000000000007E-2]
["2000-11-07",1351,null,3]
["2000-11-07",10,null,20.3]
["2000-11-07",300,null,7.75]
["2000-11-07",400,null,6.98]
["2000-11-07",70300,null,254]
["2000-11-14",945,null,9]
["2000-11-14",610,null,0.13]
["2000-11-15",310,"<",4]
["2000-11-20",945,null,6.7]
["2000-11-20",94,null,136.80000000000001]
["2000-11-20",400,null,6.69]
["2000-11-20",31616,null,4800]
["2000-12-04",1351,null,3]
["2000-12-04",300,null,8.9700000000000006]
["2000-12-04",400,null,7.2]
["2000-12-04",70300,null,330]
["2000-12-05",10,null,11.9]
["2000-12-05",400,null,7.23]
["2000-12-05",610,null,0.28000000000000003]
["2000-12-13",945,null,25.3]
["2000-12-13",94,null,417.9]
["2000-12-13",400,null,7.3]
["2000-12-13",610,null,0.19]
["2000-12-13",72053,"<",2]
["2000-12-18",10,null,14.5]
["2000-12-19",94,null,726.5]
["2000-12-19",400,null,7.22]
["2000-12-19",610,null,0.15]
["2000-12-20",10,null,11.6]
["2000-12-21",400,null,7.33]
["2000-12-21",31616,null,2900]
["2001-01-02",310,"<",4]
["2001-01-02",610,null,0.22]
["2001-01-02",70300,null,349]
["2001-01-03",94,null,568.20000000000005]
["2001-01-03",400,null,7.26]
["2001-01-03",400,null,7.27]
["2001-01-03",70300,null,341]
["2001-01-11",1351,null,3]
["2001-01-11",94,null,257.10000000000002]
["2001-01-11",530,null,168]
["2001-01-11",610,null,0.11]
["2001-01-11",72053,"<",2]
["2001-01-17",94,null,309.89999999999998]
["2001-01-17",400,null,7.25]
["2001-01-17",31616,null,3100]
["2001-01-22",94,null,155.30000000000001]
["2001-01-22",70300,null,194]
["2001-01-29",945,null,16.7]
["2001-02-05",945,null,17.399999999999999]
["2001-02-05",300,null,10.3]
["2001-02-05",400,null,7.14]
["2001-02-05",31616,null,250]
["2001-02-06",1351,null,3]
["2001-02-06",300,null,9.6]
["2001-02-06",400,null,7.27]
["2001-02-06",31616,null,340]
["2001-02-06",70300,null,438]
["2001-02-12",1351,null,3]
["2001-02-12",300,null,10.1]
["2001-02-12",530,null,17]
["2001-02-12",70300,null,454]
["2001-02-13",945,null,31]
["2001-02-13",1351,null,3]
["2001-02-13",94,null,716.5]
["2001-02-13",310,"<",4]
["2001-02-13",530,null,12]
["2001-02-13",610,null,0.87]
["2001-02-13",70300,null,465]
["2001-02-13",72053,"<",2]
["2001-02-21",530,null,14]
["2001-03-05",94,null,320]
["2001-03-05",400,null,6.6]
["2001-03-05",31616,null,3200]
["2001-03-06",1351,null,3]
["2001-03-06",1351,null,3]
["2001-03-06",300,null,7.7]
["2001-03-06",400,null,6.7]
["2001-03-06",610,null,0.1]
["2001-03-08",10,null,16.399999999999999]
["2001-03-12",1351,null,3]
["2001-03-12",300,null,8.6]
["2001-03-12",530,null,149]
["2001-03-13",945,null,19]
["2001-03-13",1351,null,3]
["2001-03-13",300,null,7.3]
["2001-03-13",530,null,60]
["2001-03-13",31616,null,2400]
["2001-03-15",400,null,7.1]
["2001-04-02",945,null,4.7]
["2001-04-02",310,"<",4]
["2001-04-02",400,null,6.7]
["2001-04-02",31616,null,820]
["2001-04-03",10,null,16.3]
["2001-04-03",300,null,8.1999999999999993]
["2001-04-03",400,null,6.7]
["2001-04-03",610,"<",0.1]
["2001-04-04",300,null,7.6]
["2001-04-09",1351,null,3]
["2001-04-09",300,null,6.6]
["2001-04-09",530,null,36]
["2001-04-09",70300,null,231]
["2001-04-10",10,null,22.8]
["2001-04-10",94,null,213]
["2001-04-10",530,null,36]
["2001-04-10",31616,null,510]
["2001-04-10",70300,null,202]
["2001-05-07",10,null,20.9]
["2001-05-07",310,"<",4]
["2001-05-07",530,null,103]
["2001-05-08",10,null,23.6]
["2001-05-10",1351,null,3]
["2001-05-10",94,null,173]
["2001-05-10",300,null,7.4]
["2001-05-10",400,null,7.3]
["2001-05-10",610,"<",0.05]
["2001-05-14",1351,null,3]
["2001-05-14",94,null,227]
["2001-05-14",400,null,7.6]
["2001-05-14",31616,null,1800]
["2001-05-15",1351,null,3]
["2001-05-15",94,null,331]
["2001-05-15",400,null,7.5]
["2001-05-15",70300,null,354]
["2001-05-16",945,null,18.8]
["2001-05-23",680,null,5]
["2001-05-23",78,null,0.54]
["2001-05-23",535,null,3]
["2001-05-23",32218,null,14.1]
["2001-06-13",78,null,0.2]
["2001-06-18",1351,null,3]
["2001-06-19",1351,null,3]
["2001-06-19",300,null,7.1]
["2001-06-19",610,null,0.11]
["2001-06-20",945,null,5.57]
["2001-06-20",94,null,122]
["2001-06-20",400,null,6.9]
["2001-06-20",70300,null,146]
["2001-06-25",10,null,27.9]
["2001-06-25",400,null,7.4]
["2001-06-25",70300,null,335]
["2001-06-26",10,null,27.1]
["2001-06-26",94,null,567]
["2001-06-26",610,null,0.76]
["2001-07-16",945,null,30.6]
["2001-07-16",78,null,0.55000000000000004]
["2001-07-16",94,null,789]
["2001-07-16",31699,null,909]
["2001-07-17",1351,null,3]
["2001-07-17",94,null,581]
["2001-07-17",530,null,46]
["2001-07-23",1351,null,3]
["2001-07-23",78,null,0.35]
["2001-07-24",94,null,685]
["2001-07-24",300,null,6.2]
["2001-07-24",610,null,0.06]
["2001-07-25",945,null,31.3]
["2001-07-25",94,null,796]
["2001-07-25",400,null,7.3]
["2001-07-30",61,null,276]
["2001-08-06",78,null,0.38]
["2001-08-13",1351,null,3]
["2001-08-13",94,null,720]
["2001-08-13",530,null,24]
["2001-08-14",625,null,1]
["2001-08-14",1351,null,3]
["2001-08-14",10,null,28.7]
["2001-08-14",300,null,6.29]
["2001-08-14",400,null,7.9]
["2001-08-14",610,"<",0.1]
["2001-08-14",70300,null,466]
["2001-09-17",945,null,9.6]
["2001-09-17",300,null,3.5]
["2001-09-17",310,"<",4]
["2001-09-17",610,null,0.53]
["2001-09-18",945,null,19.2]
["2001-09-18",94,null,559]
["2001-09-18",610,null,0.15]
["2001-09-19",400,null,7.3]
["2001-09-24",10,null,24.8]
["2001-09-24",300,null,6]
["2001-09-24",530,null,22]
["2001-09-25",945,null,7.4]
["2001-09-25",94,null,166]
["2001-09-25",530,null,24]
["2001-09-25",610,"<",0.05]
["2001-10-15",1351,null,3]
["2001-10-15",300,null,7]
["2001-10-15",610,"<",0.05]
["2001-10-16",10,null,19.899999999999999]
["2001-10-16",530,null,24]
["2001-10-22",945,null,4]
["2001-10-22",945,null,4]
["2001-10-22",10,null,21]
["2001-10-22",530,null,47]
["2001-10-23",400,null,7.3]
["2001-10-24",10,null,24]
["2001-10-24",530,null,14]
["2001-11-05",10,null,21.1]
["2001-11-05",300,null,6.6]
["2001-11-05",610,null,0.2]
["2001-11-06",945,null,34]
["2001-11-06",10,null,18.79]
["2001-11-06",300,null,7.8]
["2001-11-06",530,null,32]
["2001-11-06",32211,null,29.4]
["2001-11-08",10,null,20.399999999999999]
["2001-11-13",1351,null,3]
["2001-11-13",300,null,7.1]
["2001-11-13",610,null,0.21]
["2001-11-20",1351,null,3]
["2001-11-20",400,null,7.6]
["2001-11-20",530,null,138]
["2001-12-04",1351,null,3]
["2001-12-04",400,null,7.3]
["2001-12-04",610,null,0.28999999999999998]
["2001-12-05",940,null,17]
["2001-12-05",10,null,19.100000000000001]
["2001-12-05",300,null,8.1]
["2001-12-05",72053,null,3]
["2001-12-10",940,null,26]
["2001-12-10",1351,null,3]
["2001-12-10",400,null,8]
["2001-12-10",610,null,0.08]
["2001-12-11",31699,null,8200]
["2001-12-19",945,"<",10]
["2001-12-19",400,null,7.2]
["2001-12-19",31699,null,190]
["2002-01-07",1351,null,3]
["2002-01-07",400,null,7.6]
["2002-01-07",31699,null,7100]
["2002-01-23",940,null,109]
["2002-01-23",1351,null,3]
["2002-01-23",530,null,28]
["2002-02-13",665,null,1.65]
["2002-02-13",951,null,0.4]
["2002-02-13",10,null,14.4]
["2002-02-13",400,null,7.78]
["2002-02-13",610,null,0.39]
["2002-02-13",31699,null,1137]
["2002-02-20",940,null,102]
["2002-02-20",300,null,8.1]
["2002-02-20",610,null,0.61]
["2002-03-05",945,null,34]
["2002-03-05",300,null,9.6]
["2002-03-05",530,null,15]
["2002-03-11",940,null,106]
["2002-03-11",300,null,7.9]
["2002-03-11",31699,null,380]
["2002-04-01",1351,null,3]
["2002-04-01",400,null,7.6]
["2002-04-01",610,null,0.22]
["2002-04-15",1351,null,3]
["2002-04-16",940,null,54]
["2002-04-16",31699,null,700]
["2002-05-02",1351,null,3]
["2002-05-02",400,null,7.7]
["2002-05-02",31699,null,350]
["2002-05-15",1351,null,3]
["2002-05-15",530,null,37]
["2002-05-23",680,null,5]
["2002-05-23",400,null,7.8]
["2002-05-23",31613,null,360]
["2002-06-04",940,null,115.7]
["2002-06-04",1351,null,3]
["2002-06-04",530,null,22]
["2002-06-04",72053,null,2]
["2002-06-12",10,null,28.2]
["2002-06-12",10,null,27.8]
["2002-07-01",940,null,36.200000000000003]
["2002-07-01",10,null,26.7]
["2002-07-01",530,null,187]
["2002-07-01",530,null,123]
["2002-07-01",72053,null,1]
["2002-07-09",300,null,5.6]
["2002-07-09",610,null,0.06]
["2002-08-05",940,null,15.6]
["2002-08-05",10,null,26.1]
["2002-08-05",31699,null,16000]
["2002-08-05",72053,null,1]
["2002-08-13",410,null,125]
["2002-08-13",89840,null,0]
["2002-08-13",89854,null,3.5]
["2002-08-13",98713,null,1330]
["2002-08-14",945,null,22]
["2002-08-14",410,null,135]
["2002-08-14",32218,null,65.2]
["2002-08-15",1351,null,3]
["2002-08-15",610,null,0.06]
["2002-08-15",72053,"<",1]
["2002-09-03",10,null,28]
["2002-09-03",300,null,5.8]
["2002-09-03",31699,null,220]
["2002-09-11",1351,null,3]
["2002-09-11",400,null,6.4]
["2002-10-03",940,null,99]
["2002-10-03",10,null,26.4]
["2002-10-03",94,null,770]
["2002-10-03",31699,null,930]
["2002-10-24",1351,null,3]
["2002-10-24",400,null,7]
["2002-10-24",530,null,175]
["2002-11-12",10,null,17.5]
["2002-11-12",400,null,6.8]
["2002-11-12",610,null,0.1]
["2002-11-19",1351,null,3]
["2002-11-19",400,null,6]
["2002-11-19",530,null,8]
["2002-11-25",10,null,16.170000000000002]
["2002-11-25",410,null,42]
["2002-11-25",70300,null,77]
["2002-12-10",1351,null,3]
["2002-12-10",1351,null,3]
["2002-12-10",400,null,7]
["2002-12-17",945,"<",10]
["2002-12-17",10,null,14.4]
["2002-12-17",400,null,7]
["2003-01-22",945,null,26.1]
["2003-01-22",1351,null,3]
["2003-01-22",300,null,8.1]
["2003-01-22",610,null,0.25]
["2003-01-30",945,null,18]
["2003-01-30",1351,null,3]
["2003-01-30",94,null,450]
["2003-01-30",400,null,7.4]
["2003-01-30",610,null,0.22]
["2003-01-30",32218,null,8.01]
["2003-02-04",1351,null,3]
["2003-02-04",94,null,747]
["2003-02-04",530,null,58]
["2003-02-18",940,null,44.8]
["2003-02-18",94,null,470]
["2003-02-18",610,null,0.13]
["2003-03-11",945,null,21.2]
["2003-03-11",10,null,19.600000000000001]
["2003-03-11",530,null,41]
["2003-03-20",31699,null,790]
["2003-04-01",10,null,18.100000000000001]
["2003-04-01",530,null,41]
["2003-04-07",945,null,35]
["2003-04-07",1351,null,3]
["2003-04-07",400,null,7.6]
["2003-04-28",1351,null,2]
["2003-04-28",89840,null,0]
["2003-04-28",89854,null,91.2]
["2003-04-28",89950,null,3]
["2003-04-28",90054,null,12.82]
["2003-04-28",92628,null,2]
["2003-05-01",940,null,195]
["2003-05-01",10,null,24.2]
["2003-05-01",94,null,1060]
["2003-05-01",530,null,34]
["2003-05-06",945,null,39]
["2003-05-06",94,null,873]
["2003-05-06",610,null,0.27]
["2003-05-07",625,null,1.75]
["2003-05-07",61,null,56]
["2003-05-07",610,null,0.12]
["2003-06-03",940,null,122]
["2003-06-03",10,null,27.5]
["2003-06-03",530,null,27]
["2003-06-03",31699,null,590]
["2003-06-25",945,null,21]
["2003-06-25",300,null,5.8]
["2003-06-25",31699,null,310]
["2003-07-08",945,null,11]
["2003-07-08",300,null,7]
["2003-07-09",940,null,36]
["2003-07-09",945,null,15]
["2003-07-09",94,null,378]
["2003-07-09",530,null,88]
["2003-07-09",70300,null,288]
["2003-07-31",1351,null,3]
["2003-07-31",410,null,156]
["2003-07-31",70507,null,1.02]
["2003-08-04",1351,null,3]
["2003-08-04",300,null,5.9]
["2003-08-04",610,null,0.04]
["2003-08-14",940,null,49]
["2003-08-14",94,null,416]
["2003-08-14",400,null,7.5]
["2003-09-03",665,null,0.39]
["2003-09-03",951,"<",0.2]
["2003-09-03",94,null,342]
["2003-09-03",400,null,7.7]
["2003-09-03",620,null,1.06]
["2003-09-04",940,null,36]
["2003-09-04",951,null,0.32]
["2003-09-04",310,"<",4]
["2003-09-04",310,"<",4]
["2003-09-04",620,null,0.65]
["2003-10-13",665,null,0.35]
["2003-10-13",951,"<",0.2]
["2003-10-13",300,null,5.9]
["2003-10-13",400,null,7.4]
["2003-10-13",620,null,0.43]
["2003-10-14",665,null,0.38]
["2003-10-14",10,null,25.8]
["2003-10-14",310,"<",4]
["2003-10-14",610,"<",0.03]
["2003-11-03",665,null,1.32]
["2003-11-03",951,null,0.35]
["2003-11-03",94,null,653]
["2003-11-03",530,null,14]
["2003-11-03",620,null,4.8499999999999996]
["2003-11-04",945,null,27]
["2003-11-04",1351,null,3]
["2003-11-04",400,null,7.6]
["2003-11-04",620,null,7.39]
["2003-11-05",680,null,5]
["2003-11-05",410,null,166]
["2003-11-05",620,null,5.75]
["2003-12-02",665,null,0.42]
["2003-12-02",951,"<",0.2]
["2003-12-02",94,null,222]
["2003-12-02",530,null,36]
["2003-12-02",31699,null,120]
["2003-12-11",940,null,68]
["2003-12-11",10,null,11.2]
["2003-12-11",314,"<",4]
["2003-12-11",530,null,40]
["2003-12-11",72053,null,2]
["2004-01-07",945,null,32]
["2004-01-07",951,null,0.47]
["2004-01-07",314,"<",4]
["2004-01-07",610,null,0.06]
["2004-01-07",31699,null,430]
["2004-01-08",951,null,0.25]
["2004-01-08",951,null,0.28999999999999998]
["2004-01-08",300,null,11.4]
["2004-01-08",530,null,34]
["2004-01-08",31699,null,8800]
["2004-02-02",940,null,39]
["2004-02-02",94,null,371]
["2004-02-02",300,null,8.6]
["2004-02-02",530,null,70]
["2004-02-02",70300,null,242]
["2004-02-05",665,null,0.28999999999999998]
["2004-02-05",951,null,0.28000000000000003]
["2004-02-05",10,null,13.1]
["2004-02-05",400,null,7.4]
["2004-02-05",610,null,0.15]
["2004-02-05",70300,null,229]
["2004-02-12",951,null,0.13]
["2004-02-12",300,null,10.4]
["2004-02-12",31699,null,5800]
["2004-03-01",665,null,0.69]
["2004-03-01",951,"<",0.2]
["2004-03-01",94,null,348]
["2004-03-01",610,null,0.23]
["2004-03-01",620,null,1.85]
["2004-03-01",72053,"<",1]
["2004-03-04",951,null,0.3]
["2004-03-04",400,null,7.3]
["2004-03-04",620,null,3.47]
["2004-04-06",665,null,1.55]
["2004-04-06",940,null,120]
["2004-04-06",94,null,854]
["2004-04-06",400,null,7.7]
["2004-04-06",610,null,0.31]
["2004-04-06",72053,">",7]
["2004-04-13",945,null,7]
["2004-04-13",94,null,127]
["2004-04-13",314,"<",4]
["2004-04-13",620,null,0.73]
["2004-05-04",665,null,0.32]
["2004-05-04",951,"<",0.2]
["2004-05-04",94,null,124]
["2004-05-04",94,null,145]
["2004-05-04",530,null,36]
["2004-05-04",620,null,0.51]
["2004-05-04",72053,null,3]
["2004-05-06",94,null,89]
["2004-05-06",300,null,7.3]
["2004-05-06",480,"<",1]
["2004-05-06",31699,null,110]
["2004-05-11",1351,null,5]
["2004-05-11",94,null,150]
["2004-05-11",620,null,0.93]
["2004-06-02",665,null,1.19]
["2004-06-02",951,null,0.4]
["2004-06-02",94,null,806]
["2004-06-02",530,null,35]
["2004-06-02",620,null,4.4800000000000004]
["2004-06-10",665,null,0.32]
["2004-06-10",1351,null,3]
["2004-06-10",314,"<",4]
["2004-06-10",610,null,0.11]
["2004-06-10",72053,null,2]
["2004-07-01",940,null,19]
["2004-07-01",10,null,26.4]
["2004-07-01",314,"<",4]
["2004-07-01",620,null,0.65]
["2004-07-01",72053,null,1]
["2004-07-13",1351,null,3]
["2004-07-13",314,"<",4]
["2004-07-13",400,null,6.6]
["2004-07-13",70300,null,117]
["2004-07-24",530,null,194]
["2004-07-25",671,null,0.95]
["2004-07-25",82553,null,1.0629999999999999]
["2004-07-25",70300,null,264]
["2004-08-05",665,null,1.1599999999999999]
["2004-08-05",1351,null,3]
["2004-08-05",300,null,5.2]
["2004-08-05",610,null,0.09]
["2004-08-05",70300,null,435]
["2004-08-05",70300,null,430]
["2004-08-09",82554,null,0]
["2004-08-10",10,null,28.8]
["2004-08-10",314,"<",4]
["2004-08-10",610,null,0.08]
["2004-08-18",625,null,1.17]
["2004-08-18",1351,null,3]
["2004-08-18",535,null,2]
["2004-08-19",671,null,2.1800000000000002]
["2004-08-19",680,null,8.9700000000000006]
["2004-08-19",4665,"<",1.61649]
["2004-08-19",4672,"<",0.14144200000000001]
["2004-08-19",4680,"<",1.61649]
["2004-08-19",4687,null,4.2431999999999997E-2]
["2004-08-19",4696,null,82.440899999999999]
["2004-08-19",4708,"<",0.14144200000000001]
["2004-08-19",10,null,28.7]
["2004-08-19",94,null,759]
["2004-08-19",400,null,8.1]
["2004-08-19",530,null,143]
["2004-08-19",32000,null,707]
["2004-08-19",82554,null,0.1575]
["2004-08-19",70300,null,336]
["2004-08-19",34751,"<",2.8288000000000001E-2]
["2004-08-27",530,null,71]
["2004-08-28",671,null,3.57]
["2004-08-28",94,null,432]
["2004-08-28",300,null,4]
["2004-08-28",400,null,8]
["2004-08-28",82553,null,0.47239999999999999]
["2004-08-28",82554,null,1.4961]
["2004-08-28",70300,null,216]
["2004-08-31",680,null,10.199999999999999]
["2004-08-31",4664,"<",0.30674800000000002]
["2004-08-31",4672,"<",0.30674800000000002]
["2004-08-31",4677,"<",2.9158599999999999]
["2004-08-31",4687,"<",6.1349000000000001E-2]
["2004-08-31",4696,null,87.475800000000007]
["2004-08-31",4697,"<",0.30674800000000002]
["2004-08-31",4703,null,612.33100000000002]
["2004-08-31",32000,null,326]
["2004-09-02",951,null,0.4]
["2004-09-02",10,null,26]
["2004-09-02",314,"<",4]
["2004-09-02",620,null,4.95]
["2004-09-29",940,null,104]
["2004-09-29",1351,null,3]
["2004-09-29",314,"<",4]
["2004-10-05",665,null,1.01]
["2004-10-05",940,null,70]
["2004-10-05",1351,null,3]
["2004-10-05",300,null,5.4]
["2004-10-05",610,null,0.13]
["2004-10-05",70300,null,201]
["2004-10-14",940,null,51]
["2004-10-14",10,null,21.5]
["2004-10-14",400,null,7.8]
["2004-10-14",31699,null,1200]
["2004-11-02",945,null,6]
["2004-11-02",94,null,204]
["2004-11-02",31699,null,8200]
["2004-11-02",72053,null,0]
["2004-11-03",951,null,0.2]
["2004-11-03",94,null,235]
["2004-11-03",530,null,82]
["2004-11-03",620,null,1.24]
["2004-11-03",70300,null,222]
["2004-11-03",89965,null,2]
["2004-11-03",89969,null,1]
["2004-11-10",945,null,21]
["2004-11-10",10,null,20.2]
["2004-11-10",480,"<",1]
["2004-11-10",70300,null,398]
["2004-11-10",89966,null,2]
["2004-11-10",89971,null,6]
["2004-12-01",951,"<",0.2]
["2004-12-01",300,null,7.8]
["2004-12-01",530,null,10]
["2004-12-01",610,null,0.03]
["2004-12-01",31699,null,70]
["2004-12-01",88842,null,2]
["2004-12-01",89969,null,1]
["2004-12-02",671,null,0.12]
["2004-12-02",951,"<",0.2]
["2004-12-02",314,"<",4]
["2004-12-02",400,null,7.2]
["2004-12-02",620,null,0.22]
["2004-12-02",70300,null,107]
["2004-12-02",88842,null,3]
["2004-12-02",89969,null,1]
["2005-01-05",671,null,1.57]
["2005-01-05",10,null,20.5]
["2005-01-05",300,null,8]
["2005-01-05",530,null,51]
["2005-01-05",31699,null,280]
["2005-01-05",89965,null,2]
["2005-01-05",89969,null,3]
["2005-01-11",951,null,0.4]
["2005-01-11",10,null,19.3]
["2005-01-11",314,"<",4]
["2005-01-11",530,null,19]
["2005-01-11",620,null,7.34]
["2005-01-11",72053,">",7]
["2005-01-11",89966,null,1]
["2005-02-03",665,null,0.3]
["2005-02-03",945,null,6]
["2005-02-03",10,null,9]
["2005-02-03",314,"<",4]
["2005-02-03",530,null,68]
["2005-02-03",20424,null,4]
["2005-02-03",72053,null,2]
["2005-02-03",88842,null,3]
["2005-02-03",89971,null,6]
["2005-02-09",1351,null,5]
["2005-02-09",410,null,39]
["2005-02-09",70507,null,0.3]
["2005-02-21",945,null,14]
["2005-02-21",951,"<",0.2]
["2005-02-21",94,null,371]
["2005-02-21",480,"<",1]
["2005-02-21",20424,null,4]
["2005-02-21",88842,null,3]
["2005-02-21",89968,null,2]
["2005-03-03",940,null,13]
["2005-03-03",10,null,14.5]
["2005-03-03",94,null,181]
["2005-03-03",480,"<",1]
["2005-03-03",610,null,0.08]
["2005-03-03",70300,null,274]
["2005-03-03",89965,null,2]
["2005-03-03",89971,null,6]
["2005-03-21",671,null,0.98]
["2005-03-21",1351,null,3]
["2005-03-21",300,null,8]
["2005-03-21",610,null,0.49]
["2005-03-21",31699,null,1700]
["2005-03-21",89965,null,2]
["2005-03-21",89968,null,2]
["2005-04-18",940,null,118]
["2005-04-18",1351,null,3]
["2005-04-18",300,null,7.6]
["2005-04-18",480,"<",1]
["2005-04-18",620,null,5.82]
["2005-04-18",70300,null,470]
["2005-04-18",88842,null,2]
["2005-04-18",89969,null,1]
["2005-04-27",940,null,139]
["2005-04-27",10,null,19.7]
["2005-04-27",400,null,7.9]
["2005-04-27",620,null,6.61]
["2005-04-27",31699,null,400]
["2005-04-27",89966,null,1]
["2005-05-04",665,null,1.85]
["2005-05-04",1351,null,3]
["2005-05-04",10,null,20.7]
["2005-05-04",530,null,64]
["2005-05-04",31699,null,4500]
["2005-05-04",88842,null,2]
["2005-05-04",89965,null,2]
["2005-05-04",89971,null,6]
["2005-05-09",945,null,10]
["2005-05-09",10,null,19.2]
["2005-05-09",314,"<",4]
["2005-05-09",610,null,0.22]
["2005-05-09",20424,null,4]
["2005-05-09",72053,null,1]
["2005-05-09",89966,null,2]
["2005-05-09",89971,null,6]
["2005-05-17",951,null,0.37]
["2005-05-17",410,null,138]
["2005-05-17",32211,null,10.7]
["2005-08-10",945,null,14]
["2005-08-10",410,null,106]
["2005-08-10",70507,null,0.42]
["2005-09-27",940,null,108]
["2005-09-27",10,null,28.1]
["2005-09-27",314,"<",4]
["2005-09-27",530,null,34]
["2005-09-27",70300,null,451]
["2005-09-27",89966,null,1]
["2005-09-28",665,null,1.36]
["2005-09-28",945,null,31]
["2005-09-28",10,null,28.6]
["2005-09-28",300,null,5]
["2005-09-28",530,null,15]
["2005-09-28",20424,null,2]
["2005-09-28",72053,null,5]
["2005-09-28",89965,null,2]
["2005-10-11",665,null,0.66]
["2005-10-11",1351,null,3]
["2005-10-11",94,null,491]
["2005-10-11",530,null,38]
["2005-10-11",31699,null,3400]
["2005-10-11",70300,null,360]
["2005-10-11",89971,null,6]
["2005-10-24",945,null,37]
["2005-10-24",1351,null,2]
["2005-10-24",10,null,19.3]
["2005-10-24",314,"<",4]
["2005-10-24",530,null,12]
["2005-10-24",31699,null,2100]
["2005-10-24",72053,">",7]
["2005-10-24",89968,null,2]
["2005-11-16",1351,null,3]
["2005-11-16",78,null,0.13]
["2005-11-16",593,null,2.92]
["2005-11-23",665,null,2.04]
["2005-11-23",951,null,0.4]
["2005-11-23",300,null,9.3000000000000007]
["2005-11-23",530,null,21]
["2005-11-23",20424,null,2]
["2005-11-23",88842,null,1]
["2005-11-23",89969,null,3]
["2005-11-28",945,null,17]
["2005-11-28",1351,null,3]
["2005-11-28",300,null,7.3]
["2005-11-28",480,"<",1]
["2005-11-28",620,null,2.57]
["2005-11-28",70300,null,269]
["2005-11-28",89965,null,2]
["2005-11-28",89968,null,2]
["2005-12-16",945,null,6]
["2005-12-16",94,null,139]
["2005-12-16",400,null,7.2]
["2005-12-16",620,null,0.6]
["2005-12-16",72053,null,2]
["2005-12-16",88842,null,3]
["2005-12-19",665,null,0.4]
["2005-12-19",945,"<",8]
["2005-12-19",10,null,10.8]
["2005-12-19",400,null,7.2]
["2005-12-19",610,null,0.04]
["2005-12-19",31699,null,860]
["2005-12-19",72053,null,2]
["2005-12-19",89968,null,2]
["2006-01-04",671,null,1.94]
["2006-01-04",951,null,0.4]
["2006-01-04",951,null,0.3]
["2006-01-04",300,null,8.9]
["2006-01-04",610,"<",0.03]
["2006-01-04",31699,null,1200]
["2006-01-04",89965,null,2]
["2006-01-04",89969,null,3]
["2006-01-12",945,null,43]
["2006-01-12",10,null,16.5]
["2006-01-12",314,"<",4]
["2006-01-12",610,null,0.21]
["2006-01-12",20424,null,2]
["2006-01-12",72053,">",7]
["2006-01-12",89966,null,3]
["2006-01-12",89971,null,6]
["2006-02-08",1351,null,3]
["2006-02-08",530,null,17]
["2006-02-14",665,null,0.9]
["2006-02-14",945,null,22]
["2006-02-14",94,null,436]
["2006-02-14",400,null,7.8]
["2006-02-14",620,null,3.42]
["2006-02-14",72053,null,4]
["2006-02-14",89965,null,1]
["2006-02-28",665,null,1.1499999999999999]
["2006-02-28",951,null,0.3]
["2006-02-28",94,null,531]
["2006-02-28",400,null,7.6]
["2006-02-28",620,null,4.72]
["2006-02-28",70300,null,345]
["2006-02-28",72053,null,3]
["2006-02-28",89969,null,1]
["2006-03-15",671,null,2.37]
["2006-03-15",951,null,0.4]
["2006-03-15",300,null,8.1999999999999993]
["2006-03-15",530,null,24]
["2006-03-15",620,null,8.6300000000000008]
["2006-03-15",89965,null,2]
["2006-03-15",89969,null,1]
["2006-03-15",89971,null,6]
["2006-03-22",945,null,44]
["2006-03-22",10,null,18.3]
["2006-03-22",314,"<",4]
["2006-03-22",610,null,0.15]
["2006-03-22",20424,null,3]
["2006-03-22",72053,null,3]
["2006-03-22",89966,null,3]
["2006-03-22",89971,null,6]
["2006-04-05",940,null,83]
["2006-04-05",1351,null,3]
["2006-04-05",480,"<",1]
["2006-04-05",530,null,39]
["2006-04-05",20424,null,3]
["2006-04-05",88842,null,2]
["2006-04-05",89968,null,2]
["2006-04-19",940,null,124]
["2006-04-19",94,null,881]
["2006-04-19",314,"<",4]
["2006-04-19",610,null,0.28000000000000003]
["2006-04-19",70300,null,537]
["2006-04-19",89966,null,2]
["2006-04-19",89971,null,6]
["2006-05-02",951,"<",0.2]
["2006-05-02",10,null,24.6]
["2006-05-02",314,"<",4]
["2006-05-02",610,null,0.09]
["2006-05-02",31699,null,640]
["2006-05-02",72053,null,2]
["2006-05-02",89968,null,2]
["2006-05-02",89969,null,1]
["2006-05-04",951,null,0.2]
["2006-05-04",300,null,5.8]
["2006-05-04",530,null,133]
["2006-05-04",610,null,0.11]
["2006-05-04",88842,null,3]
["2006-05-04",89969,null,1]
["2006-05-09",671,null,0.56000000000000005]
["2006-05-09",300,null,6.9]
["2006-05-09",400,null,7.3]
["2006-05-09",70953,null,11.1]
["2006-06-01",940,null,33]
["2006-06-01",10,null,24.4]
["2006-06-01",314,null,4]
["2006-06-01",610,null,0.08]
["2006-06-01",70300,null,242]
["2006-06-01",89966,null,2]
["2006-06-21",665,null,0.39]
["2006-06-21",940,null,21]
["2006-06-21",1351,null,5]
["2006-06-21",300,null,5.8]
["2006-06-21",480,"<",1]
["2006-06-21",20424,null,4]
["2006-06-21",72053,null,1]
["2006-06-21",89965,null,2]
["2006-06-21",89971,null,6]
["2006-07-10",945,"<",8]
["2006-07-10",94,null,158]
["2006-07-10",480,"<",1]
["2006-07-10",620,null,0.34]
["2006-07-10",88842,null,2]
["2006-07-10",89968,null,2]
["2006-07-20",665,null,1.02]
["2006-07-20",951,null,0.3]
["2006-07-20",94,null,579]
["2006-07-20",480,"<",1]
["2006-07-20",620,null,6.25]
["2006-07-20",70300,null,484]
["2006-07-20",89965,null,1]
["2006-07-20",89969,null,1]
["2006-08-07",665,null,0.45]
["2006-08-07",10,null,28.9]
["2006-08-07",314,"<",4]
["2006-08-07",480,"<",1]
["2006-08-07",70300,null,280]
["2006-08-07",89966,null,2]
["2006-08-14",665,null,1.1100000000000001]
["2006-08-14",945,null,29]
["2006-08-14",951,null,0.4]
["2006-08-14",94,null,542]
["2006-08-14",400,null,7.6]
["2006-08-14",610,null,0.15]
["2006-08-14",31699,null,370]
["2006-08-14",89966,null,2]
["2006-08-14",89968,null,2]
["2006-08-29",625,null,0.99]
["2006-08-29",94,null,650]
["2006-08-29",610,null,0.08]
["2006-09-19",671,null,0.92]
["2006-09-19",951,null,0.2]
["2006-09-19",10,null,25.8]
["2006-09-19",400,null,7.7]
["2006-09-19",610,null,0.08]
["2006-09-19",70300,null,228]
["2006-09-19",88842,null,3]
["2006-09-19",89968,null,2]
["2006-09-19",89971,null,6]
["2006-09-26",951,"<",0.2]
["2006-09-26",300,null,7.2]
["2006-09-26",530,null,30]
["2006-09-26",610,"<",0.03]
["2006-09-26",88842,null,3]
["2006-09-26",89969,null,1]
["2006-10-05",940,null,94]
["2006-10-05",10,null,26.1]
["2006-10-05",400,null,7.9]
["2006-10-05",480,"<",1]
["2006-10-05",72053,">",7]
["2006-10-05",89966,null,1]
["2006-10-19",665,null,0.25]
["2006-10-19",951,"<",0.2]
["2006-10-19",94,null,243]
["2006-10-19",400,null,7.6]
["2006-10-19",530,null,103]
["2006-10-19",31699,null,3100]
["2006-10-19",88842,null,3]
["2006-10-19",89968,null,2]
["2006-11-07",665,null,0.71]
["2006-11-07",665,null,1.41]
["2006-11-07",300,null,7.5]
["2006-11-07",593,null,6.01]
["2006-11-20",665,null,1.43]
["2006-11-20",951,null,0.5]
["2006-11-20",94,null,786]
["2006-11-20",400,null,7.8]
["2006-11-20",610,null,0.06]
["2006-11-20",72053,">",7]
["2006-11-20",88842,null,2]
["2006-11-20",89968,null,1]
["2006-11-29",665,null,1.54]
["2006-11-29",1351,null,3]
["2006-11-29",314,"<",4]
["2006-11-29",610,null,0.16]
["2006-11-29",20424,null,3]
["2006-11-29",89965,null,2]
["2006-11-29",89971,null,6]
["2006-12-07",940,null,106]
["2006-12-07",1351,null,3]
["2006-12-07",300,null,8.4]
["2006-12-07",400,null,7.8]
["2006-12-07",620,null,12.7]
["2006-12-07",70300,null,496]
["2006-12-07",89966,null,3]
["2006-12-07",89971,null,6]
["2006-12-11",945,null,25]
["2006-12-11",94,null,767]
["2006-12-11",300,null,9.1999999999999993]
["2006-12-11",620,null,10.9]
["2006-12-11",72053,null,2]
["2006-12-11",89969,null,1]
["2007-01-23",940,null,64]
["2007-01-23",1351,null,3]
["2007-01-23",94,null,333]
["2007-01-23",480,"<",1]
["2007-01-23",620,null,2.06]
["2007-01-23",70300,null,292]
["2007-01-23",70300,null,333]
["2007-01-23",89966,null,4]
["2007-01-23",89971,null,6]
["2007-01-29",10,null,10.6]
["2007-01-29",300,null,10.1]
["2007-01-29",480,"<",1]
["2007-01-29",31699,null,460]
["2007-01-29",89965,null,2]
["2007-01-29",89971,null,6]
["2007-02-15",951,null,0.49]
["2007-02-15",610,null,0.12]
["2007-02-15",70953,null,3.78]
["2007-02-22",945,null,29]
["2007-02-22",94,null,772]
["2007-02-22",480,"<",1]
["2007-02-22",20424,null,3]
["2007-02-22",89966,null,1]
["2007-02-22",89969,null,6]
["2007-02-28",940,null,88]
["2007-02-28",10,null,20.399999999999999]
["2007-02-28",314,"<",4]
["2007-02-28",480,"<",1]
["2007-02-28",20424,null,3]
["2007-02-28",70300,null,400]
["2007-02-28",89968,null,2]
["2007-03-12",665,null,1.07]
["2007-03-12",951,null,0.2]
["2007-03-12",300,null,7.6]
["2007-03-12",480,"<",1]
["2007-03-12",610,null,0.19]
["2007-03-12",89965,null,2]
["2007-03-12",89971,null,6]
["2007-03-15",940,null,8]
["2007-03-15",945,null,7]
["2007-03-15",300,null,7.8]
["2007-03-15",480,"<",1]
["2007-03-15",610,null,0.05]
["2007-03-15",70300,null,238]
["2007-03-15",89966,null,2]
["2007-03-15",89966,null,2]
["2007-03-15",89971,null,6]
["2007-04-16",951,null,0.3]
["2007-04-16",94,null,590]
["2007-04-16",620,null,5.4]
["2007-04-16",20424,null,3]
["2007-04-16",89965,null,2]
["2007-04-19",665,null,0.97]
["2007-04-19",945,null,19]
["2007-04-19",94,null,382]
["2007-04-19",610,null,0.06]
["2007-04-19",620,null,3.34]
["2007-04-19",72053,null,2]
["2007-04-19",89969,null,1]
["2007-05-15",1351,null,3]
["2007-05-15",94,null,217]
["2007-05-15",400,null,7.6]
["2007-05-15",620,null,1.1299999999999999]
["2007-05-15",72053,null,2]
["2007-05-15",89969,null,1]
["2007-05-21",945,null,42]
["2007-05-21",1351,null,3]
["2007-05-21",300,null,7]
["2007-05-21",480,"<",1]
["2007-05-21",20424,null,3]
["2007-05-21",72053,">",7]
["2007-05-21",89968,null,1]
["2007-05-21",89971,null,6]
["2007-06-04",78,null,0.16]
["2007-06-04",593,null,0.72]
["2007-06-11",671,null,1.29]
["2007-06-11",1351,null,3]
["2007-06-11",300,null,7.2]
["2007-06-11",400,null,8]
["2007-06-11",31699,null,370]
["2007-06-11",89966,null,2]
["2007-06-18",665,null,0.34]
["2007-06-18",940,null,14]
["2007-06-18",10,null,26.5]
["2007-06-18",314,null,4]
["2007-06-18",400,null,7.7]
["2007-06-18",530,null,196]
["2007-06-18",20424,null,4]
["2007-06-18",72053,null,1]
["2007-06-18",89969,null,1]
["2007-07-10",940,"<",8]
["2007-07-10",10,null,26.5]
["2007-07-10",530,null,28]
["2007-07-10",620,"<",0.2]
["2007-07-10",72053,null,3]
["2007-07-10",89968,null,2]
["2007-07-24",940,"<",8]
["2007-07-24",1351,null,5]
["2007-07-24",314,"<",4]
["2007-07-24",480,"<",1]
["2007-07-24",620,"<",0.2]
["2007-07-24",70300,null,129]
["2007-07-24",89966,null,1]
["2007-07-24",89971,null,6]
["2007-08-13",951,"<",0.2]
["2007-08-13",314,null,7]
["2007-08-13",480,"<",1]
["2007-08-13",20424,null,1]
["2007-08-13",72053,">",7]
["2007-08-13",89969,null,1]
["2007-08-14",945,"<",8]
["2007-08-14",10,null,29.3]
["2007-08-14",314,null,6]
["2007-08-14",530,null,47]
["2007-08-14",20424,null,2]
["2007-08-14",72053,">",7]
["2007-08-14",89968,null,2]
["2007-08-22",625,null,0.99]
["2007-08-22",940,null,17]
["2007-08-22",530,null,25]
["2007-09-13",665,null,1.6]
["2007-09-13",945,null,13]
["2007-09-13",94,null,625]
["2007-09-13",480,"<",1]
["2007-09-13",31699,null,740]
["2007-09-13",72053,null,1]
["2007-09-13",89965,null,2]
["2007-09-13",89971,null,6]
["2007-09-17",940,null,98]
["2007-09-17",1351,null,2]
["2007-09-17",94,null,751]
["2007-09-17",530,null,16]
["2007-09-17",620,null,6.42]
["2007-09-17",70300,null,485]
["2007-09-17",89966,null,1]
["2007-09-17",89971,null,6]
["2007-10-04",951,"<",0.5]
["2007-10-04",78,null,0.08]
["2007-10-04",400,null,8]
["2007-10-04",31699,null,210]
["2007-10-04",89965,null,2]
["2007-10-04",89971,null,6]
["2007-10-23",945,null,26]
["2007-10-23",10,null,19.100000000000001]
["2007-10-23",78,null,0.11]
["2007-10-23",530,null,40]
["2007-10-23",31699,null,2000]
["2007-10-23",72053,">",7]
["2007-10-23",89969,null,6]
["2007-11-07",625,null,1.18]
["2007-11-07",10,null,20]
["2007-11-07",410,null,166]
["2007-11-13",665,null,2.13]
["2007-11-13",951,null,0.5]
["2007-11-13",78,null,0.3]
["2007-11-13",400,null,7.9]
["2007-11-13",610,null,0.2]
["2007-11-13",82903,null,3.1]
["2007-11-13",72053,">",7]
["2007-11-13",89969,null,3]
["2007-11-14",940,null,121]
["2007-11-14",945,null,39]
["2007-11-14",400,null,7.9]
["2007-11-14",610,"<",0.1]
["2007-11-14",82903,"<",1]
["2007-11-14",70300,null,548]
["2007-11-14",89968,null,2]
["2008-01-17",671,null,0.52]
["2008-01-17",951,"<",0.5]
["2008-01-17",94,null,231]
["2008-01-17",530,null,46]
["2008-01-17",89965,null,3]
["2008-01-17",89966,null,3]
["2008-01-28",665,null,0.35]
["2008-01-28",945,null,11]
["2008-01-28",10,null,11.1]
["2008-01-28",300,null,9.6999999999999993]
["2008-01-28",480,"<",1]
["2008-01-28",31699,null,290]
["2008-01-28",89965,null,2]
["2008-01-28",89969,null,1]
["2008-02-06",945,null,26]
["2008-02-06",94,null,690]
["2008-02-06",31699,null,1700]
["2008-02-18",665,null,0.47]
["2008-02-18",94,null,373]
["2008-02-18",610,"<",0.1]
["2008-02-18",89965,null,2]
["2008-02-19",665,null,0.56000000000000005]
["2008-02-19",400,null,6.8]
["2008-02-19",89965,null,2]
["2008-02-21",665,null,0.28999999999999998]
["2008-02-21",78,null,0.05]
["2008-02-21",530,null,106]
["2008-02-21",610,"<",0.1]
["2008-02-21",89968,null,2]
["2008-03-24",671,null,1.22]
["2008-03-24",945,null,38]
["2008-03-24",78,null,0.23]
["2008-03-24",400,null,7.8]
["2008-03-24",400,null,7.9]
["2008-03-24",82903,null,0.64]
["2008-03-24",89965,null,2]
["2008-03-24",89965,null,2]
["2008-03-27",665,null,1.6]
["2008-03-27",671,null,1.65]
["2008-03-27",1351,null,3]
["2008-03-27",400,null,8.1]
["2008-03-27",530,null,54]
["2008-03-27",70300,null,556]
["2008-03-27",89971,null,6]
["2008-04-24",665,null,2.2799999999999998]
["2008-04-24",1351,null,3]
["2008-04-24",300,null,6]
["2008-04-24",620,null,4.62]
["2008-04-24",82903,null,0.15]
["2008-04-24",89966,null,3]
["2008-04-29",665,null,1.39]
["2008-04-29",1351,null,3]
["2008-04-29",300,null,7.1]
["2008-04-29",610,null,0.24]
["2008-04-29",70300,null,400]
["2008-04-29",89968,null,2]
["2008-05-06",665,null,1.38]
["2008-05-06",78,null,0.1]
["2008-05-06",593,null,3.82]
["2008-06-05",665,null,1.91]
["2008-06-05",940,null,115]
["2008-06-05",94,null,811]
["2008-06-05",480,"<",1]
["2008-06-05",31699,null,560]
["2008-06-05",89965,null,3]
["2008-06-05",89971,null,6]
["2008-06-24",665,null,1.49]
["2008-06-24",1351,null,2]
["2008-06-24",94,null,615]
["2008-06-24",480,"<",1]
["2008-06-24",620,null,3.01]
["2008-06-24",70300,null,381]
["2008-06-24",89966,null,3]
["2008-06-24",89969,null,5]
["2008-08-06",951,"<",0.5]
["2008-08-06",78,null,0.28000000000000003]
["2008-08-06",480,"<",1]
["2008-08-06",480,"<",1]
["2008-08-06",31699,null,450]
["2008-08-06",89965,null,3]
["2008-08-18",665,null,0.83]
["2008-08-18",945,null,18]
["2008-08-18",10,null,27.8]
["2008-08-18",300,null,5.7]
["2008-08-18",530,null,52]
["2008-08-18",31699,null,960]
["2008-08-18",89966,null,3]
["2008-08-18",89969,null,1]
["2008-08-20",940,null,21]
["2008-08-20",94,null,260]
["2008-08-20",535,null,8]
["2008-09-03",665,null,1.86]
["2008-09-03",945,null,28]
["2008-09-03",300,null,5.8]
["2008-09-03",480,"<",1]
["2008-09-03",31699,null,700]
["2008-09-03",89966,null,2]
["2008-09-29",665,null,0.72]
["2008-09-29",945,null,40]
["2008-09-29",1351,null,2]
["2008-09-29",300,null,4.5999999999999996]
["2008-09-29",530,null,5]
["2008-09-29",31699,null,230]
["2008-09-29",89966,null,1]
["2008-09-29",89971,null,6]
["2008-10-08",300,null,6.6]
["2008-10-08",82903,null,0.91]
["2008-10-08",89971,null,1]
["2008-10-20",945,null,9]
["2008-10-20",10,null,22]
["2008-10-20",300,null,6.2]
["2008-10-20",530,null,20]
["2008-10-20",31699,null,210]
["2008-10-20",72053,null,5]
["2008-10-20",89969,null,1]
["2008-10-20",89969,null,1]
["2008-11-05",665,null,2.2000000000000002]
["2008-11-05",945,null,37]
["2008-11-05",10,null,21.8]
["2008-11-05",400,null,7.7]
["2008-11-05",480,"<",1]
["2008-11-05",610,"<",0.1]
["2008-11-05",82903,null,0.46]
["2008-11-05",89966,null,2]
["2008-11-05",89971,null,6]
["2008-11-17",945,null,6]
["2008-11-17",94,null,124]
["2008-11-17",300,null,8.1]
["2008-11-17",610,"<",0.1]
["2008-11-17",70300,null,72]
["2008-11-17",89965,null,2]
["2008-11-17",89971,null,6]
["2009-01-08",951,"<",0.5]
["2009-01-08",10,null,13.3]
["2009-01-08",400,null,7.9]
["2009-01-08",610,null,0.37]
["2009-01-08",72053,null,3]
["2009-01-08",89968,null,2]
["2009-01-27",671,null,2.2000000000000002]
["2009-01-27",945,null,52]
["2009-01-27",10,null,18]
["2009-01-27",400,null,7.9]
["2009-01-27",610,null,0.48]
["2009-01-27",31699,null,490]
["2009-01-27",89965,null,3]
["2009-01-27",89969,null,5]
["2009-02-11",665,null,1.95]
["2009-02-11",78,null,0.11]
["2009-02-11",610,null,0.19]
["2009-02-11",82903,null,0.9]
["2009-03-05",1351,null,3]
["2009-03-05",300,null,9.8000000000000007]
["2009-03-05",530,null,30]
["2009-03-05",70300,null,482]
["2009-03-05",70300,null,506]
["2009-03-05",89968,null,2]
["2009-03-16",940,null,28]
["2009-03-16",951,"<",0.5]
["2009-03-16",78,null,0.11]
["2009-03-16",400,null,7.8]
["2009-03-16",610,null,0.25]
["2009-03-16",82903,null,2.0699999999999998]
["2009-03-16",89966,null,2]
["2009-03-16",89969,null,1]
["2009-04-09",940,null,103]
["2009-04-09",1351,null,3]
["2009-04-09",300,null,9.1]
["2009-04-09",610,"<",0.1]
["2009-04-09",70300,null,478]
["2009-04-09",89969,null,5]
["2009-04-14",665,null,0.95]
["2009-04-14",951,"<",0.5]
["2009-04-14",10,null,21.8]
["2009-04-14",400,null,7.7]
["2009-04-14",610,null,0.43]
["2009-04-14",70300,null,199]
["2009-04-14",89965,null,2]
["2009-04-14",89969,null,1]
["2009-05-14",680,null,8]
["2009-05-14",78,null,0.18]
["2009-05-14",31699,null,31]
["2009-06-04",671,null,1.31]
["2009-06-04",1351,null,3]
["2009-06-04",94,null,766]
["2009-06-04",530,null,120]
["2009-06-04",620,null,5.22]
["2009-06-04",89965,null,2]
["2009-06-04",89971,null,6]
["2009-06-09",940,null,101]
["2009-06-09",951,"<",0.5]
["2009-06-09",94,null,855]
["2009-06-09",480,"<",1]
["2009-06-09",620,null,7.12]
["2009-06-09",620,null,5.96]
["2009-06-09",70300,null,508]
["2009-06-09",89968,null,2]
["2009-06-09",89971,null,6]
["2009-07-01",951,"<",0.5]
["2009-07-01",400,null,9]
["2009-07-01",530,null,60]
["2009-07-01",31699,null,85]
["2009-07-01",89965,null,2]
["2009-07-14",665,null,1.84]
["2009-07-14",945,null,45]
["2009-07-14",10,null,31.2]
["2009-07-14",300,null,5.4]
["2009-07-14",530,null,43]
["2009-07-14",31699,null,130]
["2009-07-14",89965,null,2]
["2009-07-14",89968,null,2]
["2009-08-04",665,null,0.83]
["2009-08-04",951,"<",0.5]
["2009-08-04",78,null,0.18]
["2009-08-04",400,null,7.6]
["2009-08-04",610,"<",0.1]
["2009-08-04",31699,null,570]
["2009-08-04",89965,null,2]
["2009-08-04",89969,null,1]
["2009-08-05",940,null,99]
["2009-08-05",10,null,29]
["2009-08-05",400,null,8.1999999999999993]
["2009-08-05",620,null,3.51]
["2009-08-05",70300,null,405]
["2009-08-05",89969,null,1]
["2009-08-11",1351,null,5]
["2009-08-11",31704,null,4]
["2009-08-26",410,null,128]
["2009-10-14",671,null,0.57999999999999996]
["2009-10-14",945,null,12]
["2009-10-14",94,null,290]
["2009-10-14",610,"<",0.1]
["2009-10-14",70300,null,203]
["2009-10-14",70300,null,202]
["2009-10-14",70300,null,222]
["2009-10-14",72053,null,1]
["2009-10-14",72053,null,1]
["2009-10-14",72053,null,1]
["2009-10-14",72053,null,1]
["2009-10-14",89835,null,1]
["2009-10-14",89965,null,2]
["2009-10-14",89965,null,2]
["2009-10-14",89965,null,2]
["2009-10-14",89965,null,2]
["2009-10-14",89966,null,2]
["2009-10-14",89966,null,2]
["2009-10-14",89966,null,2]
["2009-10-14",89966,null,3]
["2009-10-14",89968,null,2]
["2009-10-14",89968,null,2]
["2009-10-14",89968,null,2]
["2009-10-14",89968,null,2]
["2009-10-14",89969,null,1]
["2009-10-14",89969,null,1]
["2009-10-14",89969,null,1]
["2009-10-14",89969,null,1]
["2009-10-14",89971,null,6]
["2009-10-14",89971,null,6]
["2009-10-14",89971,null,6]
["2009-10-14",89971,null,6]
["2009-10-14",31704,"<",8]
["2009-10-14",31704,"<",8]
["2009-10-14",31704,"<",8]
["2009-10-14",31704,"<",8]
["2009-10-19",665,null,1.0900000000000001]
["2009-10-19",665,null,1.1200000000000001]
["2009-10-19",665,null,1.03]
["2009-10-19",665,null,1.06]
["2009-10-19",665,null,1.1100000000000001]
["2009-10-19",671,null,0.97]
["2009-10-19",671,null,0.94]
["2009-10-19",671,null,0.88]
["2009-10-19",671,null,0.92]
["2009-10-19",671,null,0.87]
["2009-10-19",940,null,68]
["2009-10-19",940,null,67]
["2009-10-19",940,null,66]
["2009-10-19",940,null,66]
["2009-10-19",940,null,66]
["2009-10-19",945,null,29]
["2009-10-19",945,null,24]
["2009-10-19",945,null,29]
["2009-10-19",945,null,27]
["2009-10-19",945,null,30]
["2009-10-19",951,null,0.3]
["2009-10-19",951,null,0.3]
["2009-10-19",951,null,0.3]
["2009-10-19",951,null,0.3]
["2009-10-19",951,null,0.3]
["2009-10-19",1351,null,3]
["2009-10-19",1351,null,3]
["2009-10-19",1351,null,3]
["2009-10-19",1351,null,3]
["2009-10-19",1351,null,3]
["2009-10-19",10,null,20.8]
["2009-10-19",10,null,20.6]
["2009-10-19",10,null,20.8]
["2009-10-19",10,null,21.1]
["2009-10-19",10,null,21.2]
["2009-10-19",61,null,154]
["2009-10-19",78,null,0.18]
["2009-10-19",78,null,0.14000000000000001]
["2009-10-19",78,null,0.15]
["2009-10-19",78,null,0.16]
["2009-10-19",78,null,0.14000000000000001]
["2009-10-19",94,null,559]
["2009-10-19",94,null,540]
["2009-10-19",94,null,561]
["2009-10-19",94,null,544]
["2009-10-19",94,null,566]
["2009-10-19",300,null,7.6]
["2009-10-19",300,null,7.8]
["2009-10-19",300,null,7.9]
["2009-10-19",300,null,7.5]
["2009-10-19",300,null,7.9]
["2009-10-19",400,null,7.6]
["2009-10-19",400,null,7.6]
["2009-10-19",400,null,7.6]
["2009-10-19",400,null,7.6]
["2009-10-19",400,null,7.7]
["2009-10-19",530,null,37]
["2009-10-19",530,null,45]
["2009-10-19",530,null,40]
["2009-10-19",530,null,38]
["2009-10-19",530,null,33]
["2009-10-19",610,"<",0.1]
["2009-10-19",610,"<",0.1]
["2009-10-19",610,"<",0.1]
["2009-10-19",610,"<",0.1]
["2009-10-19",610,"<",0.1]
["2009-10-19",620,null,5.2]
["2009-10-19",620,null,4.7]
["2009-10-19",620,null,4.68]
["2009-10-19",620,null,4.92]
["2009-10-19",620,null,4.8099999999999996]
["2009-10-19",31699,null,270]
["2009-10-19",31699,null,1000]
["2009-10-19",31699,null,560]
["2009-10-19",31699,null,490]
["2009-10-19",31699,null,610]
["2009-10-19",82903,null,0.88]
["2009-10-19",82903,null,0.61]
["2009-10-19",82903,null,0.88]
["2009-10-19",82903,null,1.19]
["2009-10-19",82903,null,1.77]
["2009-10-19",70300,null,369]
["2009-10-19",70300,null,340]
["2009-10-19",70300,null,362]
["2009-10-19",70300,null,351]
["2009-10-19",70300,null,368]
["2009-10-19",72053,null,7]
["2009-10-19",72053,null,7]
["2009-10-19",72053,null,7]
["2009-10-19",72053,null,7]
["2009-10-19",72053,null,7]
["2009-10-19",89835,null,1]
["2009-10-19",89965,null,2]
["2009-10-19",89965,null,1]
["2009-10-19",89965,null,3]
["2009-10-19",89965,null,2]
["2009-10-19",89965,null,2]
["2009-10-19",89966,null,1]
["2009-10-19",89966,null,1]
["2009-10-19",89966,null,2]
["2009-10-19",89966,null,1]
["2009-10-19",89966,null,2]
["2009-10-19",89968,null,2]
["2009-10-19",89968,null,2]
["2009-10-19",89968,null,2]
["2009-10-19",89968,null,2]
["2009-10-19",89968,null,2]
["2009-10-19",89969,null,5]
["2009-10-19",89969,null,1]
["2009-10-19",89969,null,1]
["2009-10-19",89969,null,1]
["2009-10-19",89969,null,1]
["2009-10-19",89971,null,6]
["2009-10-19",89971,null,6]
["2009-10-19",89971,null,6]
["2009-10-19",89971,null,6]
["2009-10-19",89971,null,6]
["2009-10-19",31704,"<",8]
["2009-10-19",31704,"<",8]
["2009-10-19",31704,"<",8]
["2009-10-19",31704,"<",8]
["2009-10-19",31704,"<",8]
["2009-11-03",665,null,0.26]
["2009-11-03",665,null,0.24]
["2009-11-03",665,null,0.27]
["2009-11-03",665,null,0.3]
["2009-11-03",665,null,0.26]
["2009-11-03",940,null,10]
["2009-11-03",940,null,10]
["2009-11-03",940,null,10]
["2009-11-03",940,null,10]
["2009-11-03",940,null,10]
["2009-11-03",945,"<",5]
["2009-11-03",945,"<",5]
["2009-11-03",945,null,5]
["2009-11-03",945,null,5]
["2009-11-03",945,"<",5]
["2009-11-03",951,"<",0.2]
["2009-11-03",951,"<",0.2]
["2009-11-03",951,"<",0.2]
["2009-11-03",951,"<",0.2]
["2009-11-03",951,"<",0.2]
["2009-11-03",1351,null,5]
["2009-11-03",1351,null,5]
["2009-11-03",1351,null,5]
["2009-11-03",1351,null,5]
["2009-11-03",1351,null,5]
["2009-11-03",10,null,18.600000000000001]
["2009-11-03",10,null,18.600000000000001]
["2009-11-03",10,null,18.7]
["2009-11-03",10,null,18.8]
["2009-11-03",10,null,18.600000000000001]
["2009-11-03",78,null,0.2]
["2009-11-03",78,null,0.19]
["2009-11-03",78,null,0.17]
["2009-11-03",78,null,0.13]
["2009-11-03",78,null,0.19]
["2009-11-03",94,null,115]
["2009-11-03",94,null,111]
["2009-11-03",94,null,119]
["2009-11-03",94,null,123]
["2009-11-03",94,null,112]
["2009-11-03",300,null,7.8]
["2009-11-03",300,null,7.7]
["2009-11-03",300,null,7.9]
["2009-11-03",300,null,7.9]
["2009-11-03",300,null,7.7]
["2009-11-03",400,null,7.1]
["2009-11-03",400,null,7.1]
["2009-11-03",400,null,7.3]
["2009-11-03",400,null,6.9]
["2009-11-03",400,null,7.1]
["2009-11-03",530,null,31]
["2009-11-03",530,null,18]
["2009-11-03",530,null,46]
["2009-11-03",530,null,49]
["2009-11-03",530,null,27]
["2009-11-03",610,"<",0.1]
["2009-11-03",610,"<",0.1]
["2009-11-03",610,"<",0.1]
["2009-11-03",610,"<",0.1]
["2009-11-03",610,"<",0.1]
["2009-11-03",620,null,0.41]
["2009-11-03",620,null,0.38]
["2009-11-03",620,null,0.4]
["2009-11-03",620,null,0.42]
["2009-11-03",620,null,0.37]
["2009-11-03",31699,null,320]
["2009-11-03",31699,null,190]
["2009-11-03",31699,null,350]
["2009-11-03",31699,null,460]
["2009-11-03",31699,null,320]
["2009-11-03",82903,null,3.26]
["2009-11-03",82903,null,3.84]
["2009-11-03",82903,null,2.62]
["2009-11-03",82903,null,3.93]
["2009-11-03",82903,null,3.75]
["2009-11-03",70300,null,94]
["2009-11-03",70300,null,74]
["2009-11-03",70300,null,90]
["2009-11-03",70300,null,108]
["2009-11-03",70300,null,79]
["2009-11-03",72053,null,5]
["2009-11-03",72053,null,5]
["2009-11-03",72053,null,5]
["2009-11-03",72053,null,5]
["2009-11-03",72053,null,5]
["2009-11-03",89965,null,2]
["2009-11-03",89965,null,1]
["2009-11-03",89965,null,2]
["2009-11-03",89965,null,3]
["2009-11-03",89965,null,1]
["2009-11-03",89966,null,1]
["2009-11-03",89966,null,1]
["2009-11-03",89966,null,1]
["2009-11-03",89966,null,1]
["2009-11-03",89966,null,1]
["2009-11-03",89968,null,2]
["2009-11-03",89968,null,2]
["2009-11-03",89968,null,2]
["2009-11-03",89968,null,2]
["2009-11-03",89968,null,2]
["2009-11-03",89969,null,1]
["2009-11-03",89969,null,3]
["2009-11-03",89969,null,1]
["2009-11-03",89969,null,1]
["2009-11-03",89969,null,6]
["2009-11-03",89971,null,6]
["2009-11-03",89971,null,6]
["2009-11-03",89971,null,6]
["2009-11-03",89971,null,6]
["2009-11-03",89971,null,6]
["2009-11-03",31704,"<",8]
["2009-11-03",31704,"<",8]
["2009-11-03",31704,"<",8]
["2009-11-03",31704,"<",8]
["2009-11-03",31704,"<",8]
["2009-11-12",665,null,0.57999999999999996]
["2009-11-12",665,null,0.55000000000000004]
["2009-11-12",665,null,0.56999999999999995]
["2009-11-12",665,null,0.65]
["2009-11-12",940,null,24]
["2009-11-12",940,null,24]
["2009-11-12",940,null,23]
["2009-11-12",940,null,29]
["2009-11-12",945,null,9]
["2009-11-12",945,null,9]
["2009-11-12",945,null,8]
["2009-11-12",945,null,7]
["2009-11-12",951,"<",0.2]
["2009-11-12",951,"<",0.2]
["2009-11-12",951,"<",0.2]
["2009-11-12",951,"<",0.2]
["2009-11-12",1351,null,3]
["2009-11-12",1351,null,3]
["2009-11-12",1351,null,3]
["2009-11-12",1351,null,3]
["2009-11-12",10,null,19.399999999999999]
["2009-11-12",10,null,18.899999999999999]
["2009-11-12",10,null,18.600000000000001]
["2009-11-12",10,null,18.2]
["2009-11-12",78,null,0.24]
["2009-11-12",78,null,0.28000000000000003]
["2009-11-12",78,null,0.22]
["2009-11-12",78,null,0.12]
["2009-11-12",94,null,232]
["2009-11-12",94,null,233]
["2009-11-12",94,null,230]
["2009-11-12",94,null,257]
["2009-11-12",300,null,7.2]
["2009-11-12",300,null,7.2]
["2009-11-12",300,null,7]
["2009-11-12",300,null,7.9]
["2009-11-12",400,null,7.2]
["2009-11-12",400,null,7.2]
["2009-11-12",400,null,7]
["2009-11-12",400,null,7.4]
["2009-11-12",530,null,15]
["2009-11-12",530,null,23]
["2009-11-12",530,null,30]
["2009-11-12",530,null,75]
["2009-11-12",610,"<",0.1]
["2009-11-12",610,"<",0.1]
["2009-11-12",610,"<",0.1]
["2009-11-12",610,"<",0.1]
["2009-11-12",620,null,1.37]
["2009-11-12",620,null,1.42]
["2009-11-12",620,null,1.34]
["2009-11-12",620,null,1.36]
["2009-11-12",31699,null,84]
["2009-11-12",31699,null,91]
["2009-11-12",31699,null,110]
["2009-11-12",31699,null,320]
["2009-11-12",82903,null,1.77]
["2009-11-12",82903,null,1.95]
["2009-11-12",82903,null,2.13]
["2009-11-12",82903,null,0.73]
["2009-11-12",70300,null,178]
["2009-11-12",70300,null,186]
["2009-11-12",70300,null,174]
["2009-11-12",70300,null,202]
["2009-11-12",72053,">",7]
["2009-11-12",72053,">",7]
["2009-11-12",72053,">",7]
["2009-11-12",72053,">",7]
["2009-11-12",89965,null,2]
["2009-11-12",89965,null,2]
["2009-11-12",89965,null,1]
["2009-11-12",89965,null,2]
["2009-11-12",89966,null,1]
["2009-11-12",89966,null,1]
["2009-11-12",89966,null,1]
["2009-11-12",89966,null,1]
["2009-11-12",89968,null,2]
["2009-11-12",89968,null,2]
["2009-11-12",89968,null,2]
["2009-11-12",89968,null,2]
["2009-11-12",89969,null,1]
["2009-11-12",89969,null,1]
["2009-11-12",89969,null,1]
["2009-11-12",89969,null,1]
["2009-11-12",89971,null,6]
["2009-11-12",89971,null,6]
["2009-11-12",89971,null,6]
["2009-11-12",89971,null,6]
["2009-11-12",31704,"<",8]
["2009-11-12",31704,"<",8]
["2009-11-12",31704,"<",8]
["2009-11-12",31704,"<",8]
["2009-12-02",625,null,0.98]
["2009-12-02",625,null,1.28]
["2009-12-02",665,null,0.44]
["2009-12-02",665,null,0.49]
["2009-12-02",680,null,6]
["2009-12-02",680,null,7]
["2009-12-02",940,null,17]
["2009-12-02",940,null,13]
["2009-12-02",945,null,9]
["2009-12-02",945,null,8]
["2009-12-02",951,"<",0.25]
["2009-12-02",951,"<",0.25]
["2009-12-02",1351,null,5]
["2009-12-02",1351,null,5]
["2009-12-02",10,null,12.5]
["2009-12-02",10,null,12.5]
["2009-12-02",10,null,12.5]
["2009-12-02",10,null,11.7]
["2009-12-02",61,null,836]
["2009-12-02",78,null,0.13]
["2009-12-02",78,null,7.0000000000000007E-2]
["2009-12-02",94,null,183]
["2009-12-02",94,null,183]
["2009-12-02",94,null,184]
["2009-12-02",94,null,154]
["2009-12-02",300,null,9.5]
["2009-12-02",300,null,9.5]
["2009-12-02",300,null,9.5]
["2009-12-02",300,null,9.8000000000000007]
["2009-12-02",400,null,7.8]
["2009-12-02",400,null,7.7]
["2009-12-02",400,null,7.8]
["2009-12-02",400,null,7.6]
["2009-12-02",410,null,49]
["2009-12-02",410,null,43]
["2009-12-02",530,null,90]
["2009-12-02",530,null,114]
["2009-12-02",535,null,15]
["2009-12-02",535,null,17]
["2009-12-02",593,null,1.32]
["2009-12-02",593,null,1.04]
["2009-12-02",610,null,0.17]
["2009-12-02",610,null,0.13]
["2009-12-02",31699,null,25000]
["2009-12-02",31699,null,23000]
["2009-12-02",82903,null,3]
["2009-12-02",70300,null,124]
["2009-12-02",70300,null,109]
["2009-12-02",72053,"<",1]
["2009-12-02",72053,"<",1]
["2009-12-02",89835,null,1]
["2009-12-02",31704,null,7]
["2009-12-02",31704,null,5]
["2010-02-09",625,null,1.66]
["2010-02-09",625,null,1.63]
["2010-02-09",665,null,0.68]
["2010-02-09",665,null,0.64]
["2010-02-09",671,null,0.46]
["2010-02-09",671,null,0.37]
["2010-02-09",680,null,9]
["2010-02-09",680,null,7]
["2010-02-09",940,null,26]
["2010-02-09",940,null,30]
["2010-02-09",945,null,12]
["2010-02-09",945,null,16]
["2010-02-09",951,"<",0.25]
["2010-02-09",951,"<",0.25]
["2010-02-09",1351,null,5]
["2010-02-09",1351,null,5]
["2010-02-09",10,null,12.7]
["2010-02-09",10,null,12.7]
["2010-02-09",10,null,14.2]
["2010-02-09",61,null,578]
["2010-02-09",78,null,0.06]
["2010-02-09",78,null,0.6]
["2010-02-09",94,null,240]
["2010-02-09",94,null,240]
["2010-02-09",94,null,300]
["2010-02-09",300,null,9.6]
["2010-02-09",300,null,9.6]
["2010-02-09",300,null,8.8000000000000007]
["2010-02-09",400,null,7.6]
["2010-02-09",400,null,7.6]
["2010-02-09",400,null,7.6]
["2010-02-09",410,null,61]
["2010-02-09",410,null,76]
["2010-02-09",530,null,121]
["2010-02-09",530,null,127]
["2010-02-09",535,null,22]
["2010-02-09",535,null,22]
["2010-02-09",593,null,1.81]
["2010-02-09",593,null,2.16]
["2010-02-09",610,null,0.23]
["2010-02-09",610,null,0.22]
["2010-02-09",31699,null,4200]
["2010-02-09",31699,null,3900]
["2010-02-09",70300,null,211]
["2010-02-09",70300,null,246]
["2010-02-09",70953,null,7.46]
["2010-02-09",70953,null,7.3]
["2010-02-09",72053,"<",1]
["2010-02-09",72053,"<",1]
["2010-02-09",89835,null,1]
["2010-02-09",31704,null,6]
["2010-02-09",31704,null,5]
["2010-05-12",1351,null,2]
["2010-05-12",1351,null,2]
["2010-05-12",10,null,26]
["2010-05-12",10,null,26.4]
["2010-05-12",61,null,69]
["2010-05-12",78,null,0.34]
["2010-05-12",78,null,0.31]
["2010-05-12",94,null,890]
["2010-05-12",94,null,880]
["2010-05-12",300,null,5.9]
["2010-05-12",300,null,6.2]
["2010-05-12",400,null,7.9]
["2010-05-12",400,null,7.7]
["2010-05-12",82903,null,0.3]
["2010-05-12",82903,null,0.6]
["2010-05-12",72053,">",7]
["2010-05-12",72053,">",7]
["2010-07-28",1351,null,2]
["2010-07-28",1351,null,5]
["2010-07-28",10,null,27.7]
["2010-07-28",10,null,27.6]
["2010-07-28",61,null,78]
["2010-07-28",78,null,0.4]
["2010-07-28",78,null,0.1]
["2010-07-28",94,null,520]
["2010-07-28",94,null,330]
["2010-07-28",300,null,5.5]
["2010-07-28",300,null,5.7]
["2010-07-28",400,null,7.5]
["2010-07-28",400,null,7.5]
["2010-07-28",82903,null,0.8]
["2010-07-28",82903,null,0.3]
["2010-07-28",72053,null,1]
["2010-07-28",72053,null,1]
["2010-07-28",89835,null,1]